BEGIN:VCALENDAR
VERSION:2.0
PRODID:-//Babyflohmaerkte - ECPv6.15.20//NONSGML v1.0//EN
CALSCALE:GREGORIAN
METHOD:PUBLISH
X-ORIGINAL-URL:https://babyflohmaerkte.com
X-WR-CALDESC:Veranstaltungen für Babyflohmaerkte
REFRESH-INTERVAL;VALUE=DURATION:PT1H
X-Robots-Tag:noindex
X-PUBLISHED-TTL:PT1H
BEGIN:VTIMEZONE
TZID:Europe/Berlin
BEGIN:DAYLIGHT
TZOFFSETFROM:+0100
TZOFFSETTO:+0200
TZNAME:CEST
DTSTART:20210328T010000
END:DAYLIGHT
BEGIN:STANDARD
TZOFFSETFROM:+0200
TZOFFSETTO:+0100
TZNAME:CET
DTSTART:20211031T010000
END:STANDARD
BEGIN:DAYLIGHT
TZOFFSETFROM:+0100
TZOFFSETTO:+0200
TZNAME:CEST
DTSTART:20220327T010000
END:DAYLIGHT
BEGIN:STANDARD
TZOFFSETFROM:+0200
TZOFFSETTO:+0100
TZNAME:CET
DTSTART:20221030T010000
END:STANDARD
BEGIN:DAYLIGHT
TZOFFSETFROM:+0100
TZOFFSETTO:+0200
TZNAME:CEST
DTSTART:20230326T010000
END:DAYLIGHT
BEGIN:STANDARD
TZOFFSETFROM:+0200
TZOFFSETTO:+0100
TZNAME:CET
DTSTART:20231029T010000
END:STANDARD
BEGIN:DAYLIGHT
TZOFFSETFROM:+0100
TZOFFSETTO:+0200
TZNAME:CEST
DTSTART:20240331T010000
END:DAYLIGHT
BEGIN:STANDARD
TZOFFSETFROM:+0200
TZOFFSETTO:+0100
TZNAME:CET
DTSTART:20241027T010000
END:STANDARD
END:VTIMEZONE
BEGIN:VEVENT
DTSTART;TZID=Europe/Berlin:20230402T100000
DTEND;TZID=Europe/Berlin:20230402T140000
DTSTAMP:20260423T012957
CREATED:20230322T150345Z
LAST-MODIFIED:20230322T150347Z
UID:10005556-1680429600-1680444000@babyflohmaerkte.com
SUMMARY:DE 26434 Wangerland / Hooksiel
DESCRIPTION:Kinderkleider-Flohmarktam Sonntag\, den 2. April 2023von 10 bis 14 Uhrim Walter-Spitta-Haus\, Lange Straße 60\, DE 26434 Wangerland / Hooksiel
URL:https://babyflohmaerkte.com/termin/de-26434-wangerland-hooksiel-2
LOCATION:Walter-Spitta-Haus In Wangerland / Hooksiel\, Lange Straße 60\, Hooksiel\, 26434\, Deutschland
END:VEVENT
BEGIN:VEVENT
DTSTART;TZID=Europe/Berlin:20221002T120000
DTEND;TZID=Europe/Berlin:20221002T150000
DTSTAMP:20260423T012957
CREATED:20220913T183826Z
LAST-MODIFIED:20220913T183827Z
UID:10005391-1664712000-1664722800@babyflohmaerkte.com
SUMMARY:DE 26434 Wangerland-Hooksiel
DESCRIPTION:Kinderkleider-Flohmarkt unter freiem Himmelam Sonntag\, den 2. Oktober 2022 von 12 bis 15 Uhr(bei Regen fällt der Flohmarkt ersatzlos aus)beim Walter-Spitta-Haus\, Lange Straße 60\, DE 26434 Wangerland/HooksielVerkauf von Kleidung\, Ausstattung\, Spielsachen\, Büchern und vielem mehr \n\n\n\nEs gibt Kaffee und Kuchen
URL:https://babyflohmaerkte.com/termin/de-26434-wangerland-hooksiel
LOCATION:Walter-Spitta-Haus In Wangerland / Hooksiel\, Lange Straße 60\, Hooksiel\, 26434\, Deutschland
END:VEVENT
END:VCALENDAR