BEGIN:VCALENDAR
VERSION:2.0
PRODID:-//Babyflohmaerkte - ECPv6.15.20//NONSGML v1.0//EN
CALSCALE:GREGORIAN
METHOD:PUBLISH
X-WR-CALNAME:Babyflohmaerkte
X-ORIGINAL-URL:https://babyflohmaerkte.com
X-WR-CALDESC:Veranstaltungen für Babyflohmaerkte
REFRESH-INTERVAL;VALUE=DURATION:PT1H
X-Robots-Tag:noindex
X-PUBLISHED-TTL:PT1H
BEGIN:VTIMEZONE
TZID:Europe/Berlin
BEGIN:DAYLIGHT
TZOFFSETFROM:+0100
TZOFFSETTO:+0200
TZNAME:CEST
DTSTART:20210328T010000
END:DAYLIGHT
BEGIN:STANDARD
TZOFFSETFROM:+0200
TZOFFSETTO:+0100
TZNAME:CET
DTSTART:20211031T010000
END:STANDARD
BEGIN:DAYLIGHT
TZOFFSETFROM:+0100
TZOFFSETTO:+0200
TZNAME:CEST
DTSTART:20220327T010000
END:DAYLIGHT
BEGIN:STANDARD
TZOFFSETFROM:+0200
TZOFFSETTO:+0100
TZNAME:CET
DTSTART:20221030T010000
END:STANDARD
BEGIN:DAYLIGHT
TZOFFSETFROM:+0100
TZOFFSETTO:+0200
TZNAME:CEST
DTSTART:20230326T010000
END:DAYLIGHT
BEGIN:STANDARD
TZOFFSETFROM:+0200
TZOFFSETTO:+0100
TZNAME:CET
DTSTART:20231029T010000
END:STANDARD
BEGIN:DAYLIGHT
TZOFFSETFROM:+0100
TZOFFSETTO:+0200
TZNAME:CEST
DTSTART:20240331T010000
END:DAYLIGHT
BEGIN:STANDARD
TZOFFSETFROM:+0200
TZOFFSETTO:+0100
TZNAME:CET
DTSTART:20241027T010000
END:STANDARD
BEGIN:DAYLIGHT
TZOFFSETFROM:+0100
TZOFFSETTO:+0200
TZNAME:CEST
DTSTART:20250330T010000
END:DAYLIGHT
BEGIN:STANDARD
TZOFFSETFROM:+0200
TZOFFSETTO:+0100
TZNAME:CET
DTSTART:20251026T010000
END:STANDARD
BEGIN:DAYLIGHT
TZOFFSETFROM:+0100
TZOFFSETTO:+0200
TZNAME:CEST
DTSTART:20260329T010000
END:DAYLIGHT
BEGIN:STANDARD
TZOFFSETFROM:+0200
TZOFFSETTO:+0100
TZNAME:CET
DTSTART:20261025T010000
END:STANDARD
END:VTIMEZONE
BEGIN:VEVENT
DTSTART;TZID=Europe/Berlin:20250329T140000
DTEND;TZID=Europe/Berlin:20250329T160000
DTSTAMP:20260422T201810
CREATED:20250114T133638Z
LAST-MODIFIED:20250114T133641Z
UID:10006071-1743256800-1743264000@babyflohmaerkte.com
SUMMARY:DE 49777 Stavern
DESCRIPTION:👶 Staverner Kleider- und Spielzeugbörse\n\n\n\n📍 Wo findet die Veranstaltung statt: SV Stavern Turnraum (ehem. Modehaus Mönster)\, Sögeler Straße 11\, DE 49777 Stavern \n\n\n\n📅 Wann: Samstag\, den 29.03.2025⏰ Uhrzeit: 14:00 Uhr bis 16:00 Uhr \n\n\n\n🧸 Was wird verkauft: Kinderkleidung in den Größen 50-164\, Badekleidung\, Spielzeug aller Art\, Bücher\, Gesellschaftsspiele\, Fahrzeuge\, Fahrräder\, Babyausstattung (Kinderwagen\, Sitze etc) \n\n\n\n📢 Alle aufgeführten Kinderkleider-Flohmarkttermine sind bei uns angemeldet worden oder wir haben die Termine in verschiedenen Veröffentlichungen entdeckt. Bei allen Terminen gilt: Keine Gewähr auf tatsächliche Durchführung des Termins – kurzfristige Absagen der Veranstalter sind immer möglich und erreichen uns manchmal auch nicht. Alle Termine unter https://babyflohmaerkte.com/ – euren Kinderkleiderflohmarkt & eure Spielzeugbörse könnt ihr hier kostenlos anmelden: https://babyflohmaerkte.com/neuen-termin-anmelden \n\n\n\nSchnellanmeldung (nur Veranstaltungs-Flyer hochladen und fertig): https://babyflohmaerkte.com/schnell-anmeldung-kinderkleider-flohmarkt
URL:https://babyflohmaerkte.com/termin/de-49777-stavern-3
LOCATION:SV Stavern Turnraum (ehem. Modehaus Mönster)\, Sögeler Straße 11\, Stavern\, 49777\, Deutschland
END:VEVENT
BEGIN:VEVENT
DTSTART;TZID=Europe/Berlin:20241109T140000
DTEND;TZID=Europe/Berlin:20241109T160000
DTSTAMP:20260422T201810
CREATED:20241015T114159Z
LAST-MODIFIED:20241015T114200Z
UID:10005835-1731160800-1731168000@babyflohmaerkte.com
SUMMARY:DE 49777 Stavern
DESCRIPTION:Staverner Kleider- und Spielzeugbörseam 9. November 2024von 14-16 Uhrim SV Stavern Turnraum
URL:https://babyflohmaerkte.com/termin/de-49777-stavern-2
LOCATION:SV Stavern Turnraum (ehem. Modehaus Mönster)\, Sögeler Straße 11\, Stavern\, 49777\, Deutschland
END:VEVENT
BEGIN:VEVENT
DTSTART;TZID=Europe/Berlin:20221106T140000
DTEND;TZID=Europe/Berlin:20221106T160000
DTSTAMP:20260422T201810
CREATED:20221001T114330Z
LAST-MODIFIED:20221001T114331Z
UID:10005419-1667743200-1667750400@babyflohmaerkte.com
SUMMARY:DE 49777 Stavern
DESCRIPTION:Spielzeugbörse am Sonntag\, 6. November 2022von 14 bis 16 Uhrim SV Stavern Turnraum (ehem. Modehaus Mönster)Sögeler Straße 11\, DE 49777 Stavern
URL:https://babyflohmaerkte.com/termin/de-49777-stavern
LOCATION:SV Stavern Turnraum (ehem. Modehaus Mönster)\, Sögeler Straße 11\, Stavern\, 49777\, Deutschland
END:VEVENT
END:VCALENDAR