BEGIN:VCALENDAR
VERSION:2.0
PRODID:-//Babyflohmaerkte - ECPv6.15.20//NONSGML v1.0//EN
CALSCALE:GREGORIAN
METHOD:PUBLISH
X-ORIGINAL-URL:https://babyflohmaerkte.com
X-WR-CALDESC:Veranstaltungen für Babyflohmaerkte
REFRESH-INTERVAL;VALUE=DURATION:PT1H
X-Robots-Tag:noindex
X-PUBLISHED-TTL:PT1H
BEGIN:VTIMEZONE
TZID:Europe/Berlin
BEGIN:DAYLIGHT
TZOFFSETFROM:+0100
TZOFFSETTO:+0200
TZNAME:CEST
DTSTART:20220327T010000
END:DAYLIGHT
BEGIN:STANDARD
TZOFFSETFROM:+0200
TZOFFSETTO:+0100
TZNAME:CET
DTSTART:20221030T010000
END:STANDARD
BEGIN:DAYLIGHT
TZOFFSETFROM:+0100
TZOFFSETTO:+0200
TZNAME:CEST
DTSTART:20230326T010000
END:DAYLIGHT
BEGIN:STANDARD
TZOFFSETFROM:+0200
TZOFFSETTO:+0100
TZNAME:CET
DTSTART:20231029T010000
END:STANDARD
BEGIN:DAYLIGHT
TZOFFSETFROM:+0100
TZOFFSETTO:+0200
TZNAME:CEST
DTSTART:20240331T010000
END:DAYLIGHT
BEGIN:STANDARD
TZOFFSETFROM:+0200
TZOFFSETTO:+0100
TZNAME:CET
DTSTART:20241027T010000
END:STANDARD
BEGIN:DAYLIGHT
TZOFFSETFROM:+0100
TZOFFSETTO:+0200
TZNAME:CEST
DTSTART:20250330T010000
END:DAYLIGHT
BEGIN:STANDARD
TZOFFSETFROM:+0200
TZOFFSETTO:+0100
TZNAME:CET
DTSTART:20251026T010000
END:STANDARD
BEGIN:DAYLIGHT
TZOFFSETFROM:+0100
TZOFFSETTO:+0200
TZNAME:CEST
DTSTART:20260329T010000
END:DAYLIGHT
BEGIN:STANDARD
TZOFFSETFROM:+0200
TZOFFSETTO:+0100
TZNAME:CET
DTSTART:20261025T010000
END:STANDARD
END:VTIMEZONE
BEGIN:VEVENT
DTSTART;TZID=Europe/Berlin:20250323T130000
DTEND;TZID=Europe/Berlin:20250323T153000
DTSTAMP:20260421T193314
CREATED:20250125T180648Z
LAST-MODIFIED:20250125T180649Z
UID:10006148-1742734800-1742743800@babyflohmaerkte.com
SUMMARY:DE 26215 Gristede-Wiefelstede
DESCRIPTION:👶 Kinderflohmarkt in Gristede\n\n\n\n📍 Wo findet die Veranstaltung statt: Sporthalle Gristede\, Fehrenkampstraße 2\, DE 26215 Gristede-Wiefelstede \n\n\n\n📅 Wann: Sonntag\, den 23.03.2025⏰ Uhrzeit: 13:00 Uhr bis 15:00 Uhr \n\n\n\n🧸 Was wird verkauft: Kleidung\, Spielzeug und Ausstattung \n\n\n\n📢 Euren Kinderkleiderflohmarkt & eure Spielzeugbörse könnt ihr hier kostenlos bei uns anmelden: https://babyflohmaerkte.com/neuen-termin-anmelden \n\n\n\nAlle aufgeführten Kinderkleider-Flohmarkttermine sind bei uns angemeldet worden oder wir haben die Termine in verschiedenen Veröffentlichungen entdeckt. Bei allen Terminen gilt: Keine Gewähr auf tatsächliche Durchführung des Termins – kurzfristige Absagen der Veranstalter sind immer möglich und erreichen uns manchmal auch nicht.
URL:https://babyflohmaerkte.com/termin/de-26215-gristede-wiefelstede-2
LOCATION:Sporthalle Gristede\, Fehrenkampstraße 2\, Gristede-Wiefelstede\, 26215\, Deutschland
GEO:53.22733;8.05674
X-APPLE-STRUCTURED-LOCATION;VALUE=URI;X-ADDRESS=Sporthalle Gristede Fehrenkampstraße 2 Gristede-Wiefelstede 26215 Deutschland;X-APPLE-RADIUS=500;X-TITLE=Fehrenkampstraße 2:geo:8.05674,53.22733
END:VEVENT
BEGIN:VEVENT
DTSTART;TZID=Europe/Berlin:20241027T130000
DTEND;TZID=Europe/Berlin:20241027T153000
DTSTAMP:20260421T193314
CREATED:20241008T145241Z
LAST-MODIFIED:20241008T145242Z
UID:10005802-1730034000-1730043000@babyflohmaerkte.com
SUMMARY:DE 26215 Gristede-Wiefelstede
DESCRIPTION:Kinderflohmarkt in der Sporthalle GristedeKleidung – Spielzeug – Ausstattungam Sonntag\, 27. Oktober 2024von 13 bis 15:30 Uhrin der Sporthalle GristedeKaffee – Kuchen – Bratwurst
URL:https://babyflohmaerkte.com/termin/de-26215-gristede-wiefelstede
LOCATION:Sporthalle Gristede\, Fehrenkampstraße 2\, Gristede-Wiefelstede\, 26215\, Deutschland
GEO:53.22733;8.05674
X-APPLE-STRUCTURED-LOCATION;VALUE=URI;X-ADDRESS=Sporthalle Gristede Fehrenkampstraße 2 Gristede-Wiefelstede 26215 Deutschland;X-APPLE-RADIUS=500;X-TITLE=Fehrenkampstraße 2:geo:8.05674,53.22733
END:VEVENT
BEGIN:VEVENT
DTSTART;TZID=Europe/Berlin:20230423T130000
DTEND;TZID=Europe/Berlin:20230423T153000
DTSTAMP:20260421T193314
CREATED:20230313T175838Z
LAST-MODIFIED:20230313T175840Z
UID:10005553-1682254800-1682263800@babyflohmaerkte.com
SUMMARY:DE 26215 Gristede
DESCRIPTION:Kinderflohmarkt am Sonntag\, 23. April 2023von 13 bis 15:30 Uhrin der Sporthalle GristedeEs gibt Bratwurst und Kuchen
URL:https://babyflohmaerkte.com/termin/de-26215-gristede-2
LOCATION:Sporthalle Gristede\, Fehrenkampstraße 2\, Gristede-Wiefelstede\, 26215\, Deutschland
GEO:53.22733;8.05674
X-APPLE-STRUCTURED-LOCATION;VALUE=URI;X-ADDRESS=Sporthalle Gristede Fehrenkampstraße 2 Gristede-Wiefelstede 26215 Deutschland;X-APPLE-RADIUS=500;X-TITLE=Fehrenkampstraße 2:geo:8.05674,53.22733
END:VEVENT
END:VCALENDAR