BEGIN:VCALENDAR
VERSION:2.0
PRODID:-//Babyflohmaerkte - ECPv6.15.20//NONSGML v1.0//EN
CALSCALE:GREGORIAN
METHOD:PUBLISH
X-WR-CALNAME:Babyflohmaerkte
X-ORIGINAL-URL:https://babyflohmaerkte.com
X-WR-CALDESC:Veranstaltungen für Babyflohmaerkte
REFRESH-INTERVAL;VALUE=DURATION:PT1H
X-Robots-Tag:noindex
X-PUBLISHED-TTL:PT1H
BEGIN:VTIMEZONE
TZID:Europe/Berlin
BEGIN:DAYLIGHT
TZOFFSETFROM:+0100
TZOFFSETTO:+0200
TZNAME:CEST
DTSTART:20240331T010000
END:DAYLIGHT
BEGIN:STANDARD
TZOFFSETFROM:+0200
TZOFFSETTO:+0100
TZNAME:CET
DTSTART:20241027T010000
END:STANDARD
BEGIN:DAYLIGHT
TZOFFSETFROM:+0100
TZOFFSETTO:+0200
TZNAME:CEST
DTSTART:20250330T010000
END:DAYLIGHT
BEGIN:STANDARD
TZOFFSETFROM:+0200
TZOFFSETTO:+0100
TZNAME:CET
DTSTART:20251026T010000
END:STANDARD
BEGIN:DAYLIGHT
TZOFFSETFROM:+0100
TZOFFSETTO:+0200
TZNAME:CEST
DTSTART:20260329T010000
END:DAYLIGHT
BEGIN:STANDARD
TZOFFSETFROM:+0200
TZOFFSETTO:+0100
TZNAME:CET
DTSTART:20261025T010000
END:STANDARD
BEGIN:DAYLIGHT
TZOFFSETFROM:+0100
TZOFFSETTO:+0200
TZNAME:CEST
DTSTART:20270328T010000
END:DAYLIGHT
BEGIN:STANDARD
TZOFFSETFROM:+0200
TZOFFSETTO:+0100
TZNAME:CET
DTSTART:20271031T010000
END:STANDARD
END:VTIMEZONE
BEGIN:VEVENT
DTSTART;TZID=Europe/Berlin:20260315T080000
DTEND;TZID=Europe/Berlin:20260315T170000
DTSTAMP:20260422T214314
CREATED:20260207T143813Z
LAST-MODIFIED:20260207T143815Z
UID:10006378-1773561600-1773594000@babyflohmaerkte.com
SUMMARY:DE 26655 Westerstede-Ocholt
DESCRIPTION:👶 Kinder-Kleiderflohmarkt in Ocholt\n\n\n\n📍 Wo findet die Veranstaltung statt: Sporthalle der Grundschule Ocholt\, Schulstraße 3\, DE 26655 Westerstede-Ocholt \n\n\n\n📅 Wann: Sonntag\, den 15.03.2026⏰ Uhrzeit: 10:00 Uhr bis 12:30 Uhr \n\n\n\n🧸 Was wird verkauft: Kinderkleider-Flohmarkt🍰 Leibliches Wohl: Kaffee + Kuchenbuffet mit großer Auswahl (auch zum Mitnehmen) \n\n\n\n👉 Facebook-Seite: https://www.facebook.com/MiniMamiClub \n\n\n\n📢 Euren Kinderkleiderflohmarkt & eure Spielzeugbörse könnt ihr hier kostenlos bei uns anmelden: https://babyflohmaerkte.com/neuen-termin-anmelden \n\n\n\nAlle aufgeführten Kinderkleider-Flohmarkttermine sind bei uns angemeldet worden oder wir haben die Termine in verschiedenen Veröffentlichungen entdeckt. Bei allen Terminen gilt: Keine Gewähr auf tatsächliche Durchführung des Termins – kurzfristige Absagen der Veranstalter sind immer möglich und erreichen uns manchmal auch nicht.
URL:https://babyflohmaerkte.com/termin/de-26655-westerstede-ocholt-2
LOCATION:Sporthalle der Ocholter Grundschule\, Schulstraße 3\, Westerstede-Ocholt\, 26655\, Deutschland
GEO:53.19984;7.88516
X-APPLE-STRUCTURED-LOCATION;VALUE=URI;X-ADDRESS=Sporthalle der Ocholter Grundschule Schulstraße 3 Westerstede-Ocholt 26655 Deutschland;X-APPLE-RADIUS=500;X-TITLE=Schulstraße 3:geo:7.88516,53.19984
END:VEVENT
BEGIN:VEVENT
DTSTART;TZID=Europe/Berlin:20250316T100000
DTEND;TZID=Europe/Berlin:20250316T123000
DTSTAMP:20260422T214314
CREATED:20250112T164319Z
LAST-MODIFIED:20250112T164411Z
UID:10006064-1742119200-1742128200@babyflohmaerkte.com
SUMMARY:DE 26655 Westerstede-Ocholt
DESCRIPTION:👶 Ocholter Kinder & Teenager Flohmarkt\n\n\n\n📍 Wo findet die Veranstaltung statt: Sporthalle der Ocholter Grundschule\, Schulstraße 3\, DE 26655 Westerstede-Ocholt \n\n\n\n📅 Wann: Sonntag\, den 16.03.2025⏰ Uhrzeit: 10:00 Uhr bis 12:30 Uhr \n\n\n\n🧸 Was wird verkauft: Kleidung für Kinder & Teenager\, Spielzeug🍰 Leibliches Wohl: Kaffee & Kuchenbuffet mit großer Auswahl (gerne auch zum Mitnehmen) \n\n\n\n👉 Facebook-Seite: https://www.facebook.com/MiniMamiClub \n\n\n\n\n\n\n\n \n\n\n\n📢 Alle aufgeführten Kinderkleider-Flohmarkttermine sind bei uns angemeldet worden oder wir haben die Termine in verschiedenen Veröffentlichungen entdeckt. Bei allen Terminen gilt: Keine Gewähr auf tatsächliche Durchführung des Termins – kurzfristige Absagen der Veranstalter sind immer möglich und erreichen uns manchmal auch nicht. Alle Termine unter https://babyflohmaerkte.com/ – euren Kinderkleiderflohmarkt & eure Spielzeugbörse könnt ihr hier kostenlos anmelden: https://babyflohmaerkte.com/neuen-termin-anmelden \n\n\n\nSchnellanmeldung (nur Veranstaltungs-Flyer hochladen und fertig): https://babyflohmaerkte.com/schnell-anmeldung-kinderkleider-flohmarkt
URL:https://babyflohmaerkte.com/termin/de-26655-westerstede-ocholt
LOCATION:Sporthalle der Ocholter Grundschule\, Schulstraße 3\, Westerstede-Ocholt\, 26655\, Deutschland
GEO:53.19984;7.88516
X-APPLE-STRUCTURED-LOCATION;VALUE=URI;X-ADDRESS=Sporthalle der Ocholter Grundschule Schulstraße 3 Westerstede-Ocholt 26655 Deutschland;X-APPLE-RADIUS=500;X-TITLE=Schulstraße 3:geo:7.88516,53.19984
END:VEVENT
END:VCALENDAR