BEGIN:VCALENDAR
VERSION:2.0
PRODID:-//Babyflohmaerkte - ECPv6.15.20//NONSGML v1.0//EN
CALSCALE:GREGORIAN
METHOD:PUBLISH
X-ORIGINAL-URL:https://babyflohmaerkte.com
X-WR-CALDESC:Veranstaltungen für Babyflohmaerkte
REFRESH-INTERVAL;VALUE=DURATION:PT1H
X-Robots-Tag:noindex
X-PUBLISHED-TTL:PT1H
BEGIN:VTIMEZONE
TZID:Europe/Berlin
BEGIN:DAYLIGHT
TZOFFSETFROM:+0100
TZOFFSETTO:+0200
TZNAME:CEST
DTSTART:20210328T010000
END:DAYLIGHT
BEGIN:STANDARD
TZOFFSETFROM:+0200
TZOFFSETTO:+0100
TZNAME:CET
DTSTART:20211031T010000
END:STANDARD
BEGIN:DAYLIGHT
TZOFFSETFROM:+0100
TZOFFSETTO:+0200
TZNAME:CEST
DTSTART:20220327T010000
END:DAYLIGHT
BEGIN:STANDARD
TZOFFSETFROM:+0200
TZOFFSETTO:+0100
TZNAME:CET
DTSTART:20221030T010000
END:STANDARD
BEGIN:DAYLIGHT
TZOFFSETFROM:+0100
TZOFFSETTO:+0200
TZNAME:CEST
DTSTART:20230326T010000
END:DAYLIGHT
BEGIN:STANDARD
TZOFFSETFROM:+0200
TZOFFSETTO:+0100
TZNAME:CET
DTSTART:20231029T010000
END:STANDARD
BEGIN:DAYLIGHT
TZOFFSETFROM:+0100
TZOFFSETTO:+0200
TZNAME:CEST
DTSTART:20240331T010000
END:DAYLIGHT
BEGIN:STANDARD
TZOFFSETFROM:+0200
TZOFFSETTO:+0100
TZNAME:CET
DTSTART:20241027T010000
END:STANDARD
END:VTIMEZONE
BEGIN:VEVENT
DTSTART;TZID=Europe/Berlin:20231029T100000
DTEND;TZID=Europe/Berlin:20231029T150000
DTSTAMP:20260422T162510
CREATED:20230226T164450Z
LAST-MODIFIED:20230226T165022Z
UID:10005492-1698573600-1698591600@babyflohmaerkte.com
SUMMARY:DE 30657 Hannover
DESCRIPTION:Der älteste und schönste Kinderbasar in Hannover geht in die nächste Runde.Wir erwarten euch mit vielen Leckereien und Getränken\, unser herrlicher Außenbereich steht mit ausreichend Sitzplätzen zum Verweilen und Pausieren zur Verfügung.Während der Basarzeit sorgen wir für Sauberkeit in den öffentlichen WC-Anlagen am Spielplatz.Eine evtl. erforderliche Absage wegen Regens o.Ä. wird auf unserer Facebook Seite (und zwar nur dort!) am Vortag gegen Mittag bekanntgegeben. Verbindlicher Ausweichtermin ist immer eine Woche nach dem ursprünglichen Termin.Hier die Termine 2023\, Anmeldungen sind ab sofort möglich:12.03. / 16.04. / 07.05. / 04.06. / 25.06. / 06.08. / 03.09. / 17.09. / 01.10. / 29.10.Tischanmeldungen bitte wie immer unter:waldsonne@mail.deEuer Waldsonne Team
URL:https://babyflohmaerkte.com/termin/5818
LOCATION:Sonnenspielplatz Eilenriede\, Hohenzollernstraße 18a\, Hannover\, 30657\, Deutschland
END:VEVENT
BEGIN:VEVENT
DTSTART;TZID=Europe/Berlin:20231001T100000
DTEND;TZID=Europe/Berlin:20231001T153000
DTSTAMP:20260422T162510
CREATED:20221015T064449Z
LAST-MODIFIED:20221015T064449Z
UID:10005434-1696154400-1696174200@babyflohmaerkte.com
SUMMARY:DE 30161 Hannover
DESCRIPTION:Kinderbasar auf dem Sonnenspielplatz Eilenriede Hannover\, Hohenzollernstraße 18a\, DE 30161 HannoverAktuelle Infos auf der Facebook-Seite: https://www.facebook.com/profile.php?id=100063575863327Alle Termine für 2023 nachfolgend in der Übersicht\, eine evtl. erforderliche Absage wegen Regens o.Ä. wird auf unserer Facebook Seite am Vortag bekanntgegeben. In Klammern befinden sich Ausweichtermine\, falls mal wegen Regen verschoben werden muss. \n\n\n\n12.03. (19.03.)16.04. (23.04.)07.05. (14.05.)04.06. (11.06.)25.06. (02.07.)03.09. (10.09.)17.09. (24.09.)01.10. (08.10.) \n\n\n\nTischanmeldungen bitte wie immer unter: waldsonne@mail.de
URL:https://babyflohmaerkte.com/termin/de-30161-hannover-7
LOCATION:Sonnenspielplatz Eilenriede\, Hohenzollernstraße 18a\, Hannover\, 30657\, Deutschland
END:VEVENT
BEGIN:VEVENT
DTSTART;TZID=Europe/Berlin:20230917T100000
DTEND;TZID=Europe/Berlin:20230917T153000
DTSTAMP:20260422T162510
CREATED:20221015T064843Z
LAST-MODIFIED:20221015T064844Z
UID:10005435-1694944800-1694964600@babyflohmaerkte.com
SUMMARY:DE 30161 Hannover
DESCRIPTION:Kinderbasar auf dem Sonnenspielplatz Eilenriede Hannover\, Hohenzollernstraße 18a\, DE 30161 HannoverAktuelle Infos auf der Facebook-Seite: https://www.facebook.com/profile.php?id=100063575863327Alle Termine für 2023 nachfolgend in der Übersicht\, eine evtl. erforderliche Absage wegen Regens o.Ä. wird auf unserer Facebook Seite am Vortag bekanntgegeben. In Klammern befinden sich Ausweichtermine\, falls mal wegen Regen verschoben werden muss. \n\n\n\n12.03. (19.03.)16.04. (23.04.)07.05. (14.05.)04.06. (11.06.)25.06. (02.07.)03.09. (10.09.)17.09. (24.09.)01.10. (08.10.) \n\n\n\nTischanmeldungen bitte wie immer unter: waldsonne@mail.de
URL:https://babyflohmaerkte.com/termin/de-30161-hannover-8
LOCATION:Sonnenspielplatz Eilenriede\, Hohenzollernstraße 18a\, Hannover\, 30657\, Deutschland
END:VEVENT
BEGIN:VEVENT
DTSTART;TZID=Europe/Berlin:20230903T100000
DTEND;TZID=Europe/Berlin:20230903T153000
DTSTAMP:20260422T162510
CREATED:20221015T064400Z
LAST-MODIFIED:20221015T064400Z
UID:10005433-1693735200-1693755000@babyflohmaerkte.com
SUMMARY:DE 30161 Hannover
DESCRIPTION:Kinderbasar auf dem Sonnenspielplatz Eilenriede Hannover\, Hohenzollernstraße 18a\, DE 30161 HannoverAktuelle Infos auf der Facebook-Seite: https://www.facebook.com/profile.php?id=100063575863327Alle Termine für 2023 nachfolgend in der Übersicht\, eine evtl. erforderliche Absage wegen Regens o.Ä. wird auf unserer Facebook Seite am Vortag bekanntgegeben. In Klammern befinden sich Ausweichtermine\, falls mal wegen Regen verschoben werden muss. \n\n\n\n12.03. (19.03.)16.04. (23.04.)07.05. (14.05.)04.06. (11.06.)25.06. (02.07.)03.09. (10.09.)17.09. (24.09.)01.10. (08.10.) \n\n\n\nTischanmeldungen bitte wie immer unter: waldsonne@mail.de
URL:https://babyflohmaerkte.com/termin/de-30161-hannover-6
LOCATION:Sonnenspielplatz Eilenriede\, Hohenzollernstraße 18a\, Hannover\, 30657\, Deutschland
END:VEVENT
BEGIN:VEVENT
DTSTART;TZID=Europe/Berlin:20230806T100000
DTEND;TZID=Europe/Berlin:20230806T150000
DTSTAMP:20260422T162510
CREATED:20230226T164401Z
LAST-MODIFIED:20230226T164406Z
UID:10005491-1691316000-1691334000@babyflohmaerkte.com
SUMMARY:DE 30161 Hannover
DESCRIPTION:Der älteste und schönste Kinderbasar in Hannover geht in die nächste Runde.Wir erwarten euch mit vielen Leckereien und Getränken\, unser herrlicher Außenbereich steht mit ausreichend Sitzplätzen zum Verweilen und Pausieren zur Verfügung.Während der Basarzeit sorgen wir für Sauberkeit in den öffentlichen WC-Anlagen am Spielplatz.Eine evtl. erforderliche Absage wegen Regens o.Ä. wird auf unserer Facebook Seite (und zwar nur dort!) am Vortag gegen Mittag bekanntgegeben. Verbindlicher Ausweichtermin ist immer eine Woche nach dem ursprünglichen Termin.Hier die Termine 2023\, Anmeldungen sind ab sofort möglich:12.03. / 16.04. / 07.05. / 04.06. / 25.06. / 06.08. / 03.09. / 17.09. / 01.10. / 29.10.Tischanmeldungen bitte wie immer unter:waldsonne@mail.deEuer Waldsonne Team
URL:https://babyflohmaerkte.com/termin/de-30161-hannover-12
LOCATION:Sonnenspielplatz Eilenriede\, Hohenzollernstraße 18a\, Hannover\, 30657\, Deutschland
END:VEVENT
BEGIN:VEVENT
DTSTART;TZID=Europe/Berlin:20230625T100000
DTEND;TZID=Europe/Berlin:20230625T153000
DTSTAMP:20260422T162510
CREATED:20221015T064236Z
LAST-MODIFIED:20221015T064236Z
UID:10005432-1687687200-1687707000@babyflohmaerkte.com
SUMMARY:DE 30161 Hannover
DESCRIPTION:Kinderbasar auf dem Sonnenspielplatz Eilenriede Hannover\, Hohenzollernstraße 18a\, DE 30161 HannoverAktuelle Infos auf der Facebook-Seite: https://www.facebook.com/profile.php?id=100063575863327Alle Termine für 2023 nachfolgend in der Übersicht\, eine evtl. erforderliche Absage wegen Regens o.Ä. wird auf unserer Facebook Seite am Vortag bekanntgegeben. In Klammern befinden sich Ausweichtermine\, falls mal wegen Regen verschoben werden muss. \n\n\n\n12.03. (19.03.)16.04. (23.04.)07.05. (14.05.)04.06. (11.06.)25.06. (02.07.)03.09. (10.09.)17.09. (24.09.)01.10. (08.10.) \n\n\n\nTischanmeldungen bitte wie immer unter: waldsonne@mail.de
URL:https://babyflohmaerkte.com/termin/de-30161-hannover-5
LOCATION:Sonnenspielplatz Eilenriede\, Hohenzollernstraße 18a\, Hannover\, 30657\, Deutschland
END:VEVENT
BEGIN:VEVENT
DTSTART;TZID=Europe/Berlin:20230604T100000
DTEND;TZID=Europe/Berlin:20230604T153000
DTSTAMP:20260422T162510
CREATED:20221015T063501Z
LAST-MODIFIED:20221015T063656Z
UID:10005430-1685872800-1685892600@babyflohmaerkte.com
SUMMARY:DE 30161 Hannover
DESCRIPTION:Kinderbasar auf dem Sonnenspielplatz Eilenriede Hannover\, Hohenzollernstraße 18a\, DE 30161 HannoverAktuelle Infos auf der Facebook-Seite: https://www.facebook.com/profile.php?id=100063575863327Alle Termine für 2023 nachfolgend in der Übersicht\, eine evtl. erforderliche Absage wegen Regens o.Ä. wird auf unserer Facebook Seite am Vortag bekanntgegeben. In Klammern befinden sich Ausweichtermine\, falls mal wegen Regen verschoben werden muss. \n\n\n\n12.03. (19.03.)16.04. (23.04.)07.05. (14.05.)04.06. (11.06.)25.06. (02.07.)03.09. (10.09.)17.09. (24.09.)01.10. (08.10.) \n\n\n\nTischanmeldungen bitte wie immer unter: waldsonne@mail.de
URL:https://babyflohmaerkte.com/termin/de-30161-hannover-3
LOCATION:Sonnenspielplatz Eilenriede\, Hohenzollernstraße 18a\, Hannover\, 30657\, Deutschland
END:VEVENT
BEGIN:VEVENT
DTSTART;TZID=Europe/Berlin:20230507T100000
DTEND;TZID=Europe/Berlin:20230507T153000
DTSTAMP:20260422T162510
CREATED:20221015T063357Z
LAST-MODIFIED:20221015T064040Z
UID:10005429-1683453600-1683473400@babyflohmaerkte.com
SUMMARY:DE 30161 Hannover
DESCRIPTION:Kinderbasar auf dem Sonnenspielplatz Eilenriede Hannover\, Hohenzollernstraße 18a\, DE 30161 HannoverAktuelle Infos auf der Facebook-Seite: https://www.facebook.com/profile.php?id=100063575863327Alle Termine für 2023 nachfolgend in der Übersicht\, eine evtl. erforderliche Absage wegen Regens o.Ä. wird auf unserer Facebook Seite am Vortag bekanntgegeben. In Klammern befinden sich Ausweichtermine\, falls mal wegen Regen verschoben werden muss. \n\n\n\n12.03. (19.03.)16.04. (23.04.)07.05. (14.05.)04.06. (11.06.)25.06. (02.07.)03.09. (10.09.)17.09. (24.09.)01.10. (08.10.) \n\n\n\nTischanmeldungen bitte wie immer unter: waldsonne@mail.de
URL:https://babyflohmaerkte.com/termin/de-30161
LOCATION:Sonnenspielplatz Eilenriede\, Hohenzollernstraße 18a\, Hannover\, 30657\, Deutschland
END:VEVENT
BEGIN:VEVENT
DTSTART;TZID=Europe/Berlin:20230416T100000
DTEND;TZID=Europe/Berlin:20230416T153000
DTSTAMP:20260422T162510
CREATED:20221015T063209Z
LAST-MODIFIED:20221015T063907Z
UID:10005428-1681639200-1681659000@babyflohmaerkte.com
SUMMARY:DE 30161 Hannover
DESCRIPTION:Kinderbasar auf dem Sonnenspielplatz Eilenriede Hannover\, Hohenzollernstraße 18a\, DE 30161 HannoverAktuelle Infos auf der Facebook-Seite: https://www.facebook.com/profile.php?id=100063575863327Alle Termine für 2023 nachfolgend in der Übersicht\, eine evtl. erforderliche Absage wegen Regens o.Ä. wird auf unserer Facebook Seite am Vortag bekanntgegeben. In Klammern befinden sich Ausweichtermine\, falls mal wegen Regen verschoben werden muss. \n\n\n\n12.03. (19.03.)16.04. (23.04.)07.05. (14.05.)04.06. (11.06.)25.06. (02.07.)03.09. (10.09.)17.09. (24.09.)01.10. (08.10.) \n\n\n\nTischanmeldungen bitte wie immer unter: waldsonne@mail.de
URL:https://babyflohmaerkte.com/termin/de-30161-hannover-2
LOCATION:Sonnenspielplatz Eilenriede\, Hohenzollernstraße 18a\, Hannover\, 30657\, Deutschland
END:VEVENT
BEGIN:VEVENT
DTSTART;TZID=Europe/Berlin:20230312T100000
DTEND;TZID=Europe/Berlin:20230312T153000
DTSTAMP:20260422T162510
CREATED:20221015T063051Z
LAST-MODIFIED:20221015T063834Z
UID:10005427-1678615200-1678635000@babyflohmaerkte.com
SUMMARY:DE 30161 Hannover
DESCRIPTION:Kinderbasar auf dem Sonnenspielplatz Eilenriede Hannover\, Hohenzollernstraße 18a\, DE 30161 HannoverAktuelle Infos auf der Facebook-Seite: https://www.facebook.com/profile.php?id=100063575863327Alle Termine für 2023 nachfolgend in der Übersicht\, eine evtl. erforderliche Absage wegen Regens o.Ä. wird auf unserer Facebook Seite am Vortag bekanntgegeben. In Klammern befinden sich Ausweichtermine\, falls mal wegen Regen verschoben werden muss. \n\n\n\n12.03. (19.03.)16.04. (23.04.)07.05. (14.05.)04.06. (11.06.)25.06. (02.07.)03.09. (10.09.)17.09. (24.09.)01.10. (08.10.) \n\n\n\nTischanmeldungen bitte wie immer unter: waldsonne@mail.de
URL:https://babyflohmaerkte.com/termin/de-30161-hannover
LOCATION:Sonnenspielplatz Eilenriede\, Hohenzollernstraße 18a\, Hannover\, 30657\, Deutschland
END:VEVENT
BEGIN:VEVENT
DTSTART;TZID=Europe/Berlin:20221030T100000
DTEND;TZID=Europe/Berlin:20221030T150000
DTSTAMP:20260422T162510
CREATED:20221018T033916Z
LAST-MODIFIED:20221018T033917Z
UID:10005442-1667124000-1667142000@babyflohmaerkte.com
SUMMARY:DE 30161 Hannover
DESCRIPTION:Der älteste und schönste Kinderbasar in Hannover geht doch nochmal in eine Zusatzrunde.Wir erwarten euch mit vielen Leckereien und Getränken\, auch unser herrlicher Außenbereich steht wieder zum Verweilen und Pausieren zur Verfügung.Eine evtl. erforderliche Absage wegen Regens o.Ä. wird auf unserer Facebook Seite am Vortag bekanntgegeben. \n\n\n\nLink: https://www.facebook.com/events/2361236684039979/
URL:https://babyflohmaerkte.com/termin/de-30161-hannover-9
LOCATION:Sonnenspielplatz Eilenriede\, Hohenzollernstraße 18a\, Hannover\, 30657\, Deutschland
END:VEVENT
END:VCALENDAR