BEGIN:VCALENDAR
VERSION:2.0
PRODID:-//Babyflohmaerkte - ECPv6.15.20//NONSGML v1.0//EN
CALSCALE:GREGORIAN
METHOD:PUBLISH
X-WR-CALNAME:Babyflohmaerkte
X-ORIGINAL-URL:https://babyflohmaerkte.com
X-WR-CALDESC:Veranstaltungen für Babyflohmaerkte
REFRESH-INTERVAL;VALUE=DURATION:PT1H
X-Robots-Tag:noindex
X-PUBLISHED-TTL:PT1H
BEGIN:VTIMEZONE
TZID:Europe/Berlin
BEGIN:DAYLIGHT
TZOFFSETFROM:+0100
TZOFFSETTO:+0200
TZNAME:CEST
DTSTART:20210328T010000
END:DAYLIGHT
BEGIN:STANDARD
TZOFFSETFROM:+0200
TZOFFSETTO:+0100
TZNAME:CET
DTSTART:20211031T010000
END:STANDARD
BEGIN:DAYLIGHT
TZOFFSETFROM:+0100
TZOFFSETTO:+0200
TZNAME:CEST
DTSTART:20220327T010000
END:DAYLIGHT
BEGIN:STANDARD
TZOFFSETFROM:+0200
TZOFFSETTO:+0100
TZNAME:CET
DTSTART:20221030T010000
END:STANDARD
BEGIN:DAYLIGHT
TZOFFSETFROM:+0100
TZOFFSETTO:+0200
TZNAME:CEST
DTSTART:20230326T010000
END:DAYLIGHT
BEGIN:STANDARD
TZOFFSETFROM:+0200
TZOFFSETTO:+0100
TZNAME:CET
DTSTART:20231029T010000
END:STANDARD
BEGIN:DAYLIGHT
TZOFFSETFROM:+0100
TZOFFSETTO:+0200
TZNAME:CEST
DTSTART:20240331T010000
END:DAYLIGHT
BEGIN:STANDARD
TZOFFSETFROM:+0200
TZOFFSETTO:+0100
TZNAME:CET
DTSTART:20241027T010000
END:STANDARD
BEGIN:DAYLIGHT
TZOFFSETFROM:+0100
TZOFFSETTO:+0200
TZNAME:CEST
DTSTART:20250330T010000
END:DAYLIGHT
BEGIN:STANDARD
TZOFFSETFROM:+0200
TZOFFSETTO:+0100
TZNAME:CET
DTSTART:20251026T010000
END:STANDARD
BEGIN:DAYLIGHT
TZOFFSETFROM:+0100
TZOFFSETTO:+0200
TZNAME:CEST
DTSTART:20260329T010000
END:DAYLIGHT
BEGIN:STANDARD
TZOFFSETFROM:+0200
TZOFFSETTO:+0100
TZNAME:CET
DTSTART:20261025T010000
END:STANDARD
END:VTIMEZONE
BEGIN:VEVENT
DTSTART;TZID=Europe/Berlin:20250309T130000
DTEND;TZID=Europe/Berlin:20250309T150000
DTSTAMP:20260421T174321
CREATED:20250201T114712Z
LAST-MODIFIED:20250201T114715Z
UID:10006166-1741525200-1741532400@babyflohmaerkte.com
SUMMARY:DE 49661 Cloppenburg-Emstekerfeld
DESCRIPTION:👶 Kindersachenflohmarkt in Emstekerfeld\n\n\n\n📍 Wo findet die Veranstaltung statt: Pfarrheim St. Bernhard\, Lindenallee 6\, DE 49661 Cloppenburg-Emstekerfeld \n\n\n\n📅 Wann: Sonntag\, den 09.03.2025⏰ Uhrzeit: 13:00 Uhr bis 15:00 Uhr \n\n\n\n🧸 Was wird verkauft: Baby- und Kinderkleidung\, Spielzeug\, Bücher und vieles mehr🍰 Leibliches Wohl: Kaffee & Kuchen (auch zum Mitnehmen) \n\n\n\nℹ️ Weitere Informationen zur Veranstaltung: Kindergartenspielplatz ist geöffnet\, der Erlös geht an die Kita St. Bernhard \n\n\n\n📢 Euren Kinderkleiderflohmarkt & eure Spielzeugbörse könnt ihr hier kostenlos bei uns anmelden: https://babyflohmaerkte.com/neuen-termin-anmelden \n\n\n\nAlle aufgeführten Kinderkleider-Flohmarkttermine sind bei uns angemeldet worden oder wir haben die Termine in verschiedenen Veröffentlichungen entdeckt. Bei allen Terminen gilt: Keine Gewähr auf tatsächliche Durchführung des Termins – kurzfristige Absagen der Veranstalter sind immer möglich und erreichen uns manchmal auch nicht.
URL:https://babyflohmaerkte.com/termin/de-49661-cloppenburg-emstekerfeld-5
LOCATION:Pfarrheim St. Bernhard Cloppenburg-Emstekerfeld\, Lindenallee 6\, Cloppenburg-Emstekerfeld\, 49661\, Deutschland
GEO:52.8399156;8.0817293
X-APPLE-STRUCTURED-LOCATION;VALUE=URI;X-ADDRESS=Pfarrheim St. Bernhard Cloppenburg-Emstekerfeld Lindenallee 6 Cloppenburg-Emstekerfeld 49661 Deutschland;X-APPLE-RADIUS=500;X-TITLE=Lindenallee 6:geo:8.0817293,52.8399156
END:VEVENT
BEGIN:VEVENT
DTSTART;TZID=Europe/Berlin:20241027T130000
DTEND;TZID=Europe/Berlin:20241027T150000
DTSTAMP:20260421T174321
CREATED:20241003T134546Z
LAST-MODIFIED:20241003T134548Z
UID:10005763-1730034000-1730041200@babyflohmaerkte.com
SUMMARY:DE 49661 Cloppenburg-Emstekerfeld
DESCRIPTION:Kindersachen-Flohmarktin Cloppenburg-Emstekerfeldam Sonntag\, den 27. Oktober 2024von 13 bis 15 Uhrim Pfarrheim St. BernhardEs gibt Kaffee & Kuchen (auch zum Mitnehmen)
URL:https://babyflohmaerkte.com/termin/de-49661-cloppenburg-emstekerfeld-4
LOCATION:Pfarrheim St. Bernhard Cloppenburg-Emstekerfeld\, Lindenallee 6\, Cloppenburg-Emstekerfeld\, 49661\, Deutschland
GEO:52.8399156;8.0817293
X-APPLE-STRUCTURED-LOCATION;VALUE=URI;X-ADDRESS=Pfarrheim St. Bernhard Cloppenburg-Emstekerfeld Lindenallee 6 Cloppenburg-Emstekerfeld 49661 Deutschland;X-APPLE-RADIUS=500;X-TITLE=Lindenallee 6:geo:8.0817293,52.8399156
END:VEVENT
BEGIN:VEVENT
DTSTART;TZID=Europe/Berlin:20231008T130000
DTEND;TZID=Europe/Berlin:20231008T150000
DTSTAMP:20260421T174321
CREATED:20231003T133815Z
LAST-MODIFIED:20231003T133817Z
UID:10005623-1696770000-1696777200@babyflohmaerkte.com
SUMMARY:DE 49661 Cloppenburg-Emstekerfeld
DESCRIPTION:Kindersachen-Flohmarkt in Cloppenburg-Emstekerfeldam Sonntag\, 8. Oktober 2023von 13 bis 15 Uhr.Verkauft werden Baby- und Kinderkleidung\, Spielzeug\, Bücher und vieles mehr \n\n\n\nEs gibt Kaffee & Kuchen\, auch zum Mitnehmen \n\n\n\nDer Kindergartenspielplatz ist geöffnet!
URL:https://babyflohmaerkte.com/termin/de-49661-cloppenburg-emstekerfeld-3
LOCATION:Pfarrheim St. Bernhard Cloppenburg-Emstekerfeld\, Lindenallee 6\, Cloppenburg-Emstekerfeld\, 49661\, Deutschland
GEO:52.8399156;8.0817293
X-APPLE-STRUCTURED-LOCATION;VALUE=URI;X-ADDRESS=Pfarrheim St. Bernhard Cloppenburg-Emstekerfeld Lindenallee 6 Cloppenburg-Emstekerfeld 49661 Deutschland;X-APPLE-RADIUS=500;X-TITLE=Lindenallee 6:geo:8.0817293,52.8399156
END:VEVENT
BEGIN:VEVENT
DTSTART;TZID=Europe/Berlin:20230416T130000
DTEND;TZID=Europe/Berlin:20230416T150000
DTSTAMP:20260421T174321
CREATED:20230306T224138Z
LAST-MODIFIED:20230306T224140Z
UID:10005508-1681650000-1681657200@babyflohmaerkte.com
SUMMARY:DE 49661 Cloppenburg-Emstekerfeld
DESCRIPTION:Kindersachenflohmarkt in Cloppenburg-Emstekerfeldam Sonntag\, den 16. April 2023von 13 bis 15 Uhrim Pfarrheim St. Bernhard\, Lindenallee 6\, DE 49661 Cloppenburg-Emstekerfeld \n\n\n\nKaffee und Kuchen (auch zum Mitnehmen)
URL:https://babyflohmaerkte.com/termin/de-49661-cloppenburg-emstekerfeld-2
LOCATION:Pfarrheim St. Bernhard Cloppenburg-Emstekerfeld\, Lindenallee 6\, Cloppenburg-Emstekerfeld\, 49661\, Deutschland
GEO:52.8399156;8.0817293
X-APPLE-STRUCTURED-LOCATION;VALUE=URI;X-ADDRESS=Pfarrheim St. Bernhard Cloppenburg-Emstekerfeld Lindenallee 6 Cloppenburg-Emstekerfeld 49661 Deutschland;X-APPLE-RADIUS=500;X-TITLE=Lindenallee 6:geo:8.0817293,52.8399156
END:VEVENT
BEGIN:VEVENT
DTSTART;TZID=Europe/Berlin:20221105T100000
DTEND;TZID=Europe/Berlin:20221105T120000
DTSTAMP:20260421T174321
CREATED:20221025T100112Z
LAST-MODIFIED:20221025T100113Z
UID:10005444-1667642400-1667649600@babyflohmaerkte.com
SUMMARY:DE 49661 Cloppenburg-Emstekerfeld
DESCRIPTION:Kindersachenflohmarkt in Cloppenburg-Emstekerfeldam Samstag\, den 5.11.2022 von 10 bis 12 Uhrim Pfarrheim St. Berhard\, Lindenallee 6\, DE 49661 Cloppenburg-Emstekerfeld
URL:https://babyflohmaerkte.com/termin/de-49661-cloppenburg-emstekerfeld
LOCATION:Pfarrheim St. Bernhard Cloppenburg-Emstekerfeld\, Lindenallee 6\, Cloppenburg-Emstekerfeld\, 49661\, Deutschland
GEO:52.8399156;8.0817293
X-APPLE-STRUCTURED-LOCATION;VALUE=URI;X-ADDRESS=Pfarrheim St. Bernhard Cloppenburg-Emstekerfeld Lindenallee 6 Cloppenburg-Emstekerfeld 49661 Deutschland;X-APPLE-RADIUS=500;X-TITLE=Lindenallee 6:geo:8.0817293,52.8399156
END:VEVENT
END:VCALENDAR