BEGIN:VCALENDAR
VERSION:2.0
PRODID:-//Babyflohmaerkte - ECPv6.15.20//NONSGML v1.0//EN
CALSCALE:GREGORIAN
METHOD:PUBLISH
X-ORIGINAL-URL:https://babyflohmaerkte.com
X-WR-CALDESC:Veranstaltungen für Babyflohmaerkte
REFRESH-INTERVAL;VALUE=DURATION:PT1H
X-Robots-Tag:noindex
X-PUBLISHED-TTL:PT1H
BEGIN:VTIMEZONE
TZID:Europe/Berlin
BEGIN:DAYLIGHT
TZOFFSETFROM:+0100
TZOFFSETTO:+0200
TZNAME:CEST
DTSTART:20210328T010000
END:DAYLIGHT
BEGIN:STANDARD
TZOFFSETFROM:+0200
TZOFFSETTO:+0100
TZNAME:CET
DTSTART:20211031T010000
END:STANDARD
BEGIN:DAYLIGHT
TZOFFSETFROM:+0100
TZOFFSETTO:+0200
TZNAME:CEST
DTSTART:20220327T010000
END:DAYLIGHT
BEGIN:STANDARD
TZOFFSETFROM:+0200
TZOFFSETTO:+0100
TZNAME:CET
DTSTART:20221030T010000
END:STANDARD
BEGIN:DAYLIGHT
TZOFFSETFROM:+0100
TZOFFSETTO:+0200
TZNAME:CEST
DTSTART:20230326T010000
END:DAYLIGHT
BEGIN:STANDARD
TZOFFSETFROM:+0200
TZOFFSETTO:+0100
TZNAME:CET
DTSTART:20231029T010000
END:STANDARD
BEGIN:DAYLIGHT
TZOFFSETFROM:+0100
TZOFFSETTO:+0200
TZNAME:CEST
DTSTART:20240331T010000
END:DAYLIGHT
BEGIN:STANDARD
TZOFFSETFROM:+0200
TZOFFSETTO:+0100
TZNAME:CET
DTSTART:20241027T010000
END:STANDARD
BEGIN:DAYLIGHT
TZOFFSETFROM:+0100
TZOFFSETTO:+0200
TZNAME:CEST
DTSTART:20250330T010000
END:DAYLIGHT
BEGIN:STANDARD
TZOFFSETFROM:+0200
TZOFFSETTO:+0100
TZNAME:CET
DTSTART:20251026T010000
END:STANDARD
BEGIN:DAYLIGHT
TZOFFSETFROM:+0100
TZOFFSETTO:+0200
TZNAME:CEST
DTSTART:20260329T010000
END:DAYLIGHT
BEGIN:STANDARD
TZOFFSETFROM:+0200
TZOFFSETTO:+0100
TZNAME:CET
DTSTART:20261025T010000
END:STANDARD
END:VTIMEZONE
BEGIN:VEVENT
DTSTART;TZID=Europe/Berlin:20251130T110000
DTEND;TZID=Europe/Berlin:20251130T150000
DTSTAMP:20260422T154723
CREATED:20250102T143552Z
LAST-MODIFIED:20250102T143553Z
UID:10005983-1764500400-1764514800@babyflohmaerkte.com
SUMMARY:DE 28215 Bremen
DESCRIPTION:piccolino-Markt in Bremen\, der überdachte Flohmarkt rund ums Kind \n\n\n\n📅 Wann: Sonntag\, den 30.11.2025⏰ Uhrzeit: 11:00 Uhr bis 15:00 Uhr🤰 Einlass für Schwangere: 10:30 Uhr + 1 Begleitperson (Mutterpass ist vorzuzeigen)📍 Wo: Weser-Ems-Hallen Oldenburg\, Europaplatz 12\, DE 26123 Oldenburg🧸 Was: Auf dem piccolino*-Markt in Bremen und Oldenburg findet ihr zahlreiche Verkaufsstände\, die sich rund ums Kind drehen. Das Angebot umfasst eine breite Auswahl an Umstandskleidung\, Babystramplern\, Teenager-Mode bis Größe 176 sowie Spielzeug jeglicher Art\, Kinderwagen\, Laufräder\, Puppenhäuser\, Kaufmannsläden und Wiegen.🍰 Leibliches Wohl: Im Bistro könnt ihr eine Auswahl an kalten und warmen Getränken sowie Brötchen\, Kuchen und frische Waffeln genießen.🌞 Hinweis: Die Messehallen sind wetterunabhängig und bieten eine warme und trockene Umgebung zum Einkaufen⚠️ Hinweis: Kostenpflichtige Parkplätze sind sowohl in Bremen als auch in Oldenburg verfügbar. In Bremen beträgt die Tagespauschale 5\,– Euro\, in Oldenburg 3\,– Euro.☔ Hinweis: Die Messehallen sind wetterunabhängig und bieten eine warme und trockene Umgebung zum Einkaufen💶 Eintritt: Es wird Eintritt erhoben (Erwachsene 4 €\, Kinder bis 16 Jahre haben freien Eintritt)👉 Webseite: https://piccolinomarkt.de/ \n\n\n\n📢 Alle aufgeführten Kinderkleider-Flohmarkttermine sind bei uns angemeldet worden oder wir haben die Termine in verschiedenen Veröffentlichungen entdeckt. Bei allen Terminen gilt: Keine Gewähr auf tatsächliche Durchführung des Termins – kurzfristige Absagen der Veranstalter sind immer möglich und erreichen uns manchmal auch nicht. Alle Termine unter https://babyflohmaerkte.com/ – euren Kinderkleiderflohmarkt & eure Spielzeugbörse könnt ihr hier kostenlos anmelden: https://babyflohmaerkte.com/neuen-termin-anmelden
URL:https://babyflohmaerkte.com/termin/de-28215-bremen-6
LOCATION:Messe-Centrum Bremen\, Findorffstraße 101\, Bremen\, 28215\, Deutschland
GEO:53.0889429;8.8118102
X-APPLE-STRUCTURED-LOCATION;VALUE=URI;X-ADDRESS=Messe-Centrum Bremen Findorffstraße 101 Bremen 28215 Deutschland;X-APPLE-RADIUS=500;X-TITLE=Findorffstraße 101:geo:8.8118102,53.0889429
END:VEVENT
BEGIN:VEVENT
DTSTART;TZID=Europe/Berlin:20250907T110000
DTEND;TZID=Europe/Berlin:20250907T150000
DTSTAMP:20260422T154723
CREATED:20250102T093612Z
LAST-MODIFIED:20250102T093614Z
UID:10005981-1757242800-1757257200@babyflohmaerkte.com
SUMMARY:DE 28215 Bremen
DESCRIPTION:piccolino-Markt in Bremen\, der überdachte Flohmarkt rund ums Kind \n\n\n\n📅 Wann: Sonntag\, den 07.09.2025⏰ Uhrzeit: 11:00 Uhr bis 15:00 Uhr🤰 Einlass für Schwangere: 10:30 Uhr + 1 Begleitperson (Mutterpass ist vorzuzeigen)📍 Wo: Messe-Centrum Bremen\, Findorffstraße 101\, DE 28215 Bremen🧸 Was: Auf dem piccolino*-Markt in Bremen und Oldenburg findet ihr zahlreiche Verkaufsstände\, die sich rund ums Kind drehen. Das Angebot umfasst eine breite Auswahl an Umstandskleidung\, Babystramplern\, Teenager-Mode bis Größe 176 sowie Spielzeug jeglicher Art\, Kinderwagen\, Laufräder\, Puppenhäuser\, Kaufmannsläden und Wiegen.🍰 Leibliches Wohl: Im Bistro könnt ihr eine Auswahl an kalten und warmen Getränken sowie Brötchen\, Kuchen und frische Waffeln genießen.🌞 Hinweis: Die Messehallen sind wetterunabhängig und bieten eine warme und trockene Umgebung zum Einkaufen⚠️ Hinweis: Kostenpflichtige Parkplätze sind sowohl in Bremen als auch in Oldenburg verfügbar. In Bremen beträgt die Tagespauschale 5\,– Euro\, in Oldenburg 3\,– Euro.☔ Hinweis: Die Messehallen sind wetterunabhängig und bieten eine warme und trockene Umgebung zum Einkaufen💶 Eintritt: Es wird Eintritt erhoben (Erwachsene 4 €\, Kinder bis 16 Jahre haben freien Eintritt)👉 Webseite: https://piccolinomarkt.de/ \n\n\n\n📢 Alle aufgeführten Kinderkleider-Flohmarkttermine sind bei uns angemeldet worden oder wir haben die Termine in verschiedenen Veröffentlichungen entdeckt. Bei allen Terminen gilt: Keine Gewähr auf tatsächliche Durchführung des Termins – kurzfristige Absagen der Veranstalter sind immer möglich und erreichen uns manchmal auch nicht. Alle Termine unter https://babyflohmaerkte.com/ – euren Kinderkleiderflohmarkt & eure Spielzeugbörse könnt ihr hier kostenlos anmelden: https://babyflohmaerkte.com/neuen-termin-anmelden
URL:https://babyflohmaerkte.com/termin/de-28215-bremen-5
LOCATION:Messe-Centrum Bremen\, Findorffstraße 101\, Bremen\, 28215\, Deutschland
GEO:53.0889429;8.8118102
X-APPLE-STRUCTURED-LOCATION;VALUE=URI;X-ADDRESS=Messe-Centrum Bremen Findorffstraße 101 Bremen 28215 Deutschland;X-APPLE-RADIUS=500;X-TITLE=Findorffstraße 101:geo:8.8118102,53.0889429
END:VEVENT
BEGIN:VEVENT
DTSTART;TZID=Europe/Berlin:20250525T110000
DTEND;TZID=Europe/Berlin:20250525T150000
DTSTAMP:20260422T154723
CREATED:20250102T093444Z
LAST-MODIFIED:20250102T093446Z
UID:10005980-1748170800-1748185200@babyflohmaerkte.com
SUMMARY:DE 28215 Bremen
DESCRIPTION:piccolino-Markt in Bremen\, der überdachte Flohmarkt rund ums Kind\n\n\n\n📅 Wann: Sonntag\, den 25.05.2025⏰ Uhrzeit: 11:00 Uhr bis 15:00 Uhr🤰 Einlass für Schwangere: 10:30 Uhr + 1 Begleitperson (Mutterpass ist vorzuzeigen)📍 Wo: Messe-Centrum Bremen\, Findorffstraße 101\, DE 28215 Bremen🧸 Was: Auf dem piccolino*-Markt in Bremen und Oldenburg findet ihr zahlreiche Verkaufsstände\, die sich rund ums Kind drehen. Das Angebot umfasst eine breite Auswahl an Umstandskleidung\, Babystramplern\, Teenager-Mode bis Größe 176 sowie Spielzeug jeglicher Art\, Kinderwagen\, Laufräder\, Puppenhäuser\, Kaufmannsläden und Wiegen.🍰 Leibliches Wohl: Im Bistro könnt ihr eine Auswahl an kalten und warmen Getränken sowie Brötchen\, Kuchen und frische Waffeln genießen.🌞 Hinweis: Die Messehallen sind wetterunabhängig und bieten eine warme und trockene Umgebung zum Einkaufen⚠️ Hinweis: Kostenpflichtige Parkplätze sind sowohl in Bremen als auch in Oldenburg verfügbar. In Bremen beträgt die Tagespauschale 5\,– Euro\, in Oldenburg 3\,– Euro.☔ Hinweis: Die Messehallen sind wetterunabhängig und bieten eine warme und trockene Umgebung zum Einkaufen💶 Eintritt: Es wird Eintritt erhoben (Erwachsene 4 €\, Kinder bis 16 Jahre haben freien Eintritt)👉 Webseite: https://piccolinomarkt.de/ \n\n\n\n📢 Alle aufgeführten Kinderkleider-Flohmarkttermine sind bei uns angemeldet worden oder wir haben die Termine in verschiedenen Veröffentlichungen entdeckt. Bei allen Terminen gilt: Keine Gewähr auf tatsächliche Durchführung des Termins – kurzfristige Absagen der Veranstalter sind immer möglich und erreichen uns manchmal auch nicht. Alle Termine unter https://babyflohmaerkte.com/ – euren Kinderkleiderflohmarkt & eure Spielzeugbörse könnt ihr hier kostenlos anmelden: https://babyflohmaerkte.com/neuen-termin-anmelden
URL:https://babyflohmaerkte.com/termin/de-28215-bremen-4
LOCATION:Messe-Centrum Bremen\, Findorffstraße 101\, Bremen\, 28215\, Deutschland
GEO:53.0889429;8.8118102
X-APPLE-STRUCTURED-LOCATION;VALUE=URI;X-ADDRESS=Messe-Centrum Bremen Findorffstraße 101 Bremen 28215 Deutschland;X-APPLE-RADIUS=500;X-TITLE=Findorffstraße 101:geo:8.8118102,53.0889429
END:VEVENT
BEGIN:VEVENT
DTSTART;TZID=Europe/Berlin:20240303T110000
DTEND;TZID=Europe/Berlin:20240303T150000
DTSTAMP:20260422T154723
CREATED:20231203T130834Z
LAST-MODIFIED:20231203T130835Z
UID:10005658-1709463600-1709478000@babyflohmaerkte.com
SUMMARY:DE 28215 Bremen
DESCRIPTION:piccoliono Secondhand-Markt in der Messehalle 5\, Bürgerweide
URL:https://babyflohmaerkte.com/termin/de-28215-bremen-3
LOCATION:Messe-Centrum Bremen\, Findorffstraße 101\, Bremen\, 28215\, Deutschland
GEO:53.0889429;8.8118102
X-APPLE-STRUCTURED-LOCATION;VALUE=URI;X-ADDRESS=Messe-Centrum Bremen Findorffstraße 101 Bremen 28215 Deutschland;X-APPLE-RADIUS=500;X-TITLE=Findorffstraße 101:geo:8.8118102,53.0889429
END:VEVENT
BEGIN:VEVENT
DTSTART;TZID=Europe/Berlin:20231203T110000
DTEND;TZID=Europe/Berlin:20231203T150000
DTSTAMP:20260422T154723
CREATED:20231203T130657Z
LAST-MODIFIED:20231203T130659Z
UID:10005657-1701601200-1701615600@babyflohmaerkte.com
SUMMARY:28215 Bremen
DESCRIPTION:Piccolino Secondhand-Markt in der Messehalle 5 \n\n\n\nAlle Infos unter https://piccolinomarkt.de/
URL:https://babyflohmaerkte.com/termin/28215-bremen
LOCATION:Messe-Centrum Bremen\, Findorffstraße 101\, Bremen\, 28215\, Deutschland
GEO:53.0889429;8.8118102
X-APPLE-STRUCTURED-LOCATION;VALUE=URI;X-ADDRESS=Messe-Centrum Bremen Findorffstraße 101 Bremen 28215 Deutschland;X-APPLE-RADIUS=500;X-TITLE=Findorffstraße 101:geo:8.8118102,53.0889429
END:VEVENT
BEGIN:VEVENT
DTSTART;TZID=Europe/Berlin:20230521T110000
DTEND;TZID=Europe/Berlin:20230521T150000
DTSTAMP:20260422T154723
CREATED:20230501T151129Z
LAST-MODIFIED:20230501T151130Z
UID:10005576-1684666800-1684681200@babyflohmaerkte.com
SUMMARY:DE 28215 Bremen
DESCRIPTION:piccolino Second Hand Markt – der überdachte Second-Hand-Markt für Kindermoden\, Spielzeug & mehr
URL:https://babyflohmaerkte.com/termin/de-28215-bremen-2
LOCATION:Messe-Centrum Bremen\, Findorffstraße 101\, Bremen\, 28215\, Deutschland
GEO:53.0889429;8.8118102
X-APPLE-STRUCTURED-LOCATION;VALUE=URI;X-ADDRESS=Messe-Centrum Bremen Findorffstraße 101 Bremen 28215 Deutschland;X-APPLE-RADIUS=500;X-TITLE=Findorffstraße 101:geo:8.8118102,53.0889429
END:VEVENT
BEGIN:VEVENT
DTSTART;TZID=Europe/Berlin:20221127T110000
DTEND;TZID=Europe/Berlin:20221127T150000
DTSTAMP:20260422T154723
CREATED:20220523T091023Z
LAST-MODIFIED:20220917T162148Z
UID:10005345-1669546800-1669561200@babyflohmaerkte.com
SUMMARY:DE 28215 Bremen
DESCRIPTION:piccolino – der überdachte Second-Hand-Markt für Kindermoden\, Spielzeug und mehrim Messe-Centrum Bremenam Sonntag\, 27. November 2022 von 11 bis 15 Uhr
URL:https://babyflohmaerkte.com/termin/de-28215-bremen-10
LOCATION:Messe-Centrum Bremen\, Findorffstraße 101\, Bremen\, 28215\, Deutschland
GEO:53.0889429;8.8118102
X-APPLE-STRUCTURED-LOCATION;VALUE=URI;X-ADDRESS=Messe-Centrum Bremen Findorffstraße 101 Bremen 28215 Deutschland;X-APPLE-RADIUS=500;X-TITLE=Findorffstraße 101:geo:8.8118102,53.0889429
END:VEVENT
END:VCALENDAR