BEGIN:VCALENDAR
VERSION:2.0
PRODID:-//Babyflohmaerkte - ECPv6.15.20//NONSGML v1.0//EN
CALSCALE:GREGORIAN
METHOD:PUBLISH
X-ORIGINAL-URL:https://babyflohmaerkte.com
X-WR-CALDESC:Veranstaltungen für Babyflohmaerkte
REFRESH-INTERVAL;VALUE=DURATION:PT1H
X-Robots-Tag:noindex
X-PUBLISHED-TTL:PT1H
BEGIN:VTIMEZONE
TZID:Europe/Berlin
BEGIN:DAYLIGHT
TZOFFSETFROM:+0100
TZOFFSETTO:+0200
TZNAME:CEST
DTSTART:20210328T010000
END:DAYLIGHT
BEGIN:STANDARD
TZOFFSETFROM:+0200
TZOFFSETTO:+0100
TZNAME:CET
DTSTART:20211031T010000
END:STANDARD
BEGIN:DAYLIGHT
TZOFFSETFROM:+0100
TZOFFSETTO:+0200
TZNAME:CEST
DTSTART:20220327T010000
END:DAYLIGHT
BEGIN:STANDARD
TZOFFSETFROM:+0200
TZOFFSETTO:+0100
TZNAME:CET
DTSTART:20221030T010000
END:STANDARD
BEGIN:DAYLIGHT
TZOFFSETFROM:+0100
TZOFFSETTO:+0200
TZNAME:CEST
DTSTART:20230326T010000
END:DAYLIGHT
BEGIN:STANDARD
TZOFFSETFROM:+0200
TZOFFSETTO:+0100
TZNAME:CET
DTSTART:20231029T010000
END:STANDARD
BEGIN:DAYLIGHT
TZOFFSETFROM:+0100
TZOFFSETTO:+0200
TZNAME:CEST
DTSTART:20240331T010000
END:DAYLIGHT
BEGIN:STANDARD
TZOFFSETFROM:+0200
TZOFFSETTO:+0100
TZNAME:CET
DTSTART:20241027T010000
END:STANDARD
BEGIN:DAYLIGHT
TZOFFSETFROM:+0100
TZOFFSETTO:+0200
TZNAME:CEST
DTSTART:20250330T010000
END:DAYLIGHT
BEGIN:STANDARD
TZOFFSETFROM:+0200
TZOFFSETTO:+0100
TZNAME:CET
DTSTART:20251026T010000
END:STANDARD
BEGIN:DAYLIGHT
TZOFFSETFROM:+0100
TZOFFSETTO:+0200
TZNAME:CEST
DTSTART:20260329T010000
END:DAYLIGHT
BEGIN:STANDARD
TZOFFSETFROM:+0200
TZOFFSETTO:+0100
TZNAME:CET
DTSTART:20261025T010000
END:STANDARD
END:VTIMEZONE
BEGIN:VEVENT
DTSTART;TZID=Europe/Berlin:20250301T090000
DTEND;TZID=Europe/Berlin:20250301T113000
DTSTAMP:20260419T233254
CREATED:20250122T132508Z
LAST-MODIFIED:20250122T132509Z
UID:10006128-1740819600-1740828600@babyflohmaerkte.com
SUMMARY:DE 48527 Nordhorn
DESCRIPTION:👶 Kinderkleider- und Spielzeugbörse Nordhorn\n\n\n\n📍 Wo findet die Veranstaltung statt: Konradhaus Nordhorn\, Dahlienstraße 21\, DE 48527 Nordhorn \n\n\n\n📅 Wann: Samstag\, den 01.03.2025⏰ Uhrzeit: 09:00 Uhr bis 11:30 Uhr \n\n\n\n🧸 Was wird verkauft: Kinderkleidung und Spielzeug🍰 Leibliches Wohl: Verkauf von Kaffee\, Kuchen und Kaltgetränken \n\n\n\n📢 Euren Kinderkleiderflohmarkt & eure Spielzeugbörse könnt ihr hier kostenlos bei uns anmelden: https://babyflohmaerkte.com/neuen-termin-anmelden \n\n\n\nAlle aufgeführten Kinderkleider-Flohmarkttermine sind bei uns angemeldet worden oder wir haben die Termine in verschiedenen Veröffentlichungen entdeckt. Bei allen Terminen gilt: Keine Gewähr auf tatsächliche Durchführung des Termins – kurzfristige Absagen der Veranstalter sind immer möglich und erreichen uns manchmal auch nicht.
URL:https://babyflohmaerkte.com/termin/de-48527-nordhorn-3
LOCATION:Konradhaus Nordhorn\, Dahlienstraße 21\, Nordhorn\, 48527\, Deutschland
END:VEVENT
BEGIN:VEVENT
DTSTART;TZID=Europe/Berlin:20231007T090000
DTEND;TZID=Europe/Berlin:20231007T113000
DTSTAMP:20260419T233254
CREATED:20231003T143555Z
LAST-MODIFIED:20231003T143557Z
UID:10005650-1696669200-1696678200@babyflohmaerkte.com
SUMMARY:DE 48527 Nordhorn
DESCRIPTION:Kinderkleider- und SpielzeugbörseVerkauf auf 3 Etagen50 VerkaufsständeVerkauf von Kaffee\, Kuchen und Kaltgetränken
URL:https://babyflohmaerkte.com/termin/de-48527-nordhorn-2
LOCATION:Konradhaus Nordhorn\, Dahlienstraße 21\, Nordhorn\, 48527\, Deutschland
END:VEVENT
BEGIN:VEVENT
DTSTART;TZID=Europe/Berlin:20221008T090000
DTEND;TZID=Europe/Berlin:20221008T113000
DTSTAMP:20260419T233254
CREATED:20220918T155752Z
LAST-MODIFIED:20220918T155753Z
UID:10005403-1665219600-1665228600@babyflohmaerkte.com
SUMMARY:DE 48527 Nordhorn
DESCRIPTION:Kinderkleider- und Spielzeugbörseim Konradhaus Nordhornam Samstag\, den 8. Oktober 2022 von 9 bis 11:30 Uhr
URL:https://babyflohmaerkte.com/termin/de-48527-nordhorn
LOCATION:Konradhaus Nordhorn\, Dahlienstraße 21\, Nordhorn\, 48527\, Deutschland
END:VEVENT
END:VCALENDAR