BEGIN:VCALENDAR
VERSION:2.0
PRODID:-//Babyflohmaerkte - ECPv6.15.20//NONSGML v1.0//EN
CALSCALE:GREGORIAN
METHOD:PUBLISH
X-WR-CALNAME:Babyflohmaerkte
X-ORIGINAL-URL:https://babyflohmaerkte.com
X-WR-CALDESC:Veranstaltungen für Babyflohmaerkte
REFRESH-INTERVAL;VALUE=DURATION:PT1H
X-Robots-Tag:noindex
X-PUBLISHED-TTL:PT1H
BEGIN:VTIMEZONE
TZID:Europe/Berlin
BEGIN:DAYLIGHT
TZOFFSETFROM:+0100
TZOFFSETTO:+0200
TZNAME:CEST
DTSTART:20210328T010000
END:DAYLIGHT
BEGIN:STANDARD
TZOFFSETFROM:+0200
TZOFFSETTO:+0100
TZNAME:CET
DTSTART:20211031T010000
END:STANDARD
BEGIN:DAYLIGHT
TZOFFSETFROM:+0100
TZOFFSETTO:+0200
TZNAME:CEST
DTSTART:20220327T010000
END:DAYLIGHT
BEGIN:STANDARD
TZOFFSETFROM:+0200
TZOFFSETTO:+0100
TZNAME:CET
DTSTART:20221030T010000
END:STANDARD
BEGIN:DAYLIGHT
TZOFFSETFROM:+0100
TZOFFSETTO:+0200
TZNAME:CEST
DTSTART:20230326T010000
END:DAYLIGHT
BEGIN:STANDARD
TZOFFSETFROM:+0200
TZOFFSETTO:+0100
TZNAME:CET
DTSTART:20231029T010000
END:STANDARD
BEGIN:DAYLIGHT
TZOFFSETFROM:+0100
TZOFFSETTO:+0200
TZNAME:CEST
DTSTART:20240331T010000
END:DAYLIGHT
BEGIN:STANDARD
TZOFFSETFROM:+0200
TZOFFSETTO:+0100
TZNAME:CET
DTSTART:20241027T010000
END:STANDARD
BEGIN:DAYLIGHT
TZOFFSETFROM:+0100
TZOFFSETTO:+0200
TZNAME:CEST
DTSTART:20250330T010000
END:DAYLIGHT
BEGIN:STANDARD
TZOFFSETFROM:+0200
TZOFFSETTO:+0100
TZNAME:CET
DTSTART:20251026T010000
END:STANDARD
END:VTIMEZONE
BEGIN:VEVENT
DTSTART;TZID=Europe/Berlin:20241026T120000
DTEND;TZID=Europe/Berlin:20241026T150000
DTSTAMP:20260421T123737
CREATED:20241003T151048Z
LAST-MODIFIED:20241003T151050Z
UID:10005770-1729944000-1729954800@babyflohmaerkte.com
SUMMARY:DE 28207 Bremen-Hastedt
DESCRIPTION:Familienflohmarkt am 26.10.2024von 12-15 Uhr auf dem Spielplatz vom Kinderhaus in der Malerstraße \n\n\n\nLink mit Informationen: https://kinderhaus-malerstrasse.de/
URL:https://babyflohmaerkte.com/termin/de-28207-bremen-hastedt-2
LOCATION:Kinderhaus Malerstraße e.V.\, Malerstraße 8\, Bremen-Hastedt\, 28207\, Deutschland
END:VEVENT
BEGIN:VEVENT
DTSTART;TZID=Europe/Berlin:20230416T110000
DTEND;TZID=Europe/Berlin:20230416T140000
DTSTAMP:20260421T123737
CREATED:20230322T151250Z
LAST-MODIFIED:20230322T151252Z
UID:10005558-1681642800-1681653600@babyflohmaerkte.com
SUMMARY:DE 28207 Bremen
DESCRIPTION:Kinderflohmarkt auf dem Spielplatz vom Kinderhaus Malerstraßeam Sonntag\, 16. April 2023 von 11 bis 14 Uhr
URL:https://babyflohmaerkte.com/termin/de-28207-bremen
LOCATION:Kinderhaus Malerstraße e.V.\, Malerstraße 8\, Bremen-Hastedt\, 28207\, Deutschland
END:VEVENT
BEGIN:VEVENT
DTSTART;TZID=Europe/Berlin:20221009T110000
DTEND;TZID=Europe/Berlin:20221009T140000
DTSTAMP:20260421T123737
CREATED:20220926T163342Z
LAST-MODIFIED:20220926T163343Z
UID:10005406-1665313200-1665324000@babyflohmaerkte.com
SUMMARY:DE 28207 Bremen-Hastedt
DESCRIPTION:Familienflohmarkt Alles rund ums Kind und die Familieim Kinderhaus Malerstraße e.V.am Sonntag\, 9. Oktober 2022 von 11 bis 14 Uhr
URL:https://babyflohmaerkte.com/termin/de-28207-bremen-hastedt
LOCATION:Kinderhaus Malerstraße e.V.\, Malerstraße 8\, Bremen-Hastedt\, 28207\, Deutschland
END:VEVENT
END:VCALENDAR