BEGIN:VCALENDAR
VERSION:2.0
PRODID:-//Babyflohmaerkte - ECPv6.15.20//NONSGML v1.0//EN
CALSCALE:GREGORIAN
METHOD:PUBLISH
X-WR-CALNAME:Babyflohmaerkte
X-ORIGINAL-URL:https://babyflohmaerkte.com
X-WR-CALDESC:Veranstaltungen für Babyflohmaerkte
REFRESH-INTERVAL;VALUE=DURATION:PT1H
X-Robots-Tag:noindex
X-PUBLISHED-TTL:PT1H
BEGIN:VTIMEZONE
TZID:Europe/Berlin
BEGIN:DAYLIGHT
TZOFFSETFROM:+0100
TZOFFSETTO:+0200
TZNAME:CEST
DTSTART:20210328T010000
END:DAYLIGHT
BEGIN:STANDARD
TZOFFSETFROM:+0200
TZOFFSETTO:+0100
TZNAME:CET
DTSTART:20211031T010000
END:STANDARD
BEGIN:DAYLIGHT
TZOFFSETFROM:+0100
TZOFFSETTO:+0200
TZNAME:CEST
DTSTART:20220327T010000
END:DAYLIGHT
BEGIN:STANDARD
TZOFFSETFROM:+0200
TZOFFSETTO:+0100
TZNAME:CET
DTSTART:20221030T010000
END:STANDARD
BEGIN:DAYLIGHT
TZOFFSETFROM:+0100
TZOFFSETTO:+0200
TZNAME:CEST
DTSTART:20230326T010000
END:DAYLIGHT
BEGIN:STANDARD
TZOFFSETFROM:+0200
TZOFFSETTO:+0100
TZNAME:CET
DTSTART:20231029T010000
END:STANDARD
BEGIN:DAYLIGHT
TZOFFSETFROM:+0100
TZOFFSETTO:+0200
TZNAME:CEST
DTSTART:20240331T010000
END:DAYLIGHT
BEGIN:STANDARD
TZOFFSETFROM:+0200
TZOFFSETTO:+0100
TZNAME:CET
DTSTART:20241027T010000
END:STANDARD
BEGIN:DAYLIGHT
TZOFFSETFROM:+0100
TZOFFSETTO:+0200
TZNAME:CEST
DTSTART:20250330T010000
END:DAYLIGHT
BEGIN:STANDARD
TZOFFSETFROM:+0200
TZOFFSETTO:+0100
TZNAME:CET
DTSTART:20251026T010000
END:STANDARD
END:VTIMEZONE
BEGIN:VEVENT
DTSTART;TZID=Europe/Berlin:20240420T140000
DTEND;TZID=Europe/Berlin:20240420T170000
DTSTAMP:20260422T155046
CREATED:20240214T200716Z
LAST-MODIFIED:20240214T200717Z
UID:10005689-1713621600-1713632400@babyflohmaerkte.com
SUMMARY:DE 65201 Wiesbaden
DESCRIPTION:Der Elternbeirat lädt herzlich ein zum Kindersachenflohmarkt mit Kaffee\, Kuchen und Würstchen. Tischvergabe und Gebühr: Im Gebäude 15 Euro + selbstgebackenen Kuchen. Bei der Anmeldung erhalten Sie eine festgelegte Tischplatznummer. Auf dem Außengelände 10 Euro + selbstgebackenen Kuchen. Bitte eigenen Tisch mitbringen und gutes Wetter. Verkäufer-Anmeldungen bis zum 01.04.2024 per E-Mail an: kinderhausfreudenberg.flohmarkt@web.de
URL:https://babyflohmaerkte.com/termin/de-65201-wiesbaden-3
LOCATION:Kinderhaus Freudenberg\, Butterblumenweg 5\, Wiesbaden\, 65201\, Deutschland
GEO:50.0659417;8.1840515
X-APPLE-STRUCTURED-LOCATION;VALUE=URI;X-ADDRESS=Kinderhaus Freudenberg Butterblumenweg 5 Wiesbaden 65201 Deutschland;X-APPLE-RADIUS=500;X-TITLE=Butterblumenweg 5:geo:8.1840515,50.0659417
END:VEVENT
BEGIN:VEVENT
DTSTART;TZID=Europe/Berlin:20231015T140000
DTEND;TZID=Europe/Berlin:20231015T170000
DTSTAMP:20260422T155046
CREATED:20230810T200623Z
LAST-MODIFIED:20230810T200625Z
UID:10005602-1697378400-1697389200@babyflohmaerkte.com
SUMMARY:DE 65201 Wiesbaden
DESCRIPTION:Der Elternbeirat lädt herzlich ein zum Kindersachenflohmarkt mit Kaffee\, Kuchen und Würstchen. Tischvergabe und Gebühr: Im Gebäude 15€ + selbstgebackenen Kuchen. Bei der Anmeldung erhalten Sie eine festgelegte Tischplatznummer. Auf dem Außengelände 10€ + selbstgebackenen Kuchen. Bitte eigenen Tisch mitbringen und gutes Wetter. Verkäufer-Anmeldungen bis zum 24.09.2023 per E-Mail an: kinderhausfreudenberg.flohmarkt@web.de
URL:https://babyflohmaerkte.com/termin/de-65201-wiesbaden
LOCATION:Kinderhaus Freudenberg\, Butterblumenweg 5\, Wiesbaden\, 65201\, Deutschland
GEO:50.0659417;8.1840515
X-APPLE-STRUCTURED-LOCATION;VALUE=URI;X-ADDRESS=Kinderhaus Freudenberg Butterblumenweg 5 Wiesbaden 65201 Deutschland;X-APPLE-RADIUS=500;X-TITLE=Butterblumenweg 5:geo:8.1840515,50.0659417
END:VEVENT
BEGIN:VEVENT
DTSTART;TZID=Europe/Berlin:20220925T140000
DTEND;TZID=Europe/Berlin:20220925T170000
DTSTAMP:20260422T155046
CREATED:20220724T050646Z
LAST-MODIFIED:20220917T161607Z
UID:10005355-1664114400-1664125200@babyflohmaerkte.com
SUMMARY:DE 65201 Wiesbaden
DESCRIPTION:Kindersachenflohmarkt am Sonntag\, 25. September 2022 von 14 bis 17 Uhrim Kinderhaus Freudenberg in Wiesbaden. \n\n\n\nDer Elternbeirat lädt herzlich ein zum Kindersachenflohmarkt mit Kaffee\, Kuchen & Würstchen. \n\n\n\nTischvergabe & Gebühr: \n\n\n\nIm Gebäude 10€ + selbstgebackener Kuchen.Bei der Anmeldung erhalten Sie eine festgelegte Tischplatznummer. \n\n\n\nAuf dem Außengelände 5€ + selbstgebackener Kuchen. Bitte einen eigenen Tisch mitbringen und gutes Wetter. \n\n\n\nVerkäufer-Anmeldungen bis zum 12.09.2022 per E-Mail an:kinderhausfreudenberg.flohmarkt@web.de
URL:https://babyflohmaerkte.com/termin/de-65201-wiesbaden-2
LOCATION:Kinderhaus Freudenberg\, Butterblumenweg 5\, Wiesbaden\, 65201\, Deutschland
GEO:50.0659417;8.1840515
X-APPLE-STRUCTURED-LOCATION;VALUE=URI;X-ADDRESS=Kinderhaus Freudenberg Butterblumenweg 5 Wiesbaden 65201 Deutschland;X-APPLE-RADIUS=500;X-TITLE=Butterblumenweg 5:geo:8.1840515,50.0659417
END:VEVENT
END:VCALENDAR