BEGIN:VCALENDAR
VERSION:2.0
PRODID:-//Babyflohmaerkte - ECPv6.15.20//NONSGML v1.0//EN
CALSCALE:GREGORIAN
METHOD:PUBLISH
X-WR-CALNAME:Babyflohmaerkte
X-ORIGINAL-URL:https://babyflohmaerkte.com
X-WR-CALDESC:Veranstaltungen für Babyflohmaerkte
REFRESH-INTERVAL;VALUE=DURATION:PT1H
X-Robots-Tag:noindex
X-PUBLISHED-TTL:PT1H
BEGIN:VTIMEZONE
TZID:Europe/Berlin
BEGIN:DAYLIGHT
TZOFFSETFROM:+0100
TZOFFSETTO:+0200
TZNAME:CEST
DTSTART:20210328T010000
END:DAYLIGHT
BEGIN:STANDARD
TZOFFSETFROM:+0200
TZOFFSETTO:+0100
TZNAME:CET
DTSTART:20211031T010000
END:STANDARD
BEGIN:DAYLIGHT
TZOFFSETFROM:+0100
TZOFFSETTO:+0200
TZNAME:CEST
DTSTART:20220327T010000
END:DAYLIGHT
BEGIN:STANDARD
TZOFFSETFROM:+0200
TZOFFSETTO:+0100
TZNAME:CET
DTSTART:20221030T010000
END:STANDARD
BEGIN:DAYLIGHT
TZOFFSETFROM:+0100
TZOFFSETTO:+0200
TZNAME:CEST
DTSTART:20230326T010000
END:DAYLIGHT
BEGIN:STANDARD
TZOFFSETFROM:+0200
TZOFFSETTO:+0100
TZNAME:CET
DTSTART:20231029T010000
END:STANDARD
END:VTIMEZONE
BEGIN:VEVENT
DTSTART;TZID=Europe/Berlin:20221008T110000
DTEND;TZID=Europe/Berlin:20221008T140000
DTSTAMP:20260423T133308
CREATED:20220904T144441Z
LAST-MODIFIED:20220917T161944Z
UID:10005372-1665226800-1665237600@babyflohmaerkte.com
SUMMARY:DE 28359 Bremen
DESCRIPTION:Basar für Kindersachenim Kindergarten Horn\, Luisental 27\, DE 28359 Bremenam Samstag\, den 8. Oktober 2022 von 11 bis 14 Uhr
URL:https://babyflohmaerkte.com/termin/de-28359-bremen-2
LOCATION:Kindergarten Horn\, Luisental 27\, Bremen-Horn\, 28359\, Deutschland
GEO:53.09819;8.88156
X-APPLE-STRUCTURED-LOCATION;VALUE=URI;X-ADDRESS=Kindergarten Horn Luisental 27 Bremen-Horn 28359 Deutschland;X-APPLE-RADIUS=500;X-TITLE=Luisental 27:geo:8.88156,53.09819
END:VEVENT
END:VCALENDAR