BEGIN:VCALENDAR
VERSION:2.0
PRODID:-//Babyflohmaerkte - ECPv6.15.20//NONSGML v1.0//EN
CALSCALE:GREGORIAN
METHOD:PUBLISH
X-WR-CALNAME:Babyflohmaerkte
X-ORIGINAL-URL:https://babyflohmaerkte.com
X-WR-CALDESC:Veranstaltungen für Babyflohmaerkte
REFRESH-INTERVAL;VALUE=DURATION:PT1H
X-Robots-Tag:noindex
X-PUBLISHED-TTL:PT1H
BEGIN:VTIMEZONE
TZID:Europe/Berlin
BEGIN:DAYLIGHT
TZOFFSETFROM:+0100
TZOFFSETTO:+0200
TZNAME:CEST
DTSTART:20210328T010000
END:DAYLIGHT
BEGIN:STANDARD
TZOFFSETFROM:+0200
TZOFFSETTO:+0100
TZNAME:CET
DTSTART:20211031T010000
END:STANDARD
BEGIN:DAYLIGHT
TZOFFSETFROM:+0100
TZOFFSETTO:+0200
TZNAME:CEST
DTSTART:20220327T010000
END:DAYLIGHT
BEGIN:STANDARD
TZOFFSETFROM:+0200
TZOFFSETTO:+0100
TZNAME:CET
DTSTART:20221030T010000
END:STANDARD
BEGIN:DAYLIGHT
TZOFFSETFROM:+0100
TZOFFSETTO:+0200
TZNAME:CEST
DTSTART:20230326T010000
END:DAYLIGHT
BEGIN:STANDARD
TZOFFSETFROM:+0200
TZOFFSETTO:+0100
TZNAME:CET
DTSTART:20231029T010000
END:STANDARD
BEGIN:DAYLIGHT
TZOFFSETFROM:+0100
TZOFFSETTO:+0200
TZNAME:CEST
DTSTART:20240331T010000
END:DAYLIGHT
BEGIN:STANDARD
TZOFFSETFROM:+0200
TZOFFSETTO:+0100
TZNAME:CET
DTSTART:20241027T010000
END:STANDARD
END:VTIMEZONE
BEGIN:VEVENT
DTSTART;TZID=Europe/Berlin:20230422T140000
DTEND;TZID=Europe/Berlin:20230422T160000
DTSTAMP:20260421T214854
CREATED:20230307T204417Z
LAST-MODIFIED:20230307T204418Z
UID:10005528-1682172000-1682179200@babyflohmaerkte.com
SUMMARY:DE 26810 Westoverledingen
DESCRIPTION:Kinderkleider- und Spielzeugbörsein der kath. Kinderkrippe St. Bonifatius Westoverledingen\, Marderstraße 6am Samstag\, den 22. April 2023 von 14 bis 16 Uhr
URL:https://babyflohmaerkte.com/termin/de-26810-westoverledingen-2
LOCATION:Katholische Kinderkrippe St. Bonifatius\, Marderstraße 6\, Westoverledingen\, 26810\, Deutschland
END:VEVENT
BEGIN:VEVENT
DTSTART;TZID=Europe/Berlin:20221105T140000
DTEND;TZID=Europe/Berlin:20221105T170000
DTSTAMP:20260421T214854
CREATED:20221016T033814Z
LAST-MODIFIED:20221016T033815Z
UID:10005438-1667656800-1667667600@babyflohmaerkte.com
SUMMARY:DE 26810 Westoverledingen
DESCRIPTION:Kinderkleider und Spielzeugbörsemit Kaffee und Kuchenin der katholischen Kinderkrippe St. Bonifatius\, Marderstraße 6\, DE 26810 Westoverledingen
URL:https://babyflohmaerkte.com/termin/de-26810-westoverledingen
LOCATION:Katholische Kinderkrippe St. Bonifatius\, Marderstraße 6\, Westoverledingen\, 26810\, Deutschland
END:VEVENT
END:VCALENDAR