BEGIN:VCALENDAR
VERSION:2.0
PRODID:-//Babyflohmaerkte - ECPv6.15.20//NONSGML v1.0//EN
CALSCALE:GREGORIAN
METHOD:PUBLISH
X-ORIGINAL-URL:https://babyflohmaerkte.com
X-WR-CALDESC:Veranstaltungen für Babyflohmaerkte
REFRESH-INTERVAL;VALUE=DURATION:PT1H
X-Robots-Tag:noindex
X-PUBLISHED-TTL:PT1H
BEGIN:VTIMEZONE
TZID:Europe/Berlin
BEGIN:DAYLIGHT
TZOFFSETFROM:+0100
TZOFFSETTO:+0200
TZNAME:CEST
DTSTART:20230326T010000
END:DAYLIGHT
BEGIN:STANDARD
TZOFFSETFROM:+0200
TZOFFSETTO:+0100
TZNAME:CET
DTSTART:20231029T010000
END:STANDARD
BEGIN:DAYLIGHT
TZOFFSETFROM:+0100
TZOFFSETTO:+0200
TZNAME:CEST
DTSTART:20240331T010000
END:DAYLIGHT
BEGIN:STANDARD
TZOFFSETFROM:+0200
TZOFFSETTO:+0100
TZNAME:CET
DTSTART:20241027T010000
END:STANDARD
BEGIN:DAYLIGHT
TZOFFSETFROM:+0100
TZOFFSETTO:+0200
TZNAME:CEST
DTSTART:20250330T010000
END:DAYLIGHT
BEGIN:STANDARD
TZOFFSETFROM:+0200
TZOFFSETTO:+0100
TZNAME:CET
DTSTART:20251026T010000
END:STANDARD
BEGIN:DAYLIGHT
TZOFFSETFROM:+0100
TZOFFSETTO:+0200
TZNAME:CEST
DTSTART:20260329T010000
END:DAYLIGHT
BEGIN:STANDARD
TZOFFSETFROM:+0200
TZOFFSETTO:+0100
TZNAME:CET
DTSTART:20261025T010000
END:STANDARD
END:VTIMEZONE
BEGIN:VEVENT
DTSTART;TZID=Europe/Berlin:20250315T133000
DTEND;TZID=Europe/Berlin:20250315T150000
DTSTAMP:20260423T110803
CREATED:20241029T131148Z
LAST-MODIFIED:20250102T144457Z
UID:10005894-1742045400-1742050800@babyflohmaerkte.com
SUMMARY:DE 49838 Handrup
DESCRIPTION:Anonyme Kinderkleider- und Spielzeugbörse in Handrup \n\n\n\n📅 Wann: Samstag\, den 15.03.2025⏰ Uhrzeit: 13:30 Uhr bis 15:00 Uhr🤰 Einlass für Schwangere: 13:00 Uhr + 1 Begleitperson📍 Wo: Jugendheim Handrup\, Am Kloster 1\, DE 49838 Handrup🧸 Was: Anonyme Kinderkleider- und Spielzeugbörse🍰 Leibliches Wohl: Mit Kaffee und selbstgebackenem Kuchen – auch zum Mitnehmen! Gerne eine eigene Dose mitbringen. \n\n\n\n📢 Alle aufgeführten Kinderkleider-Flohmarkttermine sind bei uns angemeldet worden oder wir haben die Termine in verschiedenen Veröffentlichungen entdeckt. Bei allen Terminen gilt: Keine Gewähr auf tatsächliche Durchführung des Termins – kurzfristige Absagen der Veranstalter sind immer möglich und erreichen uns manchmal auch nicht. Alle Termine unter https://babyflohmaerkte.com/ – euren Kinderkleiderflohmarkt & eure Spielzeugbörse könnt ihr hier kostenlos anmelden: https://babyflohmaerkte.com/neuen-termin-anmelden
URL:https://babyflohmaerkte.com/termin/de-49838-handrup-2
LOCATION:Jugendheim Handrup\, Am Kloster 1\, Handrup\, 49838\, Deutschland
GEO:52.5666573;7.5979775
X-APPLE-STRUCTURED-LOCATION;VALUE=URI;X-ADDRESS=Jugendheim Handrup Am Kloster 1 Handrup 49838 Deutschland;X-APPLE-RADIUS=500;X-TITLE=Am Kloster 1:geo:7.5979775,52.5666573
END:VEVENT
BEGIN:VEVENT
DTSTART;TZID=Europe/Berlin:20241026T133000
DTEND;TZID=Europe/Berlin:20241026T150000
DTSTAMP:20260423T110803
CREATED:20241008T145426Z
LAST-MODIFIED:20241008T145427Z
UID:10005803-1729949400-1729954800@babyflohmaerkte.com
SUMMARY:DE 49838 Handrup
DESCRIPTION:Anonyme Kinderkleider- und Spielzeugbörseim Jugendheim Handrupam Samstag\, 26. Oktober 2024von 13:30 bis 15 Uhr
URL:https://babyflohmaerkte.com/termin/de-49838-handrup
LOCATION:Jugendheim Handrup\, Am Kloster 1\, Handrup\, 49838\, Deutschland
GEO:52.5666573;7.5979775
X-APPLE-STRUCTURED-LOCATION;VALUE=URI;X-ADDRESS=Jugendheim Handrup Am Kloster 1 Handrup 49838 Deutschland;X-APPLE-RADIUS=500;X-TITLE=Am Kloster 1:geo:7.5979775,52.5666573
END:VEVENT
END:VCALENDAR