BEGIN:VCALENDAR
VERSION:2.0
PRODID:-//Babyflohmaerkte - ECPv6.15.20//NONSGML v1.0//EN
CALSCALE:GREGORIAN
METHOD:PUBLISH
X-WR-CALNAME:Babyflohmaerkte
X-ORIGINAL-URL:https://babyflohmaerkte.com
X-WR-CALDESC:Veranstaltungen für Babyflohmaerkte
REFRESH-INTERVAL;VALUE=DURATION:PT1H
X-Robots-Tag:noindex
X-PUBLISHED-TTL:PT1H
BEGIN:VTIMEZONE
TZID:Europe/Berlin
BEGIN:DAYLIGHT
TZOFFSETFROM:+0100
TZOFFSETTO:+0200
TZNAME:CEST
DTSTART:20220327T010000
END:DAYLIGHT
BEGIN:STANDARD
TZOFFSETFROM:+0200
TZOFFSETTO:+0100
TZNAME:CET
DTSTART:20221030T010000
END:STANDARD
BEGIN:DAYLIGHT
TZOFFSETFROM:+0100
TZOFFSETTO:+0200
TZNAME:CEST
DTSTART:20230326T010000
END:DAYLIGHT
BEGIN:STANDARD
TZOFFSETFROM:+0200
TZOFFSETTO:+0100
TZNAME:CET
DTSTART:20231029T010000
END:STANDARD
BEGIN:DAYLIGHT
TZOFFSETFROM:+0100
TZOFFSETTO:+0200
TZNAME:CEST
DTSTART:20240331T010000
END:DAYLIGHT
BEGIN:STANDARD
TZOFFSETFROM:+0200
TZOFFSETTO:+0100
TZNAME:CET
DTSTART:20241027T010000
END:STANDARD
BEGIN:DAYLIGHT
TZOFFSETFROM:+0100
TZOFFSETTO:+0200
TZNAME:CEST
DTSTART:20250330T010000
END:DAYLIGHT
BEGIN:STANDARD
TZOFFSETFROM:+0200
TZOFFSETTO:+0100
TZNAME:CET
DTSTART:20251026T010000
END:STANDARD
END:VTIMEZONE
BEGIN:VEVENT
DTSTART;TZID=Europe/Berlin:20240302T140000
DTEND;TZID=Europe/Berlin:20240302T160000
DTSTAMP:20260420T185221
CREATED:20240219T125418Z
LAST-MODIFIED:20240219T125421Z
UID:10005693-1709388000-1709395200@babyflohmaerkte.com
SUMMARY:DE 49624 Löningen
DESCRIPTION:Kleider- und Spielzeugflohmarktin der Gutenberg Schule Löningen! \n\n\n\nAm Samstag\, den 02.03.2024 von 14:00 – 16:00 Uhr.Einlass für Schwangere ab 13:30 Uhr. \n\n\n\nFür Kaffee und Waffeln sorgen die Schüler*innen der Gutenbergschule!! \n\n\n\nWir freuen uns auf Ihren Besuch! \n\n\n\nLink: https://www.bildungswerk-loeningen.de/p/bildungswerk-loeningen/lebensgestaltung/kindersachenflohmarkt/-in-zusammenarbeit-mit-der-gutenbergschule-hauptschule-613-C-1466006
URL:https://babyflohmaerkte.com/termin/de-49624-loeningen-2
LOCATION:Gutenberg-Hauptschule Löningen\, Alter Postweg 7\, Löningen\, 49624\, Deutschland
GEO:52.74015;7.76015
X-APPLE-STRUCTURED-LOCATION;VALUE=URI;X-ADDRESS=Gutenberg-Hauptschule Löningen Alter Postweg 7 Löningen 49624 Deutschland;X-APPLE-RADIUS=500;X-TITLE=Alter Postweg 7:geo:7.76015,52.74015
END:VEVENT
BEGIN:VEVENT
DTSTART;TZID=Europe/Berlin:20230318T140000
DTEND;TZID=Europe/Berlin:20230318T160000
DTSTAMP:20260420T185221
CREATED:20230306T223653Z
LAST-MODIFIED:20230306T223655Z
UID:10005506-1679148000-1679155200@babyflohmaerkte.com
SUMMARY:DE 49624 Löningen
DESCRIPTION:Kindersachenflohmarktin der Gutenbergschule Hauptschule\, Alter Postweg 7\, DE 49624 Löningen
URL:https://babyflohmaerkte.com/termin/de-49624-loeningen
LOCATION:Gutenberg-Hauptschule Löningen\, Alter Postweg 7\, Löningen\, 49624\, Deutschland
GEO:52.74015;7.76015
X-APPLE-STRUCTURED-LOCATION;VALUE=URI;X-ADDRESS=Gutenberg-Hauptschule Löningen Alter Postweg 7 Löningen 49624 Deutschland;X-APPLE-RADIUS=500;X-TITLE=Alter Postweg 7:geo:7.76015,52.74015
END:VEVENT
END:VCALENDAR