BEGIN:VCALENDAR
VERSION:2.0
PRODID:-//Babyflohmaerkte - ECPv6.15.20//NONSGML v1.0//EN
CALSCALE:GREGORIAN
METHOD:PUBLISH
X-WR-CALNAME:Babyflohmaerkte
X-ORIGINAL-URL:https://babyflohmaerkte.com
X-WR-CALDESC:Veranstaltungen für Babyflohmaerkte
REFRESH-INTERVAL;VALUE=DURATION:PT1H
X-Robots-Tag:noindex
X-PUBLISHED-TTL:PT1H
BEGIN:VTIMEZONE
TZID:Europe/Berlin
BEGIN:DAYLIGHT
TZOFFSETFROM:+0100
TZOFFSETTO:+0200
TZNAME:CEST
DTSTART:20210328T010000
END:DAYLIGHT
BEGIN:STANDARD
TZOFFSETFROM:+0200
TZOFFSETTO:+0100
TZNAME:CET
DTSTART:20211031T010000
END:STANDARD
BEGIN:DAYLIGHT
TZOFFSETFROM:+0100
TZOFFSETTO:+0200
TZNAME:CEST
DTSTART:20220327T010000
END:DAYLIGHT
BEGIN:STANDARD
TZOFFSETFROM:+0200
TZOFFSETTO:+0100
TZNAME:CET
DTSTART:20221030T010000
END:STANDARD
BEGIN:DAYLIGHT
TZOFFSETFROM:+0100
TZOFFSETTO:+0200
TZNAME:CEST
DTSTART:20230326T010000
END:DAYLIGHT
BEGIN:STANDARD
TZOFFSETFROM:+0200
TZOFFSETTO:+0100
TZNAME:CET
DTSTART:20231029T010000
END:STANDARD
BEGIN:DAYLIGHT
TZOFFSETFROM:+0100
TZOFFSETTO:+0200
TZNAME:CEST
DTSTART:20240331T010000
END:DAYLIGHT
BEGIN:STANDARD
TZOFFSETFROM:+0200
TZOFFSETTO:+0100
TZNAME:CET
DTSTART:20241027T010000
END:STANDARD
BEGIN:DAYLIGHT
TZOFFSETFROM:+0100
TZOFFSETTO:+0200
TZNAME:CEST
DTSTART:20250330T010000
END:DAYLIGHT
BEGIN:STANDARD
TZOFFSETFROM:+0200
TZOFFSETTO:+0100
TZNAME:CET
DTSTART:20251026T010000
END:STANDARD
BEGIN:DAYLIGHT
TZOFFSETFROM:+0100
TZOFFSETTO:+0200
TZNAME:CEST
DTSTART:20260329T010000
END:DAYLIGHT
BEGIN:STANDARD
TZOFFSETFROM:+0200
TZOFFSETTO:+0100
TZNAME:CET
DTSTART:20261025T010000
END:STANDARD
END:VTIMEZONE
BEGIN:VEVENT
DTSTART;TZID=Europe/Berlin:20251109T110000
DTEND;TZID=Europe/Berlin:20251109T140000
DTSTAMP:20260423T132144
CREATED:20250118T223209Z
LAST-MODIFIED:20250118T223210Z
UID:10006107-1762686000-1762696800@babyflohmaerkte.com
SUMMARY:DE 26605 Aurich-Wiesens
DESCRIPTION:👶 Spielzeugbörse Aurich-Wiesens\n\n\n\n📍 Wo findet die Veranstaltung statt: Gemeindehaus Wiesens\, Langfeldweg 94\, DE 26605 Aurich-Wiesens \n\n\n\n📅 Wann: Sonntag\, den 09.11.2025⏰ Uhrzeit: 11:00 Uhr bis 14:00 Uhr \n\n\n\n🧸 Was wird verkauft: Spielzeugbörse \n\n\n\n👉 Facebook-Seite: https://www.facebook.com/profile.php?id=100090766897574 \n\n\n\n📢 Euren Kinderkleiderflohmarkt & eure Spielzeugbörse könnt ihr hier kostenlos bei uns anmelden: https://babyflohmaerkte.com/neuen-termin-anmelden \n\n\n\nAlle aufgeführten Kinderkleider-Flohmarkttermine sind bei uns angemeldet worden oder wir haben die Termine in verschiedenen Veröffentlichungen entdeckt. Bei allen Terminen gilt: Keine Gewähr auf tatsächliche Durchführung des Termins – kurzfristige Absagen der Veranstalter sind immer möglich und erreichen uns manchmal auch nicht.
URL:https://babyflohmaerkte.com/termin/de-26605-aurich-wiesens-7
LOCATION:Gemeindehaus Wiesens\, Langfeldweg 94\, Aurich-Wiesens\, 26605\, Deutschland
GEO:53.45324;7.55545
X-APPLE-STRUCTURED-LOCATION;VALUE=URI;X-ADDRESS=Gemeindehaus Wiesens Langfeldweg 94 Aurich-Wiesens 26605 Deutschland;X-APPLE-RADIUS=500;X-TITLE=Langfeldweg 94:geo:7.55545,53.45324
END:VEVENT
BEGIN:VEVENT
DTSTART;TZID=Europe/Berlin:20250926T190000
DTEND;TZID=Europe/Berlin:20250926T213000
DTSTAMP:20260423T132144
CREATED:20250118T222829Z
LAST-MODIFIED:20250118T222830Z
UID:10006105-1758913200-1758922200@babyflohmaerkte.com
SUMMARY:DE 26605 Aurich-Wiesens
DESCRIPTION:👶 Kinderkleiderbörse Aurich-Wiesens\n\n\n\n📍 Wo findet die Veranstaltung statt: Gemeindehaus Wiesens\, Langfeldweg 94\, DE 26605 Aurich-Wiesens \n\n\n\n📅 Wann: Freitag\, den 26.09.2025⏰ Uhrzeit: 19:00 Uhr bis 21:30 Uhr \n\n\n\n🧸 Was wird verkauft: Kinderkleiderbörse \n\n\n\n👉 Facebook-Seite: https://www.facebook.com/profile.php?id=100090766897574 \n\n\n\n📢 Euren Kinderkleiderflohmarkt & eure Spielzeugbörse könnt ihr hier kostenlos bei uns anmelden: https://babyflohmaerkte.com/neuen-termin-anmelden \n\n\n\nAlle aufgeführten Kinderkleider-Flohmarkttermine sind bei uns angemeldet worden oder wir haben die Termine in verschiedenen Veröffentlichungen entdeckt. Bei allen Terminen gilt: Keine Gewähr auf tatsächliche Durchführung des Termins – kurzfristige Absagen der Veranstalter sind immer möglich und erreichen uns manchmal auch nicht.
URL:https://babyflohmaerkte.com/termin/de-26605-aurich-wiesens-5
LOCATION:Gemeindehaus Wiesens\, Langfeldweg 94\, Aurich-Wiesens\, 26605\, Deutschland
GEO:53.45324;7.55545
X-APPLE-STRUCTURED-LOCATION;VALUE=URI;X-ADDRESS=Gemeindehaus Wiesens Langfeldweg 94 Aurich-Wiesens 26605 Deutschland;X-APPLE-RADIUS=500;X-TITLE=Langfeldweg 94:geo:7.55545,53.45324
END:VEVENT
BEGIN:VEVENT
DTSTART;TZID=Europe/Berlin:20250606T190000
DTEND;TZID=Europe/Berlin:20250606T213000
DTSTAMP:20260423T132144
CREATED:20250118T223451Z
LAST-MODIFIED:20250118T223452Z
UID:10006108-1749236400-1749245400@babyflohmaerkte.com
SUMMARY:DE 26605 Aurich-Wiesens
DESCRIPTION:👶 Ladies- und Teensbörse Aurich-Wiesens\n\n\n\n📍 Wo findet die Veranstaltung statt: Gemeindehaus Wiesens\, Langfeldweg 94\, DE 26605 Aurich-Wiesens \n\n\n\n📅 Wann: Freitag\, den 06.06.2025⏰ Uhrzeit: 19:00 Uhr bis 21:30 Uhr \n\n\n\n🧸 Was wird verkauft: Ladies- und Teensbörse\, nach Größen sortierte gut erhaltene Kleidung\, Schuhe und Accessoires \n\n\n\n👉 Facebook-Seite: https://www.facebook.com/profile.php?id=100090766897574 \n\n\n\n📢 Euren Kinderkleiderflohmarkt & eure Spielzeugbörse könnt ihr hier kostenlos bei uns anmelden: https://babyflohmaerkte.com/neuen-termin-anmelden \n\n\n\nAlle aufgeführten Kinderkleider-Flohmarkttermine sind bei uns angemeldet worden oder wir haben die Termine in verschiedenen Veröffentlichungen entdeckt. Bei allen Terminen gilt: Keine Gewähr auf tatsächliche Durchführung des Termins – kurzfristige Absagen der Veranstalter sind immer möglich und erreichen uns manchmal auch nicht.
URL:https://babyflohmaerkte.com/termin/de-26605-aurich-wiesens-8
LOCATION:Gemeindehaus Wiesens\, Langfeldweg 94\, Aurich-Wiesens\, 26605\, Deutschland
GEO:53.45324;7.55545
X-APPLE-STRUCTURED-LOCATION;VALUE=URI;X-ADDRESS=Gemeindehaus Wiesens Langfeldweg 94 Aurich-Wiesens 26605 Deutschland;X-APPLE-RADIUS=500;X-TITLE=Langfeldweg 94:geo:7.55545,53.45324
END:VEVENT
BEGIN:VEVENT
DTSTART;TZID=Europe/Berlin:20250323T110000
DTEND;TZID=Europe/Berlin:20250323T140000
DTSTAMP:20260423T132144
CREATED:20250118T223046Z
LAST-MODIFIED:20250118T223048Z
UID:10006106-1742727600-1742738400@babyflohmaerkte.com
SUMMARY:DE 26605 Aurich-Wiesens
DESCRIPTION:👶 Spielzeugbörse Aurich-Wiesens\n\n\n\n📍 Wo findet die Veranstaltung statt: Gemeindehaus Wiesens\, Langfeldweg 94\, DE 26605 Aurich-Wiesens \n\n\n\n📅 Wann: Sonntag\, den 23.03.2025⏰ Uhrzeit: 11:00 Uhr bis 14:00 Uhr \n\n\n\n🧸 Was wird verkauft: Spielzeugbörse \n\n\n\n👉 Facebook-Seite: https://www.facebook.com/profile.php?id=100090766897574 \n\n\n\n📢 Euren Kinderkleiderflohmarkt & eure Spielzeugbörse könnt ihr hier kostenlos bei uns anmelden: https://babyflohmaerkte.com/neuen-termin-anmelden \n\n\n\nAlle aufgeführten Kinderkleider-Flohmarkttermine sind bei uns angemeldet worden oder wir haben die Termine in verschiedenen Veröffentlichungen entdeckt. Bei allen Terminen gilt: Keine Gewähr auf tatsächliche Durchführung des Termins – kurzfristige Absagen der Veranstalter sind immer möglich und erreichen uns manchmal auch nicht.
URL:https://babyflohmaerkte.com/termin/de-26605-aurich-wiesens-6
LOCATION:Gemeindehaus Wiesens\, Langfeldweg 94\, Aurich-Wiesens\, 26605\, Deutschland
GEO:53.45324;7.55545
X-APPLE-STRUCTURED-LOCATION;VALUE=URI;X-ADDRESS=Gemeindehaus Wiesens Langfeldweg 94 Aurich-Wiesens 26605 Deutschland;X-APPLE-RADIUS=500;X-TITLE=Langfeldweg 94:geo:7.55545,53.45324
END:VEVENT
BEGIN:VEVENT
DTSTART;TZID=Europe/Berlin:20250314T190000
DTEND;TZID=Europe/Berlin:20250314T213000
DTSTAMP:20260423T132144
CREATED:20250118T222641Z
LAST-MODIFIED:20250118T222642Z
UID:10006104-1741978800-1741987800@babyflohmaerkte.com
SUMMARY:DE 26605 Aurich-Wiesens
DESCRIPTION:👶 Kinderkleiderbörse Aurich-Wiesens\n\n\n\n📍 Wo findet die Veranstaltung statt: Gemeindehaus Wiesens\, Langfeldweg 94\, DE 26605 Aurich-Wiesens \n\n\n\n📅 Wann: Freitag\, den 14.03.2025⏰ Uhrzeit: 19:00 Uhr bis 21:30 Uhr \n\n\n\n🧸 Was wird verkauft: Kinderkleiderbörse \n\n\n\n👉 Facebook-Seite: https://www.facebook.com/profile.php?id=100090766897574 \n\n\n\n📢 Euren Kinderkleiderflohmarkt & eure Spielzeugbörse könnt ihr hier kostenlos bei uns anmelden: https://babyflohmaerkte.com/neuen-termin-anmelden \n\n\n\nAlle aufgeführten Kinderkleider-Flohmarkttermine sind bei uns angemeldet worden oder wir haben die Termine in verschiedenen Veröffentlichungen entdeckt. Bei allen Terminen gilt: Keine Gewähr auf tatsächliche Durchführung des Termins – kurzfristige Absagen der Veranstalter sind immer möglich und erreichen uns manchmal auch nicht.
URL:https://babyflohmaerkte.com/termin/de-26605-aurich-wiesens-4
LOCATION:Gemeindehaus Wiesens\, Langfeldweg 94\, Aurich-Wiesens\, 26605\, Deutschland
GEO:53.45324;7.55545
X-APPLE-STRUCTURED-LOCATION;VALUE=URI;X-ADDRESS=Gemeindehaus Wiesens Langfeldweg 94 Aurich-Wiesens 26605 Deutschland;X-APPLE-RADIUS=500;X-TITLE=Langfeldweg 94:geo:7.55545,53.45324
END:VEVENT
BEGIN:VEVENT
DTSTART;TZID=Europe/Berlin:20241117T110000
DTEND;TZID=Europe/Berlin:20241117T140000
DTSTAMP:20260423T132144
CREATED:20241104T170556Z
LAST-MODIFIED:20241104T170559Z
UID:10005922-1731841200-1731852000@babyflohmaerkte.com
SUMMARY:DE 26605 Aurich-Wiesens
DESCRIPTION:15. Spielzeugbörse Wiesens\n\n\n\n📅 Wann: Sonntag\, den 17.11.2024⏰ Uhrzeit: 11:00 Uhr bis 14:00 Uhr📍 Wo: Gemeindehaus Wiesens\, Langfeldweg 94\, DE 26605 Aurich-Wiesens🧸 Was: 15. Spielzeugbörse Wiesens\, verkauft wird alles von der Babyausstattung bis zur Spielekonsole🍰 Leibliches Wohl: mit Kuchenverkauf \n\n\n\n📢 Alle aufgeführten Kinderkleider-Flohmarkttermine sind bei uns angemeldet worden oder wir haben die Termine in verschiedenen Veröffentlichungen entdeckt. Bei allen Terminen gilt: Keine Gewähr auf tatsächliche Durchführung des Termins – kurzfristige Absagen der Veranstalter sind immer möglich und erreichen uns manchmal auch nicht. Alle Termine unter https://babyflohmaerkte.com/ – euren Kinderkleiderflohmarkt & eure Spielzeugbörse könnt ihr hier kostenlos anmelden: https://babyflohmaerkte.com/neuen-termin-anmelden
URL:https://babyflohmaerkte.com/termin/de-26605-aurich-wiesens-3
LOCATION:Gemeindehaus Wiesens\, Langfeldweg 94\, Aurich-Wiesens\, 26605\, Deutschland
GEO:53.45324;7.55545
X-APPLE-STRUCTURED-LOCATION;VALUE=URI;X-ADDRESS=Gemeindehaus Wiesens Langfeldweg 94 Aurich-Wiesens 26605 Deutschland;X-APPLE-RADIUS=500;X-TITLE=Langfeldweg 94:geo:7.55545,53.45324
END:VEVENT
BEGIN:VEVENT
DTSTART;TZID=Europe/Berlin:20241115T190000
DTEND;TZID=Europe/Berlin:20241115T213000
DTSTAMP:20260423T132144
CREATED:20241015T214135Z
LAST-MODIFIED:20241015T214136Z
UID:10005858-1731697200-1731706200@babyflohmaerkte.com
SUMMARY:DE 26605 Aurich-Wiesens
DESCRIPTION:Ladies & Teens Börse Wiesensam Freitag\, 15. November 2024von 19 bis 21:30 Uhrim Gemeindehaus Aurich-Wiesens
URL:https://babyflohmaerkte.com/termin/de-26605-aurich-wiesens-2
LOCATION:Gemeindehaus Wiesens\, Langfeldweg 94\, Aurich-Wiesens\, 26605\, Deutschland
GEO:53.45324;7.55545
X-APPLE-STRUCTURED-LOCATION;VALUE=URI;X-ADDRESS=Gemeindehaus Wiesens Langfeldweg 94 Aurich-Wiesens 26605 Deutschland;X-APPLE-RADIUS=500;X-TITLE=Langfeldweg 94:geo:7.55545,53.45324
END:VEVENT
BEGIN:VEVENT
DTSTART;TZID=Europe/Berlin:20241025T190000
DTEND;TZID=Europe/Berlin:20241025T213000
DTSTAMP:20260423T132144
CREATED:20240928T114713Z
LAST-MODIFIED:20240928T114715Z
UID:10005746-1729882800-1729891800@babyflohmaerkte.com
SUMMARY:DE 26605 Aurich-Wiesens
DESCRIPTION:18. Kinderkleiderbörse Wiesensam Freitag\, den 25.10.2024 von 19-21:30 Uhrim Gemeindehaus Wiesens
URL:https://babyflohmaerkte.com/termin/de-26605-aurich-wiesens
LOCATION:Gemeindehaus Wiesens\, Langfeldweg 94\, Aurich-Wiesens\, 26605\, Deutschland
GEO:53.45324;7.55545
X-APPLE-STRUCTURED-LOCATION;VALUE=URI;X-ADDRESS=Gemeindehaus Wiesens Langfeldweg 94 Aurich-Wiesens 26605 Deutschland;X-APPLE-RADIUS=500;X-TITLE=Langfeldweg 94:geo:7.55545,53.45324
END:VEVENT
BEGIN:VEVENT
DTSTART;TZID=Europe/Berlin:20230312T110000
DTEND;TZID=Europe/Berlin:20230312T140000
DTSTAMP:20260423T132144
CREATED:20230308T183520Z
LAST-MODIFIED:20230308T183522Z
UID:10005545-1678618800-1678629600@babyflohmaerkte.com
SUMMARY:26605 Aurich-Wiesens
DESCRIPTION:Spielzeugbörse Wiesensam Sonntag\, den 12. März 2023 von 11 bis 14 Uhrim Gemeindehaus WiesensVerkauft wird alles von der Babyausstattung bis zur Spielkonsole… mit Kuchenverkauf …
URL:https://babyflohmaerkte.com/termin/26605-aurich-wiesens
LOCATION:Gemeindehaus Wiesens\, Langfeldweg 94\, Aurich-Wiesens\, 26605\, Deutschland
GEO:53.45324;7.55545
X-APPLE-STRUCTURED-LOCATION;VALUE=URI;X-ADDRESS=Gemeindehaus Wiesens Langfeldweg 94 Aurich-Wiesens 26605 Deutschland;X-APPLE-RADIUS=500;X-TITLE=Langfeldweg 94:geo:7.55545,53.45324
END:VEVENT
BEGIN:VEVENT
DTSTART;TZID=Europe/Berlin:20221106T110000
DTEND;TZID=Europe/Berlin:20221106T140000
DTSTAMP:20260423T132144
CREATED:20221011T185318Z
LAST-MODIFIED:20221011T185335Z
UID:10005425-1667732400-1667743200@babyflohmaerkte.com
SUMMARY:DE 26605 Wiesens
DESCRIPTION:Spielzeugbörse Wiesens am Sonntag\, den 6. November 2022 von 11 bis 14 Uhrim Gemeindehaus Wiesens(mit Kuchenverkauf)
URL:https://babyflohmaerkte.com/termin/de-26605-wiesens
LOCATION:Gemeindehaus Wiesens\, Langfeldweg 94\, Aurich-Wiesens\, 26605\, Deutschland
GEO:53.45324;7.55545
X-APPLE-STRUCTURED-LOCATION;VALUE=URI;X-ADDRESS=Gemeindehaus Wiesens Langfeldweg 94 Aurich-Wiesens 26605 Deutschland;X-APPLE-RADIUS=500;X-TITLE=Langfeldweg 94:geo:7.55545,53.45324
END:VEVENT
END:VCALENDAR