BEGIN:VCALENDAR
VERSION:2.0
PRODID:-//Babyflohmaerkte - ECPv6.15.20//NONSGML v1.0//EN
CALSCALE:GREGORIAN
METHOD:PUBLISH
X-ORIGINAL-URL:https://babyflohmaerkte.com
X-WR-CALDESC:Veranstaltungen für Babyflohmaerkte
REFRESH-INTERVAL;VALUE=DURATION:PT1H
X-Robots-Tag:noindex
X-PUBLISHED-TTL:PT1H
BEGIN:VTIMEZONE
TZID:Europe/Berlin
BEGIN:DAYLIGHT
TZOFFSETFROM:+0100
TZOFFSETTO:+0200
TZNAME:CEST
DTSTART:20230326T010000
END:DAYLIGHT
BEGIN:STANDARD
TZOFFSETFROM:+0200
TZOFFSETTO:+0100
TZNAME:CET
DTSTART:20231029T010000
END:STANDARD
BEGIN:DAYLIGHT
TZOFFSETFROM:+0100
TZOFFSETTO:+0200
TZNAME:CEST
DTSTART:20240331T010000
END:DAYLIGHT
BEGIN:STANDARD
TZOFFSETFROM:+0200
TZOFFSETTO:+0100
TZNAME:CET
DTSTART:20241027T010000
END:STANDARD
BEGIN:DAYLIGHT
TZOFFSETFROM:+0100
TZOFFSETTO:+0200
TZNAME:CEST
DTSTART:20250330T010000
END:DAYLIGHT
BEGIN:STANDARD
TZOFFSETFROM:+0200
TZOFFSETTO:+0100
TZNAME:CET
DTSTART:20251026T010000
END:STANDARD
BEGIN:DAYLIGHT
TZOFFSETFROM:+0100
TZOFFSETTO:+0200
TZNAME:CEST
DTSTART:20260329T010000
END:DAYLIGHT
BEGIN:STANDARD
TZOFFSETFROM:+0200
TZOFFSETTO:+0100
TZNAME:CET
DTSTART:20261025T010000
END:STANDARD
END:VTIMEZONE
BEGIN:VEVENT
DTSTART;TZID=Europe/Berlin:20250222T090000
DTEND;TZID=Europe/Berlin:20250222T110000
DTSTAMP:20260425T155551
CREATED:20250107T135052Z
LAST-MODIFIED:20250107T135054Z
UID:10006016-1740214800-1740222000@babyflohmaerkte.com
SUMMARY:DE 26624 Südbrookmerland
DESCRIPTION:👶 Sortierte Kinderkleider- und Spielzeugbörse in Südbrookmerland\n\n\n\n📍 Wo findet die Veranstaltung statt: Gemeindehaus der ev.-luth. Kirchengemeinde Victorbur\, Pestalozziallee 6\, DE 26624 Südbrookmerland \n\n\n\n📅 Wann: Freitag\, den 21.02.2025 von 19:00 bis 21:00 Uhr und Samstag\, den 22. Februar 2025 von 09:00 bis 11:00 Uhr🤰 Einlass für Schwangere: Freitag\, den 21.02.2025 ab 18:30 \n\n\n\n🧸 Was wird verkauft: Kinderkleidung Größe 50-176\, Umstandsmode\, Erstausstattung\, Spielzeug🍰 Leibliches Wohl: Für das leibliche Wohl ist an beiden Tagen gesorgt \n\n\n\n📢 Alle aufgeführten Kinderkleider-Flohmarkttermine sind bei uns angemeldet worden oder wir haben die Termine in verschiedenen Veröffentlichungen entdeckt. Bei allen Terminen gilt: Keine Gewähr auf tatsächliche Durchführung des Termins – kurzfristige Absagen der Veranstalter sind immer möglich und erreichen uns manchmal auch nicht. Alle Termine unter https://babyflohmaerkte.com/ – euren Kinderkleiderflohmarkt & eure Spielzeugbörse könnt ihr hier kostenlos anmelden: https://babyflohmaerkte.com/neuen-termin-anmelden
URL:https://babyflohmaerkte.com/termin/de-26624-suedbrookmerland-3/2025-02-22
LOCATION:Gemeindehaus Victorbur\, Pestalozziallee 6\, Südbrookmerland\, 26624\, Deutschland
END:VEVENT
BEGIN:VEVENT
DTSTART;TZID=Europe/Berlin:20250221T190000
DTEND;TZID=Europe/Berlin:20250221T210000
DTSTAMP:20260425T155551
CREATED:20250107T135052Z
LAST-MODIFIED:20250107T135054Z
UID:10006015-1740164400-1740171600@babyflohmaerkte.com
SUMMARY:DE 26624 Südbrookmerland
DESCRIPTION:👶 Sortierte Kinderkleider- und Spielzeugbörse in Südbrookmerland\n\n\n\n📍 Wo findet die Veranstaltung statt: Gemeindehaus der ev.-luth. Kirchengemeinde Victorbur\, Pestalozziallee 6\, DE 26624 Südbrookmerland \n\n\n\n📅 Wann: Freitag\, den 21.02.2025 von 19:00 bis 21:00 Uhr und Samstag\, den 22. Februar 2025 von 09:00 bis 11:00 Uhr🤰 Einlass für Schwangere: Freitag\, den 21.02.2025 ab 18:30 \n\n\n\n🧸 Was wird verkauft: Kinderkleidung Größe 50-176\, Umstandsmode\, Erstausstattung\, Spielzeug🍰 Leibliches Wohl: Für das leibliche Wohl ist an beiden Tagen gesorgt \n\n\n\n📢 Alle aufgeführten Kinderkleider-Flohmarkttermine sind bei uns angemeldet worden oder wir haben die Termine in verschiedenen Veröffentlichungen entdeckt. Bei allen Terminen gilt: Keine Gewähr auf tatsächliche Durchführung des Termins – kurzfristige Absagen der Veranstalter sind immer möglich und erreichen uns manchmal auch nicht. Alle Termine unter https://babyflohmaerkte.com/ – euren Kinderkleiderflohmarkt & eure Spielzeugbörse könnt ihr hier kostenlos anmelden: https://babyflohmaerkte.com/neuen-termin-anmelden
URL:https://babyflohmaerkte.com/termin/de-26624-suedbrookmerland-3/2025-02-21
LOCATION:Gemeindehaus Victorbur\, Pestalozziallee 6\, Südbrookmerland\, 26624\, Deutschland
END:VEVENT
BEGIN:VEVENT
DTSTART;TZID=Europe/Berlin:20241109T090000
DTEND;TZID=Europe/Berlin:20241109T120000
DTSTAMP:20260425T155551
CREATED:20241009T130628Z
LAST-MODIFIED:20241012T112628Z
UID:10005806-1731142800-1731153600@babyflohmaerkte.com
SUMMARY:DE 26624 Südbrookmerland
DESCRIPTION:2. sortierte Kinderkleider- und Spielzeugbörseim Gemeindehaus der ev.-luth. Kirchengemeine VictorburPestalozziallee 6am Freitag\, 8. November 2024 von 19-21 Uhr (Einlass für Schwangere ab 18 Uhr)und am Samstag\, 9. November 2024 von 9-12 UhrFür das leibliche Wohl ist an beiden Tagen gesorgt
URL:https://babyflohmaerkte.com/termin/6998
LOCATION:Gemeindehaus Victorbur\, Pestalozziallee 6\, Südbrookmerland\, 26624\, Deutschland
END:VEVENT
BEGIN:VEVENT
DTSTART;TZID=Europe/Berlin:20241108T190000
DTEND;TZID=Europe/Berlin:20241108T210000
DTSTAMP:20260425T155551
CREATED:20241009T130527Z
LAST-MODIFIED:20241009T130528Z
UID:10005805-1731092400-1731099600@babyflohmaerkte.com
SUMMARY:DE 26624 Victorbur
DESCRIPTION:2. sortierte Kinderkleider- und Spielzeugbörseim Gemeindehaus der ev.-luth. Kirchengemeine VictorburPestalozziallee 6am Freitag\, 8. November 2024 von 19-21 Uhr (Einlass für Schwangere ab 18 Uhr)und am Samstag\, 9. November 2024 von 9-12 UhrFür das leibliche Wohl ist an beiden Tagen gesorgt
URL:https://babyflohmaerkte.com/termin/de-26624-victorbur
LOCATION:Gemeindehaus Victorbur\, Pestalozziallee 6\, Südbrookmerland\, 26624\, Deutschland
END:VEVENT
BEGIN:VEVENT
DTSTART;TZID=Europe/Berlin:20240223T180000
DTEND;TZID=Europe/Berlin:20240223T203000
DTSTAMP:20260425T155551
CREATED:20231228T131548Z
LAST-MODIFIED:20231228T131721Z
UID:10005660-1708711200-1708720200@babyflohmaerkte.com
SUMMARY:DE 26624 Südbrookmerland
DESCRIPTION:Kleider- und Spielzeugbörseim Gemeindehaus Victorburam Freitag\, den 23. Februar 2024 von 18 bis 20:30 UhrEinlass für Schwangere + eine Begleitperson ab 17:30 Uhr
URL:https://babyflohmaerkte.com/termin/de-26624-suedbrookmerland
LOCATION:Gemeindehaus Victorbur\, Pestalozziallee 6\, Südbrookmerland\, 26624\, Deutschland
END:VEVENT
END:VCALENDAR