BEGIN:VCALENDAR
VERSION:2.0
PRODID:-//Babyflohmaerkte - ECPv6.15.20//NONSGML v1.0//EN
CALSCALE:GREGORIAN
METHOD:PUBLISH
X-ORIGINAL-URL:https://babyflohmaerkte.com
X-WR-CALDESC:Veranstaltungen für Babyflohmaerkte
REFRESH-INTERVAL;VALUE=DURATION:PT1H
X-Robots-Tag:noindex
X-PUBLISHED-TTL:PT1H
BEGIN:VTIMEZONE
TZID:Europe/Berlin
BEGIN:DAYLIGHT
TZOFFSETFROM:+0100
TZOFFSETTO:+0200
TZNAME:CEST
DTSTART:20230326T010000
END:DAYLIGHT
BEGIN:STANDARD
TZOFFSETFROM:+0200
TZOFFSETTO:+0100
TZNAME:CET
DTSTART:20231029T010000
END:STANDARD
BEGIN:DAYLIGHT
TZOFFSETFROM:+0100
TZOFFSETTO:+0200
TZNAME:CEST
DTSTART:20240331T010000
END:DAYLIGHT
BEGIN:STANDARD
TZOFFSETFROM:+0200
TZOFFSETTO:+0100
TZNAME:CET
DTSTART:20241027T010000
END:STANDARD
BEGIN:DAYLIGHT
TZOFFSETFROM:+0100
TZOFFSETTO:+0200
TZNAME:CEST
DTSTART:20250330T010000
END:DAYLIGHT
BEGIN:STANDARD
TZOFFSETFROM:+0200
TZOFFSETTO:+0100
TZNAME:CET
DTSTART:20251026T010000
END:STANDARD
BEGIN:DAYLIGHT
TZOFFSETFROM:+0100
TZOFFSETTO:+0200
TZNAME:CEST
DTSTART:20260329T010000
END:DAYLIGHT
BEGIN:STANDARD
TZOFFSETFROM:+0200
TZOFFSETTO:+0100
TZNAME:CET
DTSTART:20261025T010000
END:STANDARD
END:VTIMEZONE
BEGIN:VEVENT
DTSTART;TZID=Europe/Berlin:20250322T100000
DTEND;TZID=Europe/Berlin:20250322T120000
DTSTAMP:20260423T111204
CREATED:20250112T085653Z
LAST-MODIFIED:20250112T085654Z
UID:10006062-1742637600-1742644800@babyflohmaerkte.com
SUMMARY:DE 49809 Lingen-Laxten
DESCRIPTION:👶 Kinderkleiderbörse Laxten\n\n\n\n📍 Wo findet die Veranstaltung statt: Gemeindehaus St. Josef Lingen-Laxten\, Josefstraße 19a\, DE 49809 Lingen-Laxten \n\n\n\n📅 Wann: Samstag\, den 22.03.2025⏰ Uhrzeit: 10:00 Uhr bis 12:00 Uhr \n\n\n\n🧸 Was wird verkauft: Kinderkleidung\, Umstandsmode\, Kinderausstattung aller Art z.B. Kinderwagen (bitte kein Spielzeug) \n\n\n\n📢 Alle aufgeführten Kinderkleider-Flohmarkttermine sind bei uns angemeldet worden oder wir haben die Termine in verschiedenen Veröffentlichungen entdeckt. Bei allen Terminen gilt: Keine Gewähr auf tatsächliche Durchführung des Termins – kurzfristige Absagen der Veranstalter sind immer möglich und erreichen uns manchmal auch nicht. Alle Termine unter https://babyflohmaerkte.com/ – euren Kinderkleiderflohmarkt & eure Spielzeugbörse könnt ihr hier kostenlos anmelden: https://babyflohmaerkte.com/neuen-termin-anmelden \n\n\n\nSchnellanmeldung (nur Veranstaltungs-Flyer hochladen und fertig): https://babyflohmaerkte.com/schnell-anmeldung-kinderkleider-flohmarkt
URL:https://babyflohmaerkte.com/termin/de-49809-lingen-laxten-2
LOCATION:Gemeindehaus St. Josef Lingen-Laxten\, Josefstraße 19a\, Lingen-Laxten\, 49809\, Deutschland
GEO:52.5257346;7.3429117
X-APPLE-STRUCTURED-LOCATION;VALUE=URI;X-ADDRESS=Gemeindehaus St. Josef Lingen-Laxten Josefstraße 19a Lingen-Laxten 49809 Deutschland;X-APPLE-RADIUS=500;X-TITLE=Josefstraße 19a:geo:7.3429117,52.5257346
END:VEVENT
BEGIN:VEVENT
DTSTART;TZID=Europe/Berlin:20250215T133000
DTEND;TZID=Europe/Berlin:20250215T153000
DTSTAMP:20260423T111204
CREATED:20250107T190835Z
LAST-MODIFIED:20250107T190838Z
UID:10006025-1739626200-1739633400@babyflohmaerkte.com
SUMMARY:DE 48909 Lingen-Laxten
DESCRIPTION:👶 Zwillingskleiderbörse in Lingen-Laxten\n\n\n\n📍 Wo findet die Veranstaltung statt: Gemeindehaus St. Josef Lingen-Laxten\, Josefstraße 19a\, DE 49809 Lingen-Laxten \n\n\n\n📅 Wann: Samstag\, den 15.02.2025⏰ Uhrzeit: 13:30 Uhr bis 15:30 Uhr🤰 Einlass für Schwangere: 13:15 Uhr \n\n\n\n🧸 Was wird verkauft: Gut erhaltende Baby- und Zwillingskleidung\, Frühjahrs- und Sommermode\, Erstausstattung wie z.B. Zwillingskinderwagen\, Babyschalen\, Autositze\, viele Einzelkleidungsstücke für Zwillingspärchen bzw. Geschwister\, Spielzeuge und vieles mehr. \n\n\n\nℹ️ Weitere Informationen zur Veranstaltung: Nicht nur für Zwillinge 😉 \n\n\n\n📢 Alle aufgeführten Kinderkleider-Flohmarkttermine sind bei uns angemeldet worden oder wir haben die Termine in verschiedenen Veröffentlichungen entdeckt. Bei allen Terminen gilt: Keine Gewähr auf tatsächliche Durchführung des Termins – kurzfristige Absagen der Veranstalter sind immer möglich und erreichen uns manchmal auch nicht. Alle Termine unter https://babyflohmaerkte.com/ – euren Kinderkleiderflohmarkt & eure Spielzeugbörse könnt ihr hier kostenlos anmelden: https://babyflohmaerkte.com/neuen-termin-anmelden
URL:https://babyflohmaerkte.com/termin/de-48909-lingen-laxten
LOCATION:Gemeindehaus St. Josef Lingen-Laxten\, Josefstraße 19a\, Lingen-Laxten\, 49809\, Deutschland
GEO:52.5257346;7.3429117
X-APPLE-STRUCTURED-LOCATION;VALUE=URI;X-ADDRESS=Gemeindehaus St. Josef Lingen-Laxten Josefstraße 19a Lingen-Laxten 49809 Deutschland;X-APPLE-RADIUS=500;X-TITLE=Josefstraße 19a:geo:7.3429117,52.5257346
END:VEVENT
BEGIN:VEVENT
DTSTART;TZID=Europe/Berlin:20241109T100000
DTEND;TZID=Europe/Berlin:20241109T120000
DTSTAMP:20260423T111204
CREATED:20241105T192817Z
LAST-MODIFIED:20241105T192818Z
UID:10005927-1731146400-1731153600@babyflohmaerkte.com
SUMMARY:DE 49809 Lingen-Laxten
DESCRIPTION:Spielzeugbörse im Gemeindehaus St. Josef in Lingen-Laxten\n\n\n\n📅 Wann: Samstag\, den 09.11.2024⏰ Uhrzeit: 10:00 Uhr bis 12:00 Uhr📍 Wo: Gemeindehaus St. Josef Lingen-Laxten\, Josefstraße 19a\, DE 49809 Lingen-Laxten🧸 Was: Verkauf von Spielen\, Büchern\, Puppen und Puppenzubehör\, Lego\, Playmobil\, Kinderfahrrädern (kein Verkauf von Kuscheltieren\, kein Verkauf von Kassetten/CDs) \n\n\n\n📢 Alle aufgeführten Kinderkleider-Flohmarkttermine sind bei uns angemeldet worden oder wir haben die Termine in verschiedenen Veröffentlichungen entdeckt. Bei allen Terminen gilt: Keine Gewähr auf tatsächliche Durchführung des Termins – kurzfristige Absagen der Veranstalter sind immer möglich und erreichen uns manchmal auch nicht. Alle Termine unter https://babyflohmaerkte.com/ – euren Kinderkleiderflohmarkt & eure Spielzeugbörse könnt ihr hier kostenlos anmelden: https://babyflohmaerkte.com/neuen-termin-anmelden
URL:https://babyflohmaerkte.com/termin/de-49809-lingen-laxten
LOCATION:Gemeindehaus St. Josef Lingen-Laxten\, Josefstraße 19a\, Lingen-Laxten\, 49809\, Deutschland
GEO:52.5257346;7.3429117
X-APPLE-STRUCTURED-LOCATION;VALUE=URI;X-ADDRESS=Gemeindehaus St. Josef Lingen-Laxten Josefstraße 19a Lingen-Laxten 49809 Deutschland;X-APPLE-RADIUS=500;X-TITLE=Josefstraße 19a:geo:7.3429117,52.5257346
END:VEVENT
END:VCALENDAR