BEGIN:VCALENDAR
VERSION:2.0
PRODID:-//Babyflohmaerkte - ECPv6.15.20//NONSGML v1.0//EN
CALSCALE:GREGORIAN
METHOD:PUBLISH
X-WR-CALNAME:Babyflohmaerkte
X-ORIGINAL-URL:https://babyflohmaerkte.com
X-WR-CALDESC:Veranstaltungen für Babyflohmaerkte
REFRESH-INTERVAL;VALUE=DURATION:PT1H
X-Robots-Tag:noindex
X-PUBLISHED-TTL:PT1H
BEGIN:VTIMEZONE
TZID:Europe/Berlin
BEGIN:DAYLIGHT
TZOFFSETFROM:+0100
TZOFFSETTO:+0200
TZNAME:CEST
DTSTART:20220327T010000
END:DAYLIGHT
BEGIN:STANDARD
TZOFFSETFROM:+0200
TZOFFSETTO:+0100
TZNAME:CET
DTSTART:20221030T010000
END:STANDARD
BEGIN:DAYLIGHT
TZOFFSETFROM:+0100
TZOFFSETTO:+0200
TZNAME:CEST
DTSTART:20230326T010000
END:DAYLIGHT
BEGIN:STANDARD
TZOFFSETFROM:+0200
TZOFFSETTO:+0100
TZNAME:CET
DTSTART:20231029T010000
END:STANDARD
BEGIN:DAYLIGHT
TZOFFSETFROM:+0100
TZOFFSETTO:+0200
TZNAME:CEST
DTSTART:20240331T010000
END:DAYLIGHT
BEGIN:STANDARD
TZOFFSETFROM:+0200
TZOFFSETTO:+0100
TZNAME:CET
DTSTART:20241027T010000
END:STANDARD
BEGIN:DAYLIGHT
TZOFFSETFROM:+0100
TZOFFSETTO:+0200
TZNAME:CEST
DTSTART:20250330T010000
END:DAYLIGHT
BEGIN:STANDARD
TZOFFSETFROM:+0200
TZOFFSETTO:+0100
TZNAME:CET
DTSTART:20251026T010000
END:STANDARD
BEGIN:DAYLIGHT
TZOFFSETFROM:+0100
TZOFFSETTO:+0200
TZNAME:CEST
DTSTART:20260329T010000
END:DAYLIGHT
BEGIN:STANDARD
TZOFFSETFROM:+0200
TZOFFSETTO:+0100
TZNAME:CET
DTSTART:20261025T010000
END:STANDARD
END:VTIMEZONE
BEGIN:VEVENT
DTSTART;TZID=Europe/Berlin:20250301T133000
DTEND;TZID=Europe/Berlin:20250301T160000
DTSTAMP:20260422T140817
CREATED:20250107T141916Z
LAST-MODIFIED:20250107T141942Z
UID:10006023-1740835800-1740844800@babyflohmaerkte.com
SUMMARY:DE 26789 Leer-Bingum
DESCRIPTION:👕 Kleiderbörse für Jugendliche ab Größe 152 in Leer-Bingum\n\n\n\n📍 Wo findet die Veranstaltung statt: Gemeindehaus Leer-Bingum\, An der Matthäikirche 7\, DE 26789 Leer-Bingum \n\n\n\n📅 Wann: Samstag\, den 01.03.2025⏰ Uhrzeit: 13:30 Uhr bis 16:00 Uhr \n\n\n\n🧸 Was wird verkauft: Kleiderbörse für Jugendliche ab Größe 152 \n\n\n\n📢 Alle aufgeführten Kinderkleider-Flohmarkttermine sind bei uns angemeldet worden oder wir haben die Termine in verschiedenen Veröffentlichungen entdeckt. Bei allen Terminen gilt: Keine Gewähr auf tatsächliche Durchführung des Termins – kurzfristige Absagen der Veranstalter sind immer möglich und erreichen uns manchmal auch nicht. Alle Termine unter https://babyflohmaerkte.com/ – euren Kinderkleiderflohmarkt & eure Spielzeugbörse könnt ihr hier kostenlos anmelden: https://babyflohmaerkte.com/neuen-termin-anmelden
URL:https://babyflohmaerkte.com/termin/de-26789-leer-bingum-4
LOCATION:Gemeindehaus Leer-Bingum\, An der Matthäikirche 7\, Leer-Bingum\, 26789\, Deutschland
GEO:53.2228404;7.4130193
X-APPLE-STRUCTURED-LOCATION;VALUE=URI;X-ADDRESS=Gemeindehaus Leer-Bingum An der Matthäikirche 7 Leer-Bingum 26789 Deutschland;X-APPLE-RADIUS=500;X-TITLE=An der Matthäikirche 7:geo:7.4130193,53.2228404
END:VEVENT
BEGIN:VEVENT
DTSTART;TZID=Europe/Berlin:20231007T133000
DTEND;TZID=Europe/Berlin:20231007T160000
DTSTAMP:20260422T140817
CREATED:20231003T140631Z
LAST-MODIFIED:20231003T140633Z
UID:10005636-1696685400-1696694400@babyflohmaerkte.com
SUMMARY:DE 26789 Bingum
DESCRIPTION:Kleiderbörse für Jugendliche (ab Größe 152)am Samstag\, 7. Oktober 2023 von 13:30 bis 16 Uhrim Gemeindehaus Bingum
URL:https://babyflohmaerkte.com/termin/de-26789-bingum
LOCATION:Gemeindehaus Leer-Bingum\, An der Matthäikirche 7\, Leer-Bingum\, 26789\, Deutschland
GEO:53.2228404;7.4130193
X-APPLE-STRUCTURED-LOCATION;VALUE=URI;X-ADDRESS=Gemeindehaus Leer-Bingum An der Matthäikirche 7 Leer-Bingum 26789 Deutschland;X-APPLE-RADIUS=500;X-TITLE=An der Matthäikirche 7:geo:7.4130193,53.2228404
END:VEVENT
BEGIN:VEVENT
DTSTART;TZID=Europe/Berlin:20230318T133000
DTEND;TZID=Europe/Berlin:20230318T160000
DTSTAMP:20260422T140817
CREATED:20230306T225701Z
LAST-MODIFIED:20230306T225731Z
UID:10005515-1679146200-1679155200@babyflohmaerkte.com
SUMMARY:DE 26789 Leer-Bingum
DESCRIPTION:Kleiderbörse für Jugendliche (ab Größe 152)im Gemeindehaus Leer Bingum
URL:https://babyflohmaerkte.com/termin/de-26789-leer-bingum-2
LOCATION:Gemeindehaus Leer-Bingum\, An der Matthäikirche 7\, Leer-Bingum\, 26789\, Deutschland
GEO:53.2228404;7.4130193
X-APPLE-STRUCTURED-LOCATION;VALUE=URI;X-ADDRESS=Gemeindehaus Leer-Bingum An der Matthäikirche 7 Leer-Bingum 26789 Deutschland;X-APPLE-RADIUS=500;X-TITLE=An der Matthäikirche 7:geo:7.4130193,53.2228404
END:VEVENT
END:VCALENDAR