BEGIN:VCALENDAR
VERSION:2.0
PRODID:-//Babyflohmaerkte - ECPv6.15.20//NONSGML v1.0//EN
CALSCALE:GREGORIAN
METHOD:PUBLISH
X-ORIGINAL-URL:https://babyflohmaerkte.com
X-WR-CALDESC:Veranstaltungen für Babyflohmaerkte
REFRESH-INTERVAL;VALUE=DURATION:PT1H
X-Robots-Tag:noindex
X-PUBLISHED-TTL:PT1H
BEGIN:VTIMEZONE
TZID:Europe/Berlin
BEGIN:DAYLIGHT
TZOFFSETFROM:+0100
TZOFFSETTO:+0200
TZNAME:CEST
DTSTART:20220327T010000
END:DAYLIGHT
BEGIN:STANDARD
TZOFFSETFROM:+0200
TZOFFSETTO:+0100
TZNAME:CET
DTSTART:20221030T010000
END:STANDARD
BEGIN:DAYLIGHT
TZOFFSETFROM:+0100
TZOFFSETTO:+0200
TZNAME:CEST
DTSTART:20230326T010000
END:DAYLIGHT
BEGIN:STANDARD
TZOFFSETFROM:+0200
TZOFFSETTO:+0100
TZNAME:CET
DTSTART:20231029T010000
END:STANDARD
BEGIN:DAYLIGHT
TZOFFSETFROM:+0100
TZOFFSETTO:+0200
TZNAME:CEST
DTSTART:20240331T010000
END:DAYLIGHT
BEGIN:STANDARD
TZOFFSETFROM:+0200
TZOFFSETTO:+0100
TZNAME:CET
DTSTART:20241027T010000
END:STANDARD
BEGIN:DAYLIGHT
TZOFFSETFROM:+0100
TZOFFSETTO:+0200
TZNAME:CEST
DTSTART:20250330T010000
END:DAYLIGHT
BEGIN:STANDARD
TZOFFSETFROM:+0200
TZOFFSETTO:+0100
TZNAME:CET
DTSTART:20251026T010000
END:STANDARD
BEGIN:DAYLIGHT
TZOFFSETFROM:+0100
TZOFFSETTO:+0200
TZNAME:CEST
DTSTART:20260329T010000
END:DAYLIGHT
BEGIN:STANDARD
TZOFFSETFROM:+0200
TZOFFSETTO:+0100
TZNAME:CET
DTSTART:20261025T010000
END:STANDARD
BEGIN:DAYLIGHT
TZOFFSETFROM:+0100
TZOFFSETTO:+0200
TZNAME:CEST
DTSTART:20270328T010000
END:DAYLIGHT
BEGIN:STANDARD
TZOFFSETFROM:+0200
TZOFFSETTO:+0100
TZNAME:CET
DTSTART:20271031T010000
END:STANDARD
END:VTIMEZONE
BEGIN:VEVENT
DTSTART;TZID=Europe/Berlin:20260418T100000
DTEND;TZID=Europe/Berlin:20260418T123000
DTSTAMP:20260422T154723
CREATED:20260310T194642Z
LAST-MODIFIED:20260310T194644Z
UID:10006389-1776506400-1776515400@babyflohmaerkte.com
SUMMARY:DE 74679 Weißbach
DESCRIPTION:👶 Basar „Rund um’s Kind“\n\n\n\n📍 Wo findet die Veranstaltung statt: Bürgerzentrum Weißbach\, Kelterstraße 28\, DE 74679 Weißbach \n\n\n\n📅 Wann: Samstag\, den 18.4.2026⏰ Uhrzeit: 10:00 Uhr bis 12:30 Uhr🤰 Einlass für Schwangere: Einlass für Schwangere mit Mutterpass (+ eine Begleitperson) bereits ab 9:30 Uhr. \n\n\n\n🧸 Was wird verkauft: Baby-/Kinder- und Jugendkleidung für Frühjahr/Sommer\, sowie Kindersportkleidung\, Kinderschuhe – alles nach Größen sortiert -\, Umstandskleidung\, Spielwaren\, Kinderwagen\, Kindersitze\, Kinderfahrzeuge\, Babyausstattung …🍰 Leibliches Wohl: Für den kleinen Hunger ist gesorgt\, außerdem gibt es leckere\, frisch gebackene Waffeln\, Kaffee und Kuchen (gerne auch zum Mitnehmen). \n\n\n\nℹ️ Weitere Informationen zur Veranstaltung: Kinderbetreuung mit Spiel- und Bastelangeboten. Der Erlös kommt den Kinder-/Jugend-/Familiengruppen in der Gemeinde zu Gute.🅿️ Infos zur Parksituation vor Ort: großzügiger Parkplatz direkt an der Halle💶 Eintritt: kostenlos \n\n\n\n📢 Euren Kinderkleiderflohmarkt & eure Spielzeugbörse könnt ihr hier kostenlos bei uns anmelden: https://babyflohmaerkte.com/neuen-termin-anmelden \n\n\n\nAlle aufgeführten Kinderkleider-Flohmarkttermine sind bei uns angemeldet worden oder wir haben die Termine in verschiedenen Veröffentlichungen entdeckt. Bei allen Terminen gilt: Keine Gewähr auf tatsächliche Durchführung des Termins – kurzfristige Absagen der Veranstalter sind immer möglich und erreichen uns manchmal auch nicht. \n\n\n\n2026-1-Plakat-Basar-Rund-Ums-Kind-Weissbach_v01Herunterladen
URL:https://babyflohmaerkte.com/termin/de-74679-weissbach-7
LOCATION:Bürgerzentrum Langenbachtal Weißbach\, Kelterstraße 28\, Weißbach (Württemberg)\, 74679\, Deutschland
GEO:49.3003665;9.5940342
X-APPLE-STRUCTURED-LOCATION;VALUE=URI;X-ADDRESS=Bürgerzentrum Langenbachtal Weißbach Kelterstraße 28 Weißbach (Württemberg) 74679 Deutschland;X-APPLE-RADIUS=500;X-TITLE=Kelterstraße 28:geo:9.5940342,49.3003665
END:VEVENT
BEGIN:VEVENT
DTSTART;TZID=Europe/Berlin:20250927T100000
DTEND;TZID=Europe/Berlin:20250927T123000
DTSTAMP:20260422T154723
CREATED:20250811T120341Z
LAST-MODIFIED:20250811T120419Z
UID:10006338-1758967200-1758976200@babyflohmaerkte.com
SUMMARY:DE 74679 Weißbach
DESCRIPTION:👶 Basar „Rund um’s Kind“ Weißbach\n\n\n\n📍 Wo findet die Veranstaltung statt: Bürgerzentrum Weißbach\, Kelterstraße 28\, DE 74679 Weißbach \n\n\n\n📅 Wann: Samstag\, den 27.09.2025⏰ Uhrzeit: 10:00 Uhr bis 12:30 Uhr🤰 Einlass für Schwangere: Einlass für Schwangere mit Mutterpass (+ eine Begleitperson) bereits ab 9:30 Uhr. \n\n\n\n🧸 Was wird verkauft: Baby-/Kinder- und Jugendkleidung für Herbst/Winter\, sowie Kindersportkleidung\, Kinderschuhe (alles nach Größen sortiert)\, Umstandskleidung\, Spielwaren\, Kinderwagen\, Kindersitze\, Kinderfahrzeuge\, Babyausstattung …🍰 Leibliches Wohl: Für den kleinen Hunger ist gesorgt\, außerdem gibt es Kaffee und Kuchen (gerne auch zum Mitnehmen). \n\n\n\nℹ️ Weitere Informationen zur Veranstaltung: Kinderbetreuung mit Spiel- und Bastelangeboten. Der Erlös kommt den Kinder-/Jugend-/Familiengruppen in der Gemeinde zu Gute.🅿️ Infos zur Parksituation vor Ort: Parkplätze direkt an der Halle💶 Eintritt: Kostenlos \n\n\n\n👉 Webseite mit weiteren Informationen: https://www.crispenhofen-weissbach-evangelisch.de/veranstaltungen \n\n\n\n📢 Euren Kinderkleiderflohmarkt & eure Spielzeugbörse könnt ihr hier kostenlos bei uns anmelden: https://babyflohmaerkte.com/neuen-termin-anmelden \n\n\n\nAlle aufgeführten Kinderkleider-Flohmarkttermine sind bei uns angemeldet worden oder wir haben die Termine in verschiedenen Veröffentlichungen entdeckt. Bei allen Terminen gilt: Keine Gewähr auf tatsächliche Durchführung des Termins – kurzfristige Absagen der Veranstalter sind immer möglich und erreichen uns manchmal auch nicht.
URL:https://babyflohmaerkte.com/termin/de-74679-weissbach-6
LOCATION:Bürgerzentrum Langenbachtal Weißbach\, Kelterstraße 28\, Weißbach (Württemberg)\, 74679\, Deutschland
GEO:49.3003665;9.5940342
X-APPLE-STRUCTURED-LOCATION;VALUE=URI;X-ADDRESS=Bürgerzentrum Langenbachtal Weißbach Kelterstraße 28 Weißbach (Württemberg) 74679 Deutschland;X-APPLE-RADIUS=500;X-TITLE=Kelterstraße 28:geo:9.5940342,49.3003665
END:VEVENT
BEGIN:VEVENT
DTSTART;TZID=Europe/Berlin:20250329T100000
DTEND;TZID=Europe/Berlin:20250329T123000
DTSTAMP:20260422T154723
CREATED:20250209T151203Z
LAST-MODIFIED:20250209T151204Z
UID:10006204-1743242400-1743251400@babyflohmaerkte.com
SUMMARY:DE 74679 Weißbach
DESCRIPTION:👶 Basar Rund um´s Kind Weißbach\n\n\n\n📍 Wo findet die Veranstaltung statt: Bürgerzentrum Weißbach\, Kelterstraße 28\, DE 74679 Weißbach \n\n\n\n📅 Wann: Samstag\, den 29.03.2025⏰ Uhrzeit: 10:00 Uhr bis 12:30 Uhr🤰 Einlass für Schwangere: Einlass für Schwangere mit Mutterpass (+ eine Begleitperson) bereits ab 9:30 Uhr. \n\n\n\n🧸 Was wird verkauft: Baby-/Kinder- und Jugendkleidung für Herbst/Winter\, sowie Kindersportkleidung\, Kinderschuhe (alles nach Größen sortiert)\, Umstandskleidung\, Spielwaren\, Kinderwagen\, Kindersitze\, Kinderfahrzeuge\, Babyausstattung…🍰 Leibliches Wohl: Für den kleinen Hunger ist gesorgt\, außerdem gibt es lecker\, frisch gebackene Waffeln\, Kaffee und Kuchen (gerne auch zum Mitnehmen). \n\n\n\nℹ️ Weitere Informationen zur Veranstaltung: Kinderbetreuung mit Spiel- und Bastelangeboten.Der Erlös kommt den Kinder-/Jugend-/Familiengruppen in der Gemeinde zu Gute.🅿️ Infos zur Parksituation vor Ort: Parkplätze an der Halle und in unmittelbarer Nähe.💶 Eintritt: Es wird kein Eintritt erhoben \n\n\n\n👉 Webseite mit weiteren Informationen: https://www.crispenhofen-weissbach-evangelisch.de/veranstaltungen \n\n\n\n📢 Euren Kinderkleiderflohmarkt & eure Spielzeugbörse könnt ihr hier kostenlos bei uns anmelden: https://babyflohmaerkte.com/neuen-termin-anmelden \n\n\n\nAlle aufgeführten Kinderkleider-Flohmarkttermine sind bei uns angemeldet worden oder wir haben die Termine in verschiedenen Veröffentlichungen entdeckt. Bei allen Terminen gilt: Keine Gewähr auf tatsächliche Durchführung des Termins – kurzfristige Absagen der Veranstalter sind immer möglich und erreichen uns manchmal auch nicht.
URL:https://babyflohmaerkte.com/termin/de-74679-weissbach-2
LOCATION:Bürgerzentrum Langenbachtal Weißbach\, Kelterstraße 28\, Weißbach (Württemberg)\, 74679\, Deutschland
GEO:49.3003665;9.5940342
X-APPLE-STRUCTURED-LOCATION;VALUE=URI;X-ADDRESS=Bürgerzentrum Langenbachtal Weißbach Kelterstraße 28 Weißbach (Württemberg) 74679 Deutschland;X-APPLE-RADIUS=500;X-TITLE=Kelterstraße 28:geo:9.5940342,49.3003665
END:VEVENT
BEGIN:VEVENT
DTSTART;TZID=Europe/Berlin:20240921T100000
DTEND;TZID=Europe/Berlin:20240921T123000
DTSTAMP:20260422T154723
CREATED:20240909T110850Z
LAST-MODIFIED:20240909T110904Z
UID:10005728-1726912800-1726921800@babyflohmaerkte.com
SUMMARY:DE 74679 Weißbach
DESCRIPTION:Wir bieten an:Baby-/Kinder-/Jugendkleidung (nach Größen sortiert)\, Kindersportkleidung\, Kinderschuhe\, Umstandskleidung\, Spielwaren\, Kinderwagen\, Kindersitze\, Kinderfahrzeuge\, Babyausstattung…Einlass für Schwangere mit Mutterpass (+ eine Begleitperson) bereits ab 9:30 Uhr.Es gibt Fleischkäswecken\, Waffeln sowie Kaffee & Kuchen (auch zum Mitnehmen).Wir freuen uns auf Sie! \n\n\n\n2024-2_Plakat-Basar Rund Ums Kind\, Weißbach_v02Herunterladen
URL:https://babyflohmaerkte.com/termin/de-74679-weissbach-5
LOCATION:Bürgerzentrum Langenbachtal Weißbach\, Kelterstraße 28\, Weißbach (Württemberg)\, 74679\, Deutschland
GEO:49.3003665;9.5940342
X-APPLE-STRUCTURED-LOCATION;VALUE=URI;X-ADDRESS=Bürgerzentrum Langenbachtal Weißbach Kelterstraße 28 Weißbach (Württemberg) 74679 Deutschland;X-APPLE-RADIUS=500;X-TITLE=Kelterstraße 28:geo:9.5940342,49.3003665
END:VEVENT
BEGIN:VEVENT
DTSTART;TZID=Europe/Berlin:20240427T100000
DTEND;TZID=Europe/Berlin:20240427T130000
DTSTAMP:20260422T154723
CREATED:20240407T145856Z
LAST-MODIFIED:20240407T145858Z
UID:10005705-1714212000-1714222800@babyflohmaerkte.com
SUMMARY:DE 74679 Weißbach
DESCRIPTION:Wir bieten an:Baby-/Kinder-/Jugendkleidung (nach Größen sortiert)\, Kindersportkleidung\, Kinderschuhe\, Umstandskleidung\, Spielwaren\, Kinderwagen\, Kindersitze\, Kinderfahrzeuge\, Babyausstattung…Einlass für Schwangere mit Mutterpass (+ eine Begleitperson) bereits ab 9:30 Uhr.Es gibt Fleischkäswecken\, Waffeln sowie Kaffee & Kuchen (auch zum Mitnehmen).Wir freuen uns auf Sie!
URL:https://babyflohmaerkte.com/termin/de-74679-weissbach-4
LOCATION:Bürgerzentrum Langenbachtal Weißbach\, Kelterstraße 28\, Weißbach (Württemberg)\, 74679\, Deutschland
GEO:49.3003665;9.5940342
X-APPLE-STRUCTURED-LOCATION;VALUE=URI;X-ADDRESS=Bürgerzentrum Langenbachtal Weißbach Kelterstraße 28 Weißbach (Württemberg) 74679 Deutschland;X-APPLE-RADIUS=500;X-TITLE=Kelterstraße 28:geo:9.5940342,49.3003665
END:VEVENT
BEGIN:VEVENT
DTSTART;TZID=Europe/Berlin:20230923T100000
DTEND;TZID=Europe/Berlin:20230923T130000
DTSTAMP:20260422T154723
CREATED:20230904T164843Z
LAST-MODIFIED:20230904T164845Z
UID:10005614-1695463200-1695474000@babyflohmaerkte.com
SUMMARY:DE 74679 Weißbach
DESCRIPTION:Wir bieten an:Baby-/Kinder-/Jugendkleidung (nach Größen sortiert)\, Kindersportkleidung\, Kinderschuhe\, Umstandskleidung\, Spielwaren\, Kinderwagen\, Kindersitze\, Kinderfahrzeuge\, Babyausstattung…Einlass für Schwangere mit Mutterpass (+ eine Begleitperson) bereits ab 9:30 Uhr.Es gibt Fleischkäswecken\, Waffeln sowie Kaffee & Kuchen (auch zum Mitnehmen).Wir freuen uns auf Sie! \n\n\n\nLink: https://www.kirchenbezirk-kuenzelsau.de/kirchengemeinden/weissbach/veranstaltungen
URL:https://babyflohmaerkte.com/termin/de-74679-weissbach-3
LOCATION:Bürgerzentrum Langenbachtal Weißbach\, Kelterstraße 28\, Weißbach (Württemberg)\, 74679\, Deutschland
GEO:49.3003665;9.5940342
X-APPLE-STRUCTURED-LOCATION;VALUE=URI;X-ADDRESS=Bürgerzentrum Langenbachtal Weißbach Kelterstraße 28 Weißbach (Württemberg) 74679 Deutschland;X-APPLE-RADIUS=500;X-TITLE=Kelterstraße 28:geo:9.5940342,49.3003665
END:VEVENT
BEGIN:VEVENT
DTSTART;TZID=Europe/Berlin:20230325T100000
DTEND;TZID=Europe/Berlin:20230325T130000
DTSTAMP:20260422T154723
CREATED:20230206T121649Z
LAST-MODIFIED:20230206T121650Z
UID:10005481-1679738400-1679749200@babyflohmaerkte.com
SUMMARY:DE 74679 Weißbach
DESCRIPTION:Wir bieten an:Baby-/Kinder- und Jugendkleidung (nach Größen sortiert) für Frühjar/Sommer\, sowie Kindersportkleidung\, Kinderschuhe\, Umstandskleidung\, Spielwaren\, Kinderwagen\, Kindersitze\, Kinderfahrzeuge\, Babyausstattung ……Für den kleinen Hunger ist gesorgt\, außerdem gibt es Waffeln\, Kaffee und Kuchen (gerne auch zum Mitnehmen).Einlass für Schwangere mit Mutterpass (+ eine Begleitperson) bereits ab 9:30 Uhr.Der Erlös kommt den Jugendgruppen des TSV und der Kirchengemeinde zu Gute.Wir freuen uns auf Sie !
URL:https://babyflohmaerkte.com/termin/de-74679-weissbach
LOCATION:Bürgerzentrum Langenbachtal Weißbach\, Kelterstraße 28\, Weißbach (Württemberg)\, 74679\, Deutschland
GEO:49.3003665;9.5940342
X-APPLE-STRUCTURED-LOCATION;VALUE=URI;X-ADDRESS=Bürgerzentrum Langenbachtal Weißbach Kelterstraße 28 Weißbach (Württemberg) 74679 Deutschland;X-APPLE-RADIUS=500;X-TITLE=Kelterstraße 28:geo:9.5940342,49.3003665
END:VEVENT
END:VCALENDAR