BEGIN:VCALENDAR
VERSION:2.0
PRODID:-//Babyflohmaerkte - ECPv6.15.20//NONSGML v1.0//EN
CALSCALE:GREGORIAN
METHOD:PUBLISH
X-ORIGINAL-URL:https://babyflohmaerkte.com
X-WR-CALDESC:Veranstaltungen für Babyflohmaerkte
REFRESH-INTERVAL;VALUE=DURATION:PT1H
X-Robots-Tag:noindex
X-PUBLISHED-TTL:PT1H
BEGIN:VTIMEZONE
TZID:Europe/Berlin
BEGIN:DAYLIGHT
TZOFFSETFROM:+0100
TZOFFSETTO:+0200
TZNAME:CEST
DTSTART:20220327T010000
END:DAYLIGHT
BEGIN:STANDARD
TZOFFSETFROM:+0200
TZOFFSETTO:+0100
TZNAME:CET
DTSTART:20221030T010000
END:STANDARD
BEGIN:DAYLIGHT
TZOFFSETFROM:+0100
TZOFFSETTO:+0200
TZNAME:CEST
DTSTART:20230326T010000
END:DAYLIGHT
BEGIN:STANDARD
TZOFFSETFROM:+0200
TZOFFSETTO:+0100
TZNAME:CET
DTSTART:20231029T010000
END:STANDARD
BEGIN:DAYLIGHT
TZOFFSETFROM:+0100
TZOFFSETTO:+0200
TZNAME:CEST
DTSTART:20240331T010000
END:DAYLIGHT
BEGIN:STANDARD
TZOFFSETFROM:+0200
TZOFFSETTO:+0100
TZNAME:CET
DTSTART:20241027T010000
END:STANDARD
BEGIN:DAYLIGHT
TZOFFSETFROM:+0100
TZOFFSETTO:+0200
TZNAME:CEST
DTSTART:20250330T010000
END:DAYLIGHT
BEGIN:STANDARD
TZOFFSETFROM:+0200
TZOFFSETTO:+0100
TZNAME:CET
DTSTART:20251026T010000
END:STANDARD
BEGIN:DAYLIGHT
TZOFFSETFROM:+0100
TZOFFSETTO:+0200
TZNAME:CEST
DTSTART:20260329T010000
END:DAYLIGHT
BEGIN:STANDARD
TZOFFSETFROM:+0200
TZOFFSETTO:+0100
TZNAME:CET
DTSTART:20261025T010000
END:STANDARD
END:VTIMEZONE
BEGIN:VEVENT
DTSTART;TZID=Europe/Berlin:20250323T100000
DTEND;TZID=Europe/Berlin:20250323T130000
DTSTAMP:20260425T143504
CREATED:20250216T154418Z
LAST-MODIFIED:20250216T154420Z
UID:10006236-1742724000-1742734800@babyflohmaerkte.com
SUMMARY:DE 26689 Apen
DESCRIPTION:👶 OBV Apen Kinderkleiderflohmarkt\n\n\n\n📍 Wo findet die Veranstaltung statt: Aula der Schule Apen\, Hauptstraße 201\, DE 26689 Apen \n\n\n\n📅 Wann: Sonntag\, den 23.03.2025⏰ Uhrzeit: 10:00 Uhr bis 13:00 Uhr \n\n\n\n🧸 Was wird verkauft: Alles rund ums Kind wie z.B. Kleidung\, Spielzeug\, Kinderfahrzeuge und vieles mehr!🍰 Leibliches Wohl: Cafeteria mit Kaffee und Kuchen \n\n\n\nℹ️ Weitere Informationen zur Veranstaltung: Eingang zur Aula über Hauptstraße 201 \n\n\n\n📢 Euren Kinderkleiderflohmarkt & eure Spielzeugbörse könnt ihr hier kostenlos bei uns anmelden: https://babyflohmaerkte.com/neuen-termin-anmelden \n\n\n\nAlle aufgeführten Kinderkleider-Flohmarkttermine sind bei uns angemeldet worden oder wir haben die Termine in verschiedenen Veröffentlichungen entdeckt. Bei allen Terminen gilt: Keine Gewähr auf tatsächliche Durchführung des Termins – kurzfristige Absagen der Veranstalter sind immer möglich und erreichen uns manchmal auch nicht.
URL:https://babyflohmaerkte.com/termin/de-26689-apen-2
LOCATION:Aula der Schule Apen\, Hauptstraße 201\, Apen\, 26689\, Deutschland
GEO:53.2190495;7.8058076
X-APPLE-STRUCTURED-LOCATION;VALUE=URI;X-ADDRESS=Aula der Schule Apen Hauptstraße 201 Apen 26689 Deutschland;X-APPLE-RADIUS=500;X-TITLE=Hauptstraße 201:geo:7.8058076,53.2190495
END:VEVENT
BEGIN:VEVENT
DTSTART;TZID=Europe/Berlin:20230319T130000
DTEND;TZID=Europe/Berlin:20230319T160000
DTSTAMP:20260425T143504
CREATED:20230306T230221Z
LAST-MODIFIED:20230306T230223Z
UID:10005517-1679230800-1679241600@babyflohmaerkte.com
SUMMARY:DE 26689 Apen
DESCRIPTION:OBV Kinderkleiderflohmarktin der Aula der Schule Apen\, Hauptstraße 201\, DE 26689 Apenam Sonntag\, den 19. März 2023von 13 bis 16 Uhr
URL:https://babyflohmaerkte.com/termin/de-26689-apen
LOCATION:Aula der Schule Apen\, Hauptstraße 201\, Apen\, 26689\, Deutschland
GEO:53.2190495;7.8058076
X-APPLE-STRUCTURED-LOCATION;VALUE=URI;X-ADDRESS=Aula der Schule Apen Hauptstraße 201 Apen 26689 Deutschland;X-APPLE-RADIUS=500;X-TITLE=Hauptstraße 201:geo:7.8058076,53.2190495
END:VEVENT
END:VCALENDAR