BEGIN:VCALENDAR
VERSION:2.0
PRODID:-//Babyflohmaerkte - ECPv6.15.20//NONSGML v1.0//EN
CALSCALE:GREGORIAN
METHOD:PUBLISH
X-WR-CALNAME:Babyflohmaerkte
X-ORIGINAL-URL:https://babyflohmaerkte.com
X-WR-CALDESC:Veranstaltungen für Babyflohmaerkte
REFRESH-INTERVAL;VALUE=DURATION:PT1H
X-Robots-Tag:noindex
X-PUBLISHED-TTL:PT1H
BEGIN:VTIMEZONE
TZID:Europe/Berlin
BEGIN:DAYLIGHT
TZOFFSETFROM:+0100
TZOFFSETTO:+0200
TZNAME:CEST
DTSTART:20230326T010000
END:DAYLIGHT
BEGIN:STANDARD
TZOFFSETFROM:+0200
TZOFFSETTO:+0100
TZNAME:CET
DTSTART:20231029T010000
END:STANDARD
BEGIN:DAYLIGHT
TZOFFSETFROM:+0100
TZOFFSETTO:+0200
TZNAME:CEST
DTSTART:20240331T010000
END:DAYLIGHT
BEGIN:STANDARD
TZOFFSETFROM:+0200
TZOFFSETTO:+0100
TZNAME:CET
DTSTART:20241027T010000
END:STANDARD
BEGIN:DAYLIGHT
TZOFFSETFROM:+0100
TZOFFSETTO:+0200
TZNAME:CEST
DTSTART:20250330T010000
END:DAYLIGHT
BEGIN:STANDARD
TZOFFSETFROM:+0200
TZOFFSETTO:+0100
TZNAME:CET
DTSTART:20251026T010000
END:STANDARD
END:VTIMEZONE
BEGIN:VEVENT
DTSTART;TZID=Europe/Berlin:20240301T170000
DTEND;TZID=Europe/Berlin:20240301T200000
DTSTAMP:20260422T203722
CREATED:20240120T125709Z
LAST-MODIFIED:20240121T125356Z
UID:10005668-1709312400-1709323200@babyflohmaerkte.com
SUMMARY:DE 71577 Großerlach
DESCRIPTION:EUF-Sortierter Kinderbasar Frühling/Sommer 2024Am 01.03.24 von 17-20.00Uhr und 02.03.24 von 9-13Uhr findet der sortierte Kindersachen Basar nach dem Motto ‚Einfach-unter-Freunden‘ ein weiteres Mal in der Schwalbenflughalle in der Wiesenstrasse 5 in 71577 Großerlach-Grab statt.Anmeldungen als Verkäufer und Ticketkauf für den exklusiven VIP-Zugang unter:www.einfach-unter-freunden.deEs werden Kinderkleidung für den Frühling/Sommer/Herbst in Gr. 56 – 176 angeboten\, alles rund um das Thema Schwangerschaft\, eine riesen Auswahl an Spielwaren\, Büchern und Ausstattung rund ums Kind angeboten. \n\n\n\nMit ein bisschen Glück können Sie jedoch auch Kinderwagen oder Tragen finden. Prinzipiell darf alles verkauft werden\, was zu einer normalen Kinderausstattung zählt. Daher ist ein Babybasar nicht nur für Eltern\, deren Kinder bereits auf der Welt sind\, einen Besuch wert\, sondern auch für werdende Eltern. Diese suchen oft nach einer preiswerten Erstausstattung. Sollten Sie gerade nach neuem Spielzeug für Ihre Kinder suchen oder benötigen Sie gerade ein größeres Laufrad oder Fahrrad? Auch dann kann der Kinderbasar ein guter Anlaufpunkt für Sie sein. \n\n\n\nSind Sie ein wenig skeptisch\, was den Zustand der angebotenen Kleidung betrifft\, so können Sie direkt wieder beruhigt aufatmen. Denn zu den Grundregeln eines Kinderflohmarkts zählt\, dass alle Kleidungsstücke gewaschen sein müssen\, sodass schon einmal hygienische Bedenken wegfallen. Ebenso darf die Kleidung nicht durch Löcher\, Flecken oder fehlendes Zubehör (z.bsp. Knöpfe) beschädigt sein. \n\n\n\nFür das leibliche Wohl ist gesorgt 🙂Ich hoffe auf 2 schöne Tage und freue mich über jeden Besucher\, Teilnehmer und Helfer 🌻😊 \n\n\n\nEC-Kartenzahlung ist möglich. \n\n\n\nBei Fragen kann man gerne jederzeit auf mich zukommen.Grüße 🌻Eure MichaelaAuf Facebook EinfachUnterFreundenOderAuf der Homepage www.einfach-unter-freunden.de
URL:https://babyflohmaerkte.com/termin/de-71577-grosserlach
LOCATION:Schwalbenflughalle Großerlach-Grab\, Wiesenstraße 5\, Großerlach-Grab\, 71577\, Deutschland
END:VEVENT
BEGIN:VEVENT
DTSTART;TZID=Europe/Berlin:20240301T183000
DTEND;TZID=Europe/Berlin:20240301T210000
DTSTAMP:20260422T203722
CREATED:20240131T112929Z
LAST-MODIFIED:20240131T112931Z
UID:10005679-1709317800-1709326800@babyflohmaerkte.com
SUMMARY:DE 63776 Mömbris
DESCRIPTION:Zum 15. Mal veranstaltet das Basarteam des Kindergartens „Sonnenschein“ aus Mömbris-Niedersteinbach einen sortierten Kinderkleiderbasar.Angeboten werden Frühjahrs- und Sommerkleidung in den Größen 50-182\, Badesachen\, Schuhe\, Spielwaren\, Bücher\, Fahrzeuge\, Möbel\, Babyausstattung u. v. m.Für werdende Mamas haben wir außerdem Umstandsmode im Programm.Die Bewerbung für Verkäufernummern läuft vom 17. Januar bis 3. Februar 2024 unter www.basarlino.de/5029. \n\n\n\nAm Freitagabend wir bis 20 Uhr eine Eintrittskarte (kostenlos) benötigt: https://ticket.basarlino.de/5029 \n\n\n\nAlle weiteren Infos für Käufer:innen und Verkäufer:innen sind auf der Internetseite des Kindergartens „Sonnenschein“ zu finden:http://www.kindergarten-niedersteinbach.de \n\n\n\nDas Basarteam freut sich schon jetzt auf das bunte Basartreiben und heißt alle Interessierten herzlich willkommen!
URL:https://babyflohmaerkte.com/termin/de-63776-moembris-7
LOCATION:Ivo-Zeiger-Haus\, Am Markt 6\, Mömbris\, 63776\, Deutschland
GEO:50.06862;9.16665
X-APPLE-STRUCTURED-LOCATION;VALUE=URI;X-ADDRESS=Ivo-Zeiger-Haus Am Markt 6 Mömbris 63776 Deutschland;X-APPLE-RADIUS=500;X-TITLE=Am Markt 6:geo:9.16665,50.06862
END:VEVENT
BEGIN:VEVENT
DTSTART;TZID=Europe/Berlin:20240302T090000
DTEND;TZID=Europe/Berlin:20240302T130000
DTSTAMP:20260422T203722
CREATED:20240121T125206Z
LAST-MODIFIED:20240121T125320Z
UID:10005669-1709370000-1709384400@babyflohmaerkte.com
SUMMARY:DE 71577 Großerlach
DESCRIPTION:EUF-Sortierter Kinderbasar Frühling/Sommer 2024Am 01.03.24 von 17-20.00Uhr und 02.03.24 von 9-13Uhr findet der sortierte Kindersachen Basar nach dem Motto ‚Einfach-unter-Freunden‘ ein weiteres Mal in der Schwalbenflughalle in der Wiesenstrasse 5 in 71577 Großerlach-Grab statt.Anmeldungen als Verkäufer und Ticketkauf für den exklusiven VIP-Zugang unter:www.einfach-unter-freunden.deEs werden Kinderkleidung für den Frühling/Sommer/Herbst in Gr. 56 – 176 angeboten\, alles rund um das Thema Schwangerschaft\, eine riesen Auswahl an Spielwaren\, Büchern und Ausstattung rund ums Kind angeboten. \n\n\n\nMit ein bisschen Glück können Sie jedoch auch Kinderwagen oder Tragen finden. Prinzipiell darf alles verkauft werden\, was zu einer normalen Kinderausstattung zählt. Daher ist ein Babybasar nicht nur für Eltern\, deren Kinder bereits auf der Welt sind\, einen Besuch wert\, sondern auch für werdende Eltern. Diese suchen oft nach einer preiswerten Erstausstattung. Sollten Sie gerade nach neuem Spielzeug für Ihre Kinder suchen oder benötigen Sie gerade ein größeres Laufrad oder Fahrrad? Auch dann kann der Kinderbasar ein guter Anlaufpunkt für Sie sein. \n\n\n\nSind Sie ein wenig skeptisch\, was den Zustand der angebotenen Kleidung betrifft\, so können Sie direkt wieder beruhigt aufatmen. Denn zu den Grundregeln eines Kinderflohmarkts zählt\, dass alle Kleidungsstücke gewaschen sein müssen\, sodass schon einmal hygienische Bedenken wegfallen. Ebenso darf die Kleidung nicht durch Löcher\, Flecken oder fehlendes Zubehör (z.bsp. Knöpfe) beschädigt sein. \n\n\n\nFür das leibliche Wohl ist gesorgt 🙂Ich hoffe auf 2 schöne Tage und freue mich über jeden Besucher\, Teilnehmer und Helfer 🌻😊 \n\n\n\nEC-Kartenzahlung ist möglich. \n\n\n\nBei Fragen kann man gerne jederzeit auf mich zukommen.Grüße 🌻Eure MichaelaAuf Facebook EinfachUnterFreundenOderAuf der Homepage www.einfach-unter-freunden.de
URL:https://babyflohmaerkte.com/termin/de-71577-grosserlach-2
LOCATION:Schwalbenflughalle Großerlach-Grab\, Wiesenstraße 5\, Großerlach-Grab\, 71577\, Deutschland
END:VEVENT
BEGIN:VEVENT
DTSTART;TZID=Europe/Berlin:20240302T093000
DTEND;TZID=Europe/Berlin:20240302T120000
DTSTAMP:20260422T203722
CREATED:20240201T182416Z
LAST-MODIFIED:20240201T182418Z
UID:10005680-1709371800-1709380800@babyflohmaerkte.com
SUMMARY:DE 63776 Mömbris
DESCRIPTION:Zum 15. Mal veranstaltet das Basarteam des Kindergartens „Sonnenschein“ aus Mömbris-Niedersteinbach einen sortierten Kinderkleiderbasar.Angeboten werden Frühjahrs- und Sommerkleidung in den Größen 50-182\, Badesachen\, Schuhe\, Spielwaren\, Bücher\, Fahrzeuge\, Möbel\, Babyausstattung u. v. m.Für werdende Mamas haben wir außerdem Umstandsmode im Programm.Die Bewerbung für Verkäufernummern läuft vom 17. Januar bis 3. Februar 2024 unter www.basarlino.de/5029. \n\n\n\nAm Freitagabend wir bis 20 Uhr eine Eintrittskarte (kostenlos) benötigt: https://ticket.basarlino.de/5029 \n\n\n\nAlle weiteren Infos für Käufer:innen und Verkäufer:innen sind auf der Internetseite des Kindergartens „Sonnenschein“ zu finden:http://www.kindergarten-niedersteinbach.de \n\n\n\nDas Basarteam freut sich schon jetzt auf das bunte Basartreiben und heißt alle Interessierten herzlich willkommen!
URL:https://babyflohmaerkte.com/termin/de-63776-moembris-8
LOCATION:Ivo-Zeiger-Haus\, Am Markt 6\, Mömbris\, 63776\, Deutschland
GEO:50.06862;9.16665
X-APPLE-STRUCTURED-LOCATION;VALUE=URI;X-ADDRESS=Ivo-Zeiger-Haus Am Markt 6 Mömbris 63776 Deutschland;X-APPLE-RADIUS=500;X-TITLE=Am Markt 6:geo:9.16665,50.06862
END:VEVENT
BEGIN:VEVENT
DTSTART;TZID=Europe/Berlin:20240302T100000
DTEND;TZID=Europe/Berlin:20240302T120000
DTSTAMP:20260422T203722
CREATED:20240130T114210Z
LAST-MODIFIED:20240130T114211Z
UID:10005677-1709373600-1709380800@babyflohmaerkte.com
SUMMARY:DE 26831 Bunde-Wymeer
DESCRIPTION:38. Kinderkleiderbörse in Wymeer \n\n\n\nEs wird in der sortierten Börse alles rund ums Kind\, Teenie und Schwangerschaft angeboten. \n\n\n\nVerkauf von Kaffee und Kuchen vor Ort
URL:https://babyflohmaerkte.com/termin/de-26831-bunde-wymeer-3
LOCATION:Gemeindehaus Wymeer\, Kirchstraße 1\, Bunde-Wymeer\, 26831\, Deutschland
GEO:53.1320367;7.2419319
X-APPLE-STRUCTURED-LOCATION;VALUE=URI;X-ADDRESS=Gemeindehaus Wymeer Kirchstraße 1 Bunde-Wymeer 26831 Deutschland;X-APPLE-RADIUS=500;X-TITLE=Kirchstraße 1:geo:7.2419319,53.1320367
END:VEVENT
BEGIN:VEVENT
DTSTART;TZID=Europe/Berlin:20240302T100000
DTEND;TZID=Europe/Berlin:20240302T120000
DTSTAMP:20260422T203722
CREATED:20240130T114553Z
LAST-MODIFIED:20240130T114555Z
UID:10005678-1709373600-1709380800@babyflohmaerkte.com
SUMMARY:DE 49740 Haselünne
DESCRIPTION:Anonyme Kleider- und Spielzeugbörseim Haus der BegegnungKrummer Dreh 21DE 49740 Haselünneam 2. März von 10 bis 12 Uhr(Einlass für Schwangere und Menschen mit Handicap mit einer Begleitperson ab 9:30 Uhr) \n\n\n\nVerkauft wird alles rund ums Kind– Frühlings- / Sommerbekleidung– Spielzeug– Baby- und Kinderzubehör– Frühling / Sommer \n\n\n\nAußerdem:– Umstandsmode– extra abgetrennter Bereich für Babykleidung und Zubehört (Kinderwagen\, Maxi Cos etc.)
URL:https://babyflohmaerkte.com/termin/de-49740-haseluenne
LOCATION:Haus der Begegnung Haselünne\, Krummer Dreh 21\, Haselünne\, 49740\, Deutschland
END:VEVENT
BEGIN:VEVENT
DTSTART;TZID=Europe/Berlin:20240302T100000
DTEND;TZID=Europe/Berlin:20240302T123000
DTSTAMP:20260422T203722
CREATED:20240112T202302Z
LAST-MODIFIED:20240112T202304Z
UID:10005662-1709373600-1709382600@babyflohmaerkte.com
SUMMARY:DE 65239 Hochheim am Main
DESCRIPTION:Einlass für Schwangere (nur mit Mutterpass & maximal einer Begleitung) ab 09.30 Uhr. Letzter allgemeiner Einlass um 12.00 UhrSortierter Abgabebasar für exklusive Kinderbekleidung für Frühjahr/Sommer (Gr. 44-188)\, Kinderschuhe und Babyausstattung. Verkauft wird nur Markenbekleidung wie DKNY\, Guess\, Jack Wolfskin\, Moncler\, Name It\, Tom Tailor\, jako-o\, Scotch & Soda\, Timberland\, Petit Bateau\, Sterntaler\, Sigikid\, Mexx\, Esprit etcVerkauf von Großteilen\, Spielwaren aller Art\, Medien\, Kinderfahrzeuge aller ArtInformationen zum Basar: https://familienzentrum-hochheim.de/basare/exklusivmarken-kinderkleider-basar/Start der Nummernvergabe: Samstag\, 10. Februar 2024\, 08.00 Uhr unter https://basarlino.de/4944Bonus für Helferinnen & Helfer: gestaffelte Verkaufs-Provision je nach Anzahl der Helferschichten!Kein Einlass mit Jacken\, Handtaschen & Rucksäcken größer als DINA5\, Buggy oder Kinderwagen! Leere\, große XXL-Einkaufstaschen sind okay! Bewachte Garderobe ist vorhanden.Cafeteria mit kalten & warmen Getränken\, Kuchen & Brezel
URL:https://babyflohmaerkte.com/termin/de-65239-hochheim-am-main-4
LOCATION:Georg-Hofmann-Sporthalle Hochheim am Main\, Massenheimer Landstraße 5-7\, Hochheim am Main\, 65239\, Deutschland
GEO:50.0186703;8.3592013
X-APPLE-STRUCTURED-LOCATION;VALUE=URI;X-ADDRESS=Georg-Hofmann-Sporthalle Hochheim am Main Massenheimer Landstraße 5-7 Hochheim am Main 65239 Deutschland;X-APPLE-RADIUS=500;X-TITLE=Massenheimer Landstraße 5-7:geo:8.3592013,50.0186703
END:VEVENT
BEGIN:VEVENT
DTSTART;TZID=Europe/Berlin:20240302T120000
DTEND;TZID=Europe/Berlin:20240302T160000
DTSTAMP:20260422T203722
CREATED:20231203T130303Z
LAST-MODIFIED:20231203T130305Z
UID:10005656-1709380800-1709395200@babyflohmaerkte.com
SUMMARY:DE 26831 Bunde
DESCRIPTION:Kleider- und Spielzeugbörse in Bundeam Samstag\, den 2. März 2023von 12 bis 16 Uhr (Einlass für Schwangere ab 11:30 Uhr) \n\n\n\nVerkauft werden: \n\n\n\n\nKinderspielzeug\n\n\n\nKinderfahrzeuge\n\n\n\nRund um Babyausstattung\n\n\n\ngut erhaltene Kleidung von Größe 50 bis 176 (XS-M)\n\n\n\nSchwangerschaftsbekleidung\n\n\n\n\nFür das leibliche Wohl ist mit Kaffe\, Kuchen und Bratwurst gesorgt. \n\n\n\nDer Erlös geht an die Bewohner von Open Dören
URL:https://babyflohmaerkte.com/termin/de-26831-bunde
LOCATION:Haus der Begegnung Bunde\, Kirchring 15\, Bunde\, 26831\, Deutschland
END:VEVENT
BEGIN:VEVENT
DTSTART;TZID=Europe/Berlin:20240302T140000
DTEND;TZID=Europe/Berlin:20240302T160000
DTSTAMP:20260422T203722
CREATED:20240219T125418Z
LAST-MODIFIED:20240219T125421Z
UID:10005693-1709388000-1709395200@babyflohmaerkte.com
SUMMARY:DE 49624 Löningen
DESCRIPTION:Kleider- und Spielzeugflohmarktin der Gutenberg Schule Löningen! \n\n\n\nAm Samstag\, den 02.03.2024 von 14:00 – 16:00 Uhr.Einlass für Schwangere ab 13:30 Uhr. \n\n\n\nFür Kaffee und Waffeln sorgen die Schüler*innen der Gutenbergschule!! \n\n\n\nWir freuen uns auf Ihren Besuch! \n\n\n\nLink: https://www.bildungswerk-loeningen.de/p/bildungswerk-loeningen/lebensgestaltung/kindersachenflohmarkt/-in-zusammenarbeit-mit-der-gutenbergschule-hauptschule-613-C-1466006
URL:https://babyflohmaerkte.com/termin/de-49624-loeningen-2
LOCATION:Gutenberg-Hauptschule Löningen\, Alter Postweg 7\, Löningen\, 49624\, Deutschland
GEO:52.74015;7.76015
X-APPLE-STRUCTURED-LOCATION;VALUE=URI;X-ADDRESS=Gutenberg-Hauptschule Löningen Alter Postweg 7 Löningen 49624 Deutschland;X-APPLE-RADIUS=500;X-TITLE=Alter Postweg 7:geo:7.76015,52.74015
END:VEVENT
BEGIN:VEVENT
DTSTART;TZID=Europe/Berlin:20240303T110000
DTEND;TZID=Europe/Berlin:20240303T150000
DTSTAMP:20260422T203722
CREATED:20231203T130834Z
LAST-MODIFIED:20231203T130835Z
UID:10005658-1709463600-1709478000@babyflohmaerkte.com
SUMMARY:DE 28215 Bremen
DESCRIPTION:piccoliono Secondhand-Markt in der Messehalle 5\, Bürgerweide
URL:https://babyflohmaerkte.com/termin/de-28215-bremen-3
LOCATION:Messe-Centrum Bremen\, Findorffstraße 101\, Bremen\, 28215\, Deutschland
GEO:53.0889429;8.8118102
X-APPLE-STRUCTURED-LOCATION;VALUE=URI;X-ADDRESS=Messe-Centrum Bremen Findorffstraße 101 Bremen 28215 Deutschland;X-APPLE-RADIUS=500;X-TITLE=Findorffstraße 101:geo:8.8118102,53.0889429
END:VEVENT
BEGIN:VEVENT
DTSTART;TZID=Europe/Berlin:20240303T113000
DTEND;TZID=Europe/Berlin:20240303T140000
DTSTAMP:20260422T203722
CREATED:20240130T113252Z
LAST-MODIFIED:20240130T113253Z
UID:10005673-1709465400-1709474400@babyflohmaerkte.com
SUMMARY:DE 26789 Leer-Logabirum
DESCRIPTION:Erste sortierte Kleider- und Spielzeugbörseam Sonntag\, den 3. März 2024von 11:30 bis 14 Uhrim Gemeindehaus Logabirum\, Logabirumer Straße 58\, DE 26789 Leer-LogabirumVerkauft werden– Umstandskleidung– Kleidung in den Größen von 56 bis 164– Baby- und Kinderausstattung– Kinderspielzeug– Kinderfahrzeuge– Bücher
URL:https://babyflohmaerkte.com/termin/de-26789-leer-logabirum
LOCATION:Gemeindehaus Logabirum\, Logabirumer Straße 58\, Leer-Logabirum\, 26789\, Deutschland
END:VEVENT
END:VCALENDAR