BEGIN:VCALENDAR
VERSION:2.0
PRODID:-//Babyflohmaerkte - ECPv6.15.20//NONSGML v1.0//EN
CALSCALE:GREGORIAN
METHOD:PUBLISH
X-ORIGINAL-URL:https://babyflohmaerkte.com
X-WR-CALDESC:Veranstaltungen für Babyflohmaerkte
REFRESH-INTERVAL;VALUE=DURATION:PT1H
X-Robots-Tag:noindex
X-PUBLISHED-TTL:PT1H
BEGIN:VTIMEZONE
TZID:Europe/Berlin
BEGIN:DAYLIGHT
TZOFFSETFROM:+0100
TZOFFSETTO:+0200
TZNAME:CEST
DTSTART:20230326T010000
END:DAYLIGHT
BEGIN:STANDARD
TZOFFSETFROM:+0200
TZOFFSETTO:+0100
TZNAME:CET
DTSTART:20231029T010000
END:STANDARD
BEGIN:DAYLIGHT
TZOFFSETFROM:+0100
TZOFFSETTO:+0200
TZNAME:CEST
DTSTART:20240331T010000
END:DAYLIGHT
BEGIN:STANDARD
TZOFFSETFROM:+0200
TZOFFSETTO:+0100
TZNAME:CET
DTSTART:20241027T010000
END:STANDARD
BEGIN:DAYLIGHT
TZOFFSETFROM:+0100
TZOFFSETTO:+0200
TZNAME:CEST
DTSTART:20250330T010000
END:DAYLIGHT
BEGIN:STANDARD
TZOFFSETFROM:+0200
TZOFFSETTO:+0100
TZNAME:CET
DTSTART:20251026T010000
END:STANDARD
END:VTIMEZONE
BEGIN:VEVENT
DTSTART;TZID=Europe/Berlin:20240223T130000
DTEND;TZID=Europe/Berlin:20240223T150000
DTSTAMP:20260422T222402
CREATED:20240218T194347Z
LAST-MODIFIED:20240218T194348Z
UID:10005692-1708693200-1708700400@babyflohmaerkte.com
SUMMARY:DE 25486 Alveslohe
DESCRIPTION:Kleider- und Spielzeugbörse im Bürgerhaus Alveslohe
URL:https://babyflohmaerkte.com/termin/de-25486-alveslohe
LOCATION:Bürgerhaus Alveslohe\, Am Bahnhof 1\, Alveslohe\, 25486\, Deutschland
END:VEVENT
BEGIN:VEVENT
DTSTART;TZID=Europe/Berlin:20240223T180000
DTEND;TZID=Europe/Berlin:20240223T203000
DTSTAMP:20260422T222402
CREATED:20231228T131548Z
LAST-MODIFIED:20231228T131721Z
UID:10005660-1708711200-1708720200@babyflohmaerkte.com
SUMMARY:DE 26624 Südbrookmerland
DESCRIPTION:Kleider- und Spielzeugbörseim Gemeindehaus Victorburam Freitag\, den 23. Februar 2024 von 18 bis 20:30 UhrEinlass für Schwangere + eine Begleitperson ab 17:30 Uhr
URL:https://babyflohmaerkte.com/termin/de-26624-suedbrookmerland
LOCATION:Gemeindehaus Victorbur\, Pestalozziallee 6\, Südbrookmerland\, 26624\, Deutschland
END:VEVENT
BEGIN:VEVENT
DTSTART;TZID=Europe/Berlin:20240224T103000
DTEND;TZID=Europe/Berlin:20240224T120000
DTSTAMP:20260422T222402
CREATED:20240129T185410Z
LAST-MODIFIED:20240129T185412Z
UID:10005671-1708770600-1708776000@babyflohmaerkte.com
SUMMARY:DE 49661 Cloppenburg
DESCRIPTION:Zweiter Kindersachenflohmarkt nach dem Kaufhaus-Modellam Samstag\, den 24. Februar 2024 von 10:30 bis 12 Uhr(Einlass für Schwangere mit Mutterpass ab 10 Uhr mit einer Begleitperson)in der Kindertagesstätte Weltentdecker in Cloppenburg.Für das leibliche Wohl ist gesorgt!
URL:https://babyflohmaerkte.com/termin/de-49661-cloppenburg-2
LOCATION:Kindertagesstätte Weltentdecker Cloppenburg\, Emsstraße 38\, Cloppenburg\, 49661\, Deutschland
END:VEVENT
BEGIN:VEVENT
DTSTART;TZID=Europe/Berlin:20240224T140000
DTEND;TZID=Europe/Berlin:20240224T160000
DTSTAMP:20260422T222402
CREATED:20240117T183412Z
LAST-MODIFIED:20240117T183711Z
UID:10005666-1708783200-1708790400@babyflohmaerkte.com
SUMMARY:DE 76829 Landau in der Pfalz
DESCRIPTION:Gut erhaltene Kinder- und Babybekleidung bis Größe 152 für Frühjahr und Sommer\, Spielsachen\, Babyausstattung\, Bücher\, Fahrzeuge u.v.m. \n\n\n\nWir freuen uns auf euren Besuch. Es lohnt sich! Für Kaffee und Kuchen ist ebenfalls gesorgt – auch zum Mitnehmen! \n\n\n\nEinlass für Schwangere bereits ab 13:30 Uhr. \n\n\n\nBitten beachten: Am Abgabetag ist leider KEIN Verkauf möglich.
URL:https://babyflohmaerkte.com/termin/de-76829-landau-in-der-pfalz-3
LOCATION:Dorfgemeinschaftshaus Kink´sche Mühle\, Godramsteiner Hauptstraße 58\, Landau in der Pfalz\, 76829\, Deutschland
END:VEVENT
BEGIN:VEVENT
DTSTART;TZID=Europe/Berlin:20240224T140000
DTEND;TZID=Europe/Berlin:20240224T160000
DTSTAMP:20260422T222402
CREATED:20240218T193950Z
LAST-MODIFIED:20240218T193952Z
UID:10005690-1708783200-1708790400@babyflohmaerkte.com
SUMMARY:DE 26892 Kluse-Ahlen
DESCRIPTION:Second-Hand-Börse in Ahlen-Steinbildam Samstag\, den 24.2.2024von 14 bis 16 Uhr (Einlass für Schwangere mit 1 Begleitperson bereits ab 13:30 Uhr)in der Sporthalle in Ahlen (Pollertstraße)Es gibt auch eine Cafeteria
URL:https://babyflohmaerkte.com/termin/de-26892-kluse-ahlen
LOCATION:Sporthalle Ahlen-Steinbild\, Pollertstraße 4\, Kluse-Ahlen\, 26892\, Deutschland
GEO:52.93742;7.33361
X-APPLE-STRUCTURED-LOCATION;VALUE=URI;X-ADDRESS=Sporthalle Ahlen-Steinbild Pollertstraße 4 Kluse-Ahlen 26892 Deutschland;X-APPLE-RADIUS=500;X-TITLE=Pollertstraße 4:geo:7.33361,52.93742
END:VEVENT
BEGIN:VEVENT
DTSTART;TZID=Europe/Berlin:20240225T130000
DTEND;TZID=Europe/Berlin:20240225T160000
DTSTAMP:20260422T222402
CREATED:20240218T194120Z
LAST-MODIFIED:20240218T194122Z
UID:10005691-1708866000-1708876800@babyflohmaerkte.com
SUMMARY:DE 28307 Bremen
DESCRIPTION:Flohmarkt für Kindersachen im Bürgerhaus Mahndorf\, Bremen
URL:https://babyflohmaerkte.com/termin/de-28307-bremen-10
LOCATION:Bürgerhaus Mahndorf\, Mahndorfer Bahnhof 10\, Bremen\, 28307\, Deutschland
GEO:53.0390297;8.9458058
X-APPLE-STRUCTURED-LOCATION;VALUE=URI;X-ADDRESS=Bürgerhaus Mahndorf Mahndorfer Bahnhof 10 Bremen 28307 Deutschland;X-APPLE-RADIUS=500;X-TITLE=Mahndorfer Bahnhof 10:geo:8.9458058,53.0390297
END:VEVENT
END:VCALENDAR