BEGIN:VCALENDAR
VERSION:2.0
PRODID:-//Babyflohmaerkte - ECPv6.15.20//NONSGML v1.0//EN
CALSCALE:GREGORIAN
METHOD:PUBLISH
X-WR-CALNAME:Babyflohmaerkte
X-ORIGINAL-URL:https://babyflohmaerkte.com
X-WR-CALDESC:Veranstaltungen für Babyflohmaerkte
REFRESH-INTERVAL;VALUE=DURATION:PT1H
X-Robots-Tag:noindex
X-PUBLISHED-TTL:PT1H
BEGIN:VTIMEZONE
TZID:Europe/Berlin
BEGIN:DAYLIGHT
TZOFFSETFROM:+0100
TZOFFSETTO:+0200
TZNAME:CEST
DTSTART:20220327T010000
END:DAYLIGHT
BEGIN:STANDARD
TZOFFSETFROM:+0200
TZOFFSETTO:+0100
TZNAME:CET
DTSTART:20221030T010000
END:STANDARD
BEGIN:DAYLIGHT
TZOFFSETFROM:+0100
TZOFFSETTO:+0200
TZNAME:CEST
DTSTART:20230326T010000
END:DAYLIGHT
BEGIN:STANDARD
TZOFFSETFROM:+0200
TZOFFSETTO:+0100
TZNAME:CET
DTSTART:20231029T010000
END:STANDARD
BEGIN:DAYLIGHT
TZOFFSETFROM:+0100
TZOFFSETTO:+0200
TZNAME:CEST
DTSTART:20240331T010000
END:DAYLIGHT
BEGIN:STANDARD
TZOFFSETFROM:+0200
TZOFFSETTO:+0100
TZNAME:CET
DTSTART:20241027T010000
END:STANDARD
END:VTIMEZONE
BEGIN:VEVENT
DTSTART;TZID=Europe/Berlin:20231103T190000
DTEND;TZID=Europe/Berlin:20231103T210000
DTSTAMP:20260421T192931
CREATED:20231003T133515Z
LAST-MODIFIED:20231003T133605Z
UID:10005622-1699038000-1699045200@babyflohmaerkte.com
SUMMARY:DE 49681 Garrel
DESCRIPTION:Zweiter Late Night Flohmarktam Freitag den 3. November 2023von 19 bis 21 Uhrin der Kita St. Peter und PaulSt. Johannes Straße 6DE 49681 GarrelVerkauf von gebrauchtem Spielzeug\, diversem Babyzubehör.Keine Kleidung!Eintritt 3 Euro inklusive Sektempfang und Canapes
URL:https://babyflohmaerkte.com/termin/de-49681-garrel-2
LOCATION:Kita St. Peter und Paul\, St. Johannes Straße 6\, Garrel\, 49681\, Deutschland
END:VEVENT
BEGIN:VEVENT
DTSTART;TZID=Europe/Berlin:20231103T203000
DTEND;TZID=Europe/Berlin:20231103T220000
DTSTAMP:20260421T192931
CREATED:20231003T134119Z
LAST-MODIFIED:20231003T134120Z
UID:10005624-1699043400-1699048800@babyflohmaerkte.com
SUMMARY:DE 26169 Friesoythe
DESCRIPTION:Abendflohmarkt – 41. Kindersachenflohmarktam Freitag\, 3. November 2023von 20:30 bis 22 Uhr (letzter Einlass um 21:30 Uhr)für Schwangere: Einlass ab ca. 20 Uhrin der Realschule Friesoythe\,Dr. Niermannstraße 10Hier können Sie die Gelegenheit nutzen\, günstig „Gebrauchtes“ neu zu erwerben. Verkauft werden alle Sachen rund ums Kind (Kinderbekleidung Herbst/Winter)\, Spielzeug aller Art\, Bücher\, Autositze\, Kinderfahrzeuge\, Hochstühle\, Kinderwagen\, Umstandsmode usw.).
URL:https://babyflohmaerkte.com/termin/de-26169-friesoythe
LOCATION:Aula der Realschule Friesoythe\, Dr.-Niermann-Straße 10\, Friesoythe\, 26169\, Deutschland
GEO:53.02634;7.85142
X-APPLE-STRUCTURED-LOCATION;VALUE=URI;X-ADDRESS=Aula der Realschule Friesoythe Dr.-Niermann-Straße 10 Friesoythe 26169 Deutschland;X-APPLE-RADIUS=500;X-TITLE=Dr.-Niermann-Straße 10:geo:7.85142,53.02634
END:VEVENT
BEGIN:VEVENT
DTSTART;TZID=Europe/Berlin:20231104T100000
DTEND;TZID=Europe/Berlin:20231104T120000
DTSTAMP:20260421T192931
CREATED:20231003T140233Z
LAST-MODIFIED:20231003T140235Z
UID:10005634-1699092000-1699099200@babyflohmaerkte.com
SUMMARY:DE 26847 Detern
DESCRIPTION:Kinderkleider- und Spielzeugbörseam Samstag\, den 4. November 2023von 10 bis 12 Uhrim Haus der Gemeinschaft\, Friedhofstraße 6\, DE 26847 Detern
URL:https://babyflohmaerkte.com/termin/de-26847-detern
LOCATION:Haus der Gemeinschaft Detern\, Friedhofstraße 6\, Detern\, 26847\, Deutschland
END:VEVENT
BEGIN:VEVENT
DTSTART;TZID=Europe/Berlin:20231104T130000
DTEND;TZID=Europe/Berlin:20231104T153000
DTSTAMP:20260421T192931
CREATED:20230902T043119Z
LAST-MODIFIED:20230902T043121Z
UID:10005613-1699102800-1699111800@babyflohmaerkte.com
SUMMARY:DE 67281 Kirchheim an der Weinstraße
DESCRIPTION:Jetzt schon an Weihnachten denken. Tolle Spielsachen\, Bücher\, Kinderfahrzeuge und vieles mehr. Wir sind ein Kommissionsflohmarkt\, bei dem die Verkaufsgebühr 4\,00 Euro und 10% des Verkaufserlöses beträgt. Die Vergabe der Kommissionsnummer und weitere Infos gibt es per Email: foerderverein-kita-kirchheim@gmx.de
URL:https://babyflohmaerkte.com/termin/de-67281-kirchheim-an-der-weinstrasse-5
LOCATION:Turnhalle Kirchheim an der Weinstraße\, Bahnhofstraße 1\, Kirchheim an der Weinstraße\, 67281\, Deutschland
GEO:49.5370963;8.1823697
X-APPLE-STRUCTURED-LOCATION;VALUE=URI;X-ADDRESS=Turnhalle Kirchheim an der Weinstraße Bahnhofstraße 1 Kirchheim an der Weinstraße 67281 Deutschland;X-APPLE-RADIUS=500;X-TITLE=Bahnhofstraße 1:geo:8.1823697,49.5370963
END:VEVENT
BEGIN:VEVENT
DTSTART;TZID=Europe/Berlin:20231104T140000
DTEND;TZID=Europe/Berlin:20231104T160000
DTSTAMP:20260421T192931
CREATED:20231003T135347Z
LAST-MODIFIED:20231003T135349Z
UID:10005630-1699106400-1699113600@babyflohmaerkte.com
SUMMARY:DE 26441 Jever
DESCRIPTION:Kinder-Flohmarktin der EKO Jeveram Samstag\, 4. November 2023von 14 bis 16 Uhr
URL:https://babyflohmaerkte.com/termin/de-26441-jever-3
LOCATION:EKO Elisa-Kauffeld-Oberschule Jever\, Schulstraße 7\, Jever\, 26441\, Deutschland
END:VEVENT
BEGIN:VEVENT
DTSTART;TZID=Europe/Berlin:20231105T100000
DTEND;TZID=Europe/Berlin:20231105T130000
DTSTAMP:20260421T192931
CREATED:20231028T102812Z
LAST-MODIFIED:20231028T102815Z
UID:10005654-1699178400-1699189200@babyflohmaerkte.com
SUMMARY:DE 74081 Heilbronn
DESCRIPTION:Kinderflohmarkt am 5.11.2023 – Spaß und Schnäppchen für die Kleinen! \n\n\n\nEs wird ein aufregender Tag voller Spaß\, Spiel und natürlich tollen Schnäppchen für die Kleinen. \n\n\n\nDer Kinderflohmarkt bietet eine großartige Gelegenheit Spielsachen\, Bücher\, Kleidung und andere Gegenstände zu günstigen Preisen zu kaufen. \n\n\n\nWir hoffen\, dass ihr zahlreich erscheint und diesen Tag mit uns gemeinsam zu einem unvergesslichen Erlebnis macht! \n\n\n\nLink mit weiteren Informationen: https://www.instagram.com/weiberkram_kinderkram_hn/
URL:https://babyflohmaerkte.com/termin/de-74081-heilbronn
LOCATION:Städtische Kindertagesstätte Anne Frank\, Robert-Bosch-Straße 6\, Heilbronn\, 74081\, Deutschland
END:VEVENT
BEGIN:VEVENT
DTSTART;TZID=Europe/Berlin:20231105T110000
DTEND;TZID=Europe/Berlin:20231105T140000
DTSTAMP:20260421T192931
CREATED:20230801T173107Z
LAST-MODIFIED:20230801T173110Z
UID:10005598-1699182000-1699192800@babyflohmaerkte.com
SUMMARY:DE 38300 Wolfenbüttel
DESCRIPTION:Kiddy Markt – Second-Hand-Markt rund ums Kind \n\n\n\nEintritt: 3\,00 Euro pro Person(Kinder bis 17 Jahre frei) \n\n\n\nBeim größten Hallenflohmarkt dieser Art in der Region werden Spielzeug\, Kleidung\, Kinderbücher\, Babyartikel und vieles mehr rund ums Kind in großer Auswahl angeboten! \n\n\n\nFür Verkäufer ist eine Anmeldung erforderlich.Wer einen Verkaufstisch buchen möchte findet weitere Informationen im Internet unterwww.nhvs-events.de
URL:https://babyflohmaerkte.com/termin/de-38300-wolfenbuettel-2
LOCATION:Lindenhalle Wolfenbüttel\, Halberstädter Straße 1A\, Wolfenbüttel\, 38300\, Deutschland
END:VEVENT
BEGIN:VEVENT
DTSTART;TZID=Europe/Berlin:20231105T130000
DTEND;TZID=Europe/Berlin:20231105T150000
DTSTAMP:20260421T192931
CREATED:20231003T143210Z
LAST-MODIFIED:20231003T143212Z
UID:10005648-1699189200-1699196400@babyflohmaerkte.com
SUMMARY:DE 48480 Lünne
DESCRIPTION:Sortierte Kinderkleider- und Spielzeugbörse in Lünneam Sonntag\, den 5. November 2023 von 13 bis 15 Uhrin der Grundschule LünneVerkauft werden Baby- und Kinderbekleidung bis Größe 182\, Spielzeug\, CDs\, DVDs\, Tonies\, Kinderfahrzeuge\, Computerspiele\, Kinderbücher\, Babyzubehör\, Kinderwagen etc.
URL:https://babyflohmaerkte.com/termin/de-48480-luenne-2
LOCATION:Grundschule Lünne\, Heinrich-Schulte-Straße 4\, Lünne\, 48480\, Deutschland
END:VEVENT
BEGIN:VEVENT
DTSTART;TZID=Europe/Berlin:20231105T140000
DTEND;TZID=Europe/Berlin:20231105T163000
DTSTAMP:20260421T192931
CREATED:20231003T135110Z
LAST-MODIFIED:20231003T135112Z
UID:10005628-1699192800-1699201800@babyflohmaerkte.com
SUMMARY:DE 26349 Jade
DESCRIPTION:Familienflohmarkt MentziSchlender\, Stöbern und Entdecken für die ganze Familie bei selbstgebackenem Kuchen\, Waffeln und Pommes (auch zum Mitnehmen)am Sonntag\, den 5. November 2023 von 14 bis 16:30 Uhrin der Turnhalle Mentzhausen\, Schulhelmers 18 \, DE 26349 Jade
URL:https://babyflohmaerkte.com/termin/de-26349-jade
LOCATION:Turnhalle Mentzhausen\, Schulhelmer 18\, Jade\, 26349\, Deutschland
END:VEVENT
END:VCALENDAR