BEGIN:VCALENDAR
VERSION:2.0
PRODID:-//Babyflohmaerkte - ECPv6.15.20//NONSGML v1.0//EN
CALSCALE:GREGORIAN
METHOD:PUBLISH
X-ORIGINAL-URL:https://babyflohmaerkte.com
X-WR-CALDESC:Veranstaltungen für Babyflohmaerkte
REFRESH-INTERVAL;VALUE=DURATION:PT1H
X-Robots-Tag:noindex
X-PUBLISHED-TTL:PT1H
BEGIN:VTIMEZONE
TZID:Europe/Berlin
BEGIN:DAYLIGHT
TZOFFSETFROM:+0100
TZOFFSETTO:+0200
TZNAME:CEST
DTSTART:20220327T010000
END:DAYLIGHT
BEGIN:STANDARD
TZOFFSETFROM:+0200
TZOFFSETTO:+0100
TZNAME:CET
DTSTART:20221030T010000
END:STANDARD
BEGIN:DAYLIGHT
TZOFFSETFROM:+0100
TZOFFSETTO:+0200
TZNAME:CEST
DTSTART:20230326T010000
END:DAYLIGHT
BEGIN:STANDARD
TZOFFSETFROM:+0200
TZOFFSETTO:+0100
TZNAME:CET
DTSTART:20231029T010000
END:STANDARD
BEGIN:DAYLIGHT
TZOFFSETFROM:+0100
TZOFFSETTO:+0200
TZNAME:CEST
DTSTART:20240331T010000
END:DAYLIGHT
BEGIN:STANDARD
TZOFFSETFROM:+0200
TZOFFSETTO:+0100
TZNAME:CET
DTSTART:20241027T010000
END:STANDARD
END:VTIMEZONE
BEGIN:VEVENT
DTSTART;TZID=Europe/Berlin:20231020T183000
DTEND;TZID=Europe/Berlin:20231020T210000
DTSTAMP:20260425T195214
CREATED:20230827T180405Z
LAST-MODIFIED:20230827T180407Z
UID:10005606-1697826600-1697835600@babyflohmaerkte.com
SUMMARY:DE 75394 Oberreichenbach
DESCRIPTION:28. Oberkollbacher Kindersachen-Basar \n\n\n\nDer Verkauf im Dorfgemeinschaftshaus startet ab 18:30 Uhr \, für Schwangere schon ab 18:00 Uhr. Angeboten werden Baby\,- und Kinderkleider\, Schwangerschaftsmode\, Schuhe\, Spielsachen\, Bücher\, Kinderwagen\, Autositze\,…. also alles rund um Schwangerschaft\, Baby und Kind. Bis 21:00 Uhr besteht die Möglichkeit gemütlich einzukaufen und an der Bar das ein oder andere alkoholische oder nicht alkoholische Getränk sowie Snacks zu genießen. Der Verkaufserlös wird wie bei jedem Basar an eine Kinder- oder Jugendgruppe in der Gemeinde gespendet.Wer verkaufen möchte\, kann sich am Montag\, 18.09.23 ab 07:00 Uhr ausschließlich per Mail an oberkollbacher-kindersachen-basar@gmx.de anmelden .Bitte Name\, Adresse\, Verkäufernummer (soweit vorhanden) und Etikettenanzahl (max. 100 Stück) angeben. Der Eingang der Mails wird berücksichtigt. Die Anmeldegebühr beträgt 3\,00 Euro und 15% des Verkaufserlös werden von uns einbehalten und gespendet.
URL:https://babyflohmaerkte.com/termin/de-75394-oberreichenbach
LOCATION:Dorfgemeinschaftshaus Oberkollbach\, Alte Badstraße 90\, Oberreichenbach\, 75394\, Deutschland
END:VEVENT
BEGIN:VEVENT
DTSTART;TZID=Europe/Berlin:20231021T100000
DTEND;TZID=Europe/Berlin:20231021T130000
DTSTAMP:20260425T195214
CREATED:20231003T141309Z
LAST-MODIFIED:20231003T141311Z
UID:10005639-1697882400-1697893200@babyflohmaerkte.com
SUMMARY:DE 26683 Saterland-Ramsloh
DESCRIPTION:Großer Kinderkleider- und Spielzeugflohmarktam Samstag\, den 21. Oktober 2023von 10 bis 13 Uhrmit Kaffee\, Waffeln und Kuchenbuffetin der Kindertagesstätte Seelterfoakse in Saterland-Ramsloh
URL:https://babyflohmaerkte.com/termin/de-26683-saterland-ramsloh
LOCATION:Kindergarten Seelterfoakse Saterland\, Möhlenschleede 41\, Saterland-Ramsloh\, 26683\, Deutschland
END:VEVENT
END:VCALENDAR