BEGIN:VCALENDAR
VERSION:2.0
PRODID:-//Babyflohmaerkte - ECPv6.15.20//NONSGML v1.0//EN
CALSCALE:GREGORIAN
METHOD:PUBLISH
X-WR-CALNAME:Babyflohmaerkte
X-ORIGINAL-URL:https://babyflohmaerkte.com
X-WR-CALDESC:Veranstaltungen für Babyflohmaerkte
REFRESH-INTERVAL;VALUE=DURATION:PT1H
X-Robots-Tag:noindex
X-PUBLISHED-TTL:PT1H
BEGIN:VTIMEZONE
TZID:Europe/Berlin
BEGIN:DAYLIGHT
TZOFFSETFROM:+0100
TZOFFSETTO:+0200
TZNAME:CEST
DTSTART:20220327T010000
END:DAYLIGHT
BEGIN:STANDARD
TZOFFSETFROM:+0200
TZOFFSETTO:+0100
TZNAME:CET
DTSTART:20221030T010000
END:STANDARD
BEGIN:DAYLIGHT
TZOFFSETFROM:+0100
TZOFFSETTO:+0200
TZNAME:CEST
DTSTART:20230326T010000
END:DAYLIGHT
BEGIN:STANDARD
TZOFFSETFROM:+0200
TZOFFSETTO:+0100
TZNAME:CET
DTSTART:20231029T010000
END:STANDARD
BEGIN:DAYLIGHT
TZOFFSETFROM:+0100
TZOFFSETTO:+0200
TZNAME:CEST
DTSTART:20240331T010000
END:DAYLIGHT
BEGIN:STANDARD
TZOFFSETFROM:+0200
TZOFFSETTO:+0100
TZNAME:CET
DTSTART:20241027T010000
END:STANDARD
END:VTIMEZONE
BEGIN:VEVENT
DTSTART;TZID=Europe/Berlin:20230908T150000
DTEND;TZID=Europe/Berlin:20230908T180000
DTSTAMP:20260425T182413
CREATED:20230827T175524Z
LAST-MODIFIED:20230827T175526Z
UID:10005605-1694185200-1694196000@babyflohmaerkte.com
SUMMARY:DE 65795 Hattersheim
DESCRIPTION:Der Familientreff Grünes Haus am Weiher in Hattersheim richtet am FREITAG den 08.09.2023 von 15 – 18 Uhr einen Sommerbasar aus.Verkauft werden kann alles rund ums Kind. Babykleidung\, Kinder- & Teenagerkleidung\, Spielzeug und Kinderfahrzeuge\, sowie Transportmittel (Fahrräder\, Sitze\, Anhänger\, Bollerwagen usw.)\, Schwangerschaftskleidung\,Stillbedarf etc. \n\n\n\nDer Aufbau beginnt um 14 Uhr \n\n\n\nStand 6€ & Kuchen oder 10 € (bitte bei der Anmeldung angeben) \n\n\n\nTische müssen mitgebracht werden \n\n\n\nAnmeldung ist sehr erwünscht\, aber nicht zwingend notwendig. \n\n\n\nEmail an: Veranstaltungen.gruenes-haus-hattersheim@web.de \n\n\n\noder 01623305055 \n\n\n\nfacebook: https://m.facebook.com/p/Familientreff-Grünes-Haus-Hattersheim-100066949402652/ \n\n\n\nwww.gruenes-haus-hattersheim.de
URL:https://babyflohmaerkte.com/termin/de-65795-hattersheim
LOCATION:Familientreff Grünes Haus am Weiher in Hattersheim\, Untergärtenweg 1\, Hattersheim\, 65795\, Deutschland
END:VEVENT
BEGIN:VEVENT
DTSTART;TZID=Europe/Berlin:20230909T093000
DTEND;TZID=Europe/Berlin:20230909T123000
DTSTAMP:20260425T182413
CREATED:20230801T112312Z
LAST-MODIFIED:20230801T112315Z
UID:10005597-1694251800-1694262600@babyflohmaerkte.com
SUMMARY:DE 25469 Halstenbek
DESCRIPTION:Kinderflohmarkt für Privatanbieter – Alles rund ums KindDie Standmiete beträgt 10 € und eine Kuchenspende\, am liebsten selbstgebacken\, für unsere Cafeteria. Der Erlös aus den Standmieten und der Caféteria gehen zu 100% an den Förderverein der Kita Bickbargen und somit an die Kinder. \n\n\n\nBei trockenem Wetter findet der Flohmarkt auf dem Außengelände der Kita statt (ca. 30 Stände). Bei anhaltendem Regen wird der Flohmarkt in die Räumlichkeiten der Kita verlegt (ca. 20 Stände) \n\n\n\nKinder können auf dem Außengelände spielen. \n\n\n\nAnmeldungen ab sofort unter 0159 – 01622814.Wir freuen uns auf Euren Besuch.
URL:https://babyflohmaerkte.com/termin/de-25469-halstenbek-3
LOCATION:KiTa Bickbargen\, Bickbargen 124\, Halstenbek\, 25469\, Deutschland
GEO:53.61755;9.86585
X-APPLE-STRUCTURED-LOCATION;VALUE=URI;X-ADDRESS=KiTa Bickbargen Bickbargen 124 Halstenbek 25469 Deutschland;X-APPLE-RADIUS=500;X-TITLE=Bickbargen 124:geo:9.86585,53.61755
END:VEVENT
BEGIN:VEVENT
DTSTART;TZID=Europe/Berlin:20230910T110000
DTEND;TZID=Europe/Berlin:20230910T150000
DTSTAMP:20260425T182413
CREATED:20230726T101333Z
LAST-MODIFIED:20230726T101335Z
UID:10005591-1694343600-1694358000@babyflohmaerkte.com
SUMMARY:DE 28307 Bremen
DESCRIPTION:Piratini-Markt Rund ums Kindim Weserpark\, Hans-Bredow-Straße 19 in Bremen
URL:https://babyflohmaerkte.com/termin/de-28307-bremen-8
LOCATION:Weserpark Bremen\, Hans-Bredow-Straße 19\, Bremen\, 28307\, Deutschland
GEO:53.0487283;8.9553549
X-APPLE-STRUCTURED-LOCATION;VALUE=URI;X-ADDRESS=Weserpark Bremen Hans-Bredow-Straße 19 Bremen 28307 Deutschland;X-APPLE-RADIUS=500;X-TITLE=Hans-Bredow-Straße 19:geo:8.9553549,53.0487283
END:VEVENT
END:VCALENDAR