BEGIN:VCALENDAR
VERSION:2.0
PRODID:-//Babyflohmaerkte - ECPv6.15.20//NONSGML v1.0//EN
CALSCALE:GREGORIAN
METHOD:PUBLISH
X-WR-CALNAME:Babyflohmaerkte
X-ORIGINAL-URL:https://babyflohmaerkte.com
X-WR-CALDESC:Veranstaltungen für Babyflohmaerkte
REFRESH-INTERVAL;VALUE=DURATION:PT1H
X-Robots-Tag:noindex
X-PUBLISHED-TTL:PT1H
BEGIN:VTIMEZONE
TZID:Europe/Berlin
BEGIN:DAYLIGHT
TZOFFSETFROM:+0100
TZOFFSETTO:+0200
TZNAME:CEST
DTSTART:20250330T010000
END:DAYLIGHT
BEGIN:STANDARD
TZOFFSETFROM:+0200
TZOFFSETTO:+0100
TZNAME:CET
DTSTART:20251026T010000
END:STANDARD
BEGIN:DAYLIGHT
TZOFFSETFROM:+0100
TZOFFSETTO:+0200
TZNAME:CEST
DTSTART:20260329T010000
END:DAYLIGHT
BEGIN:STANDARD
TZOFFSETFROM:+0200
TZOFFSETTO:+0100
TZNAME:CET
DTSTART:20261025T010000
END:STANDARD
BEGIN:DAYLIGHT
TZOFFSETFROM:+0100
TZOFFSETTO:+0200
TZNAME:CEST
DTSTART:20270328T010000
END:DAYLIGHT
BEGIN:STANDARD
TZOFFSETFROM:+0200
TZOFFSETTO:+0100
TZNAME:CET
DTSTART:20271031T010000
END:STANDARD
END:VTIMEZONE
BEGIN:VEVENT
DTSTART;TZID=Europe/Berlin:20260425T110000
DTEND;TZID=Europe/Berlin:20260425T130000
DTSTAMP:20260422T125017
CREATED:20260106T181531Z
LAST-MODIFIED:20260106T181532Z
UID:10006366-1777114800-1777122000@babyflohmaerkte.com
SUMMARY:DE 74177 Bad Friedrichshall
DESCRIPTION:👶 Kinderflohmarkt in Musterstadt\n\n\n\n📍 Wo findet die Veranstaltung statt: xxx \n\n\n\n📅 Wann: 25.04.2026⏰ Uhrzeit: 11:00 Uhr bis 13:00 Uhr \n\n\n\n🧸 Was wird verkauft: Die katholische Kirchengemeinde St. Barbara\, Bad Friedrichshall läd herzlich ein zum Basar im kath. Gemeindehaus in 74177 Bad Friedrichshall\, Tulpenweg. Bei einer Tasse Kaffee und leckerem Kuchen lässt es sich am Samstag den 25.04.2026\, von 11:00 Uhr bis 13:00 Uhr entspannt stöbern.🍰 Leibliches Wohl: Kaffee\, Kuchen\, Wasser\, A-Schorle \n\n\n\n📢 Euren Kinderkleiderflohmarkt & eure Spielzeugbörse könnt ihr hier kostenlos bei uns anmelden: https://babyflohmaerkte.com/neuen-termin-anmelden \n\n\n\nAlle aufgeführten Kinderkleider-Flohmarkttermine sind bei uns angemeldet worden oder wir haben die Termine in verschiedenen Veröffentlichungen entdeckt. Bei allen Terminen gilt: Keine Gewähr auf tatsächliche Durchführung des Termins – kurzfristige Absagen der Veranstalter sind immer möglich und erreichen uns manchmal auch nicht.
URL:https://babyflohmaerkte.com/termin/de-74177-bad-friedrichshall-9
LOCATION:Katholisches Gemeindehaus Sankt Barbara\, Tulpenweg 13\, Bad Friedrichshall\, 74177\, Deutschland
END:VEVENT
END:VCALENDAR