BEGIN:VCALENDAR
VERSION:2.0
PRODID:-//Babyflohmaerkte - ECPv6.15.20//NONSGML v1.0//EN
CALSCALE:GREGORIAN
METHOD:PUBLISH
X-WR-CALNAME:Babyflohmaerkte
X-ORIGINAL-URL:https://babyflohmaerkte.com
X-WR-CALDESC:Veranstaltungen für Babyflohmaerkte
REFRESH-INTERVAL;VALUE=DURATION:PT1H
X-Robots-Tag:noindex
X-PUBLISHED-TTL:PT1H
BEGIN:VTIMEZONE
TZID:Europe/Berlin
BEGIN:DAYLIGHT
TZOFFSETFROM:+0100
TZOFFSETTO:+0200
TZNAME:CEST
DTSTART:20250330T010000
END:DAYLIGHT
BEGIN:STANDARD
TZOFFSETFROM:+0200
TZOFFSETTO:+0100
TZNAME:CET
DTSTART:20251026T010000
END:STANDARD
BEGIN:DAYLIGHT
TZOFFSETFROM:+0100
TZOFFSETTO:+0200
TZNAME:CEST
DTSTART:20260329T010000
END:DAYLIGHT
BEGIN:STANDARD
TZOFFSETFROM:+0200
TZOFFSETTO:+0100
TZNAME:CET
DTSTART:20261025T010000
END:STANDARD
BEGIN:DAYLIGHT
TZOFFSETFROM:+0100
TZOFFSETTO:+0200
TZNAME:CEST
DTSTART:20270328T010000
END:DAYLIGHT
BEGIN:STANDARD
TZOFFSETFROM:+0200
TZOFFSETTO:+0100
TZNAME:CET
DTSTART:20271031T010000
END:STANDARD
END:VTIMEZONE
BEGIN:VEVENT
DTSTART;TZID=Europe/Berlin:20260321T090000
DTEND;TZID=Europe/Berlin:20260321T130000
DTSTAMP:20260422T113549
CREATED:20260310T195006Z
LAST-MODIFIED:20260310T195008Z
UID:10006390-1774083600-1774098000@babyflohmaerkte.com
SUMMARY:DE 53111 Bonn
DESCRIPTION:👶 Kinderflohmarkt im Familienzentrum „Kleiner Lukas“ in Bonn\n\n\n\n📍 Wo findet die Veranstaltung statt: Lukas-Gemeindehaus\, Kaiser-Karl-Ring 25a\, DE 53111 Bonn \n\n\n\n📅 Wann: Samstag\, den 21.03.2026⏰ Uhrzeit: 9:00 Uhr bis 13:00 Uhr \n\n\n\n🧸 Was wird verkauft: Geboten wird alles rund um Kinder und Schwangerschaft – von Kleidung über Spielzeug bis hin zu Kinderwagen\, Tragen und Schwangerschaftsmode.🍰 Leibliches Wohl: Die Eltern der Kita „Kleiner Lukas“ bieten den Besucherinnen und Besuchern süße und herzhafte Speisen an: von Kuchen über belegte Brötchen bis Suppe. \n\n\n\nℹ️ Weitere Informationen zur Veranstaltung: Der Flohmarkt hat eine ganz besondere freundlich-offene Atmosphäre und lädt nicht nur zum Shoppen\, sondern auch zum entspannten Austausch und Kennenlernen von Familien im Viertel sowie in der Kita Kleiner Lukas ein. \n\n\n\nDie Erlöse aus den Standgebühren sowie aus dem Speisen- und Getränkeverkauf kommen dem Förderverein „Der Kleine Lukas e.V.“ zugute und unterstützen damit direkt die Arbeit des Familienzentrums.💶 Eintritt: kostenlos \n\n\n\n👉 Webseite mit weiteren Informationen: https://www.lukaskirche-bonn.de/gemeindeleben/familienzentrum-und-kita/familienzentrum/ \n\n\n\n📢 Euren Kinderkleiderflohmarkt & eure Spielzeugbörse könnt ihr hier kostenlos bei uns anmelden: https://babyflohmaerkte.com/neuen-termin-anmelden \n\n\n\nAlle aufgeführten Kinderkleider-Flohmarkttermine sind bei uns angemeldet worden oder wir haben die Termine in verschiedenen Veröffentlichungen entdeckt. Bei allen Terminen gilt: Keine Gewähr auf tatsächliche Durchführung des Termins – kurzfristige Absagen der Veranstalter sind immer möglich und erreichen uns manchmal auch nicht.
URL:https://babyflohmaerkte.com/termin/de-53111-bonn-3
LOCATION:Gemeindezentrum der Lukaskirchengemeinde\, Kaiser-Karl-Ring 25a\, Bonn\, 53111\, Deutschland
GEO:50.7446802;7.0915485
X-APPLE-STRUCTURED-LOCATION;VALUE=URI;X-ADDRESS=Gemeindezentrum der Lukaskirchengemeinde Kaiser-Karl-Ring 25a Bonn 53111 Deutschland;X-APPLE-RADIUS=500;X-TITLE=Kaiser-Karl-Ring 25a:geo:7.0915485,50.7446802
END:VEVENT
END:VCALENDAR