BEGIN:VCALENDAR
VERSION:2.0
PRODID:-//Babyflohmaerkte - ECPv6.15.20//NONSGML v1.0//EN
CALSCALE:GREGORIAN
METHOD:PUBLISH
X-ORIGINAL-URL:https://babyflohmaerkte.com
X-WR-CALDESC:Veranstaltungen für Babyflohmaerkte
REFRESH-INTERVAL;VALUE=DURATION:PT1H
X-Robots-Tag:noindex
X-PUBLISHED-TTL:PT1H
BEGIN:VTIMEZONE
TZID:Europe/Berlin
BEGIN:DAYLIGHT
TZOFFSETFROM:+0100
TZOFFSETTO:+0200
TZNAME:CEST
DTSTART:20250330T010000
END:DAYLIGHT
BEGIN:STANDARD
TZOFFSETFROM:+0200
TZOFFSETTO:+0100
TZNAME:CET
DTSTART:20251026T010000
END:STANDARD
BEGIN:DAYLIGHT
TZOFFSETFROM:+0100
TZOFFSETTO:+0200
TZNAME:CEST
DTSTART:20260329T010000
END:DAYLIGHT
BEGIN:STANDARD
TZOFFSETFROM:+0200
TZOFFSETTO:+0100
TZNAME:CET
DTSTART:20261025T010000
END:STANDARD
BEGIN:DAYLIGHT
TZOFFSETFROM:+0100
TZOFFSETTO:+0200
TZNAME:CEST
DTSTART:20270328T010000
END:DAYLIGHT
BEGIN:STANDARD
TZOFFSETFROM:+0200
TZOFFSETTO:+0100
TZNAME:CET
DTSTART:20271031T010000
END:STANDARD
END:VTIMEZONE
BEGIN:VEVENT
DTSTART;TZID=Europe/Berlin:20260314T093000
DTEND;TZID=Europe/Berlin:20260314T120000
DTSTAMP:20260422T125540
CREATED:20260304T192828Z
LAST-MODIFIED:20260304T192830Z
UID:10006387-1773480600-1773489600@babyflohmaerkte.com
SUMMARY:DE 63776 Mömbris
DESCRIPTION:👶 19. sortierter Kinderkleiderbasar in Mömbris\n\n\n\n📍 Wo findet die Veranstaltung statt: Ivo-Zeiger-Haus\, Am Markt 4\, DE 63776 Mömbris \n\n\n\n📅 Wann: Freitag 14.3.2026 von 18:30 bis 21:00 Uhr und Samstag von 09:00 bis 12:30 Uhr🤰 Einlass für Schwangere: Schwangere dürfen Freitag ab 18.30 Uhr ohne Ticket\, aber mit Mutterpass shoppen kommen. Eine Begleitperson ist gestattet. \n\n\n\n🧸 Was wird verkauft: Zum 19. Mal veranstaltet das Basarteam des Niedersteinbacher Kindergartens „Sonnenschein“ einen vorsortierten Baby- und Kinderkleiderbasar. Freitagabend von 18.30 Uhr bis 21.00 Uhr und Samstagmorgen von 9.30 Uhr bis 12.00 Uhr öffnen sich dafür die Türen des Ivo-Zeiger-Hauses in Mömbris.Im Angebot sind Frühjahrs- und Sommerkleidung in den Größen 50 bis 188\, Sportklamotten\, Babyartikel\, Umstandsmode\, Bettwäsche\, Schuhe\, Spielsachen\, Bücher\, Fahrzeuge\, Puppen\, Kindermöbel und vieles mehr.Wegen des großen Ansturms beim Basar braucht man für Freitagabend eine kostenfreie Eintrittskarte (bis 20 Uhr\, danach freier Zutritt). Am Samstag ist kein Ticket nötig.Eintrittskarten und Informationen gibt es unter ticket.basarlino.de/IW10 bzw. www.basarlino.de/IW10.Ein herzliches Willkommen zum bunten Basartreiben!🍰 Leibliches Wohl: Für Speisen und Getränke sorgt der Elternbeirat des Nachbarkindergartens St. Cyriakus.Freitagabend gibt es Softdrinks\, Sekt und Pizza.Samstagvormittag werden Kaffee und Kuchen angeboten. \n\n\n\n👉 Webseite mit weiteren Informationen: https://basarlino.de/IW10👉 Instagram-Seite: https://www.instagram.com/sonnenschein63776?igsh=NTJtNGlqbWNkaDZl 👉 Facebook-Seite: https://www.facebook.com/share/1EGewRrhML/ \n\n\n\n📢 Euren Kinderkleiderflohmarkt & eure Spielzeugbörse könnt ihr hier kostenlos bei uns anmelden: https://babyflohmaerkte.com/neuen-termin-anmelden \n\n\n\nAlle aufgeführten Kinderkleider-Flohmarkttermine sind bei uns angemeldet worden oder wir haben die Termine in verschiedenen Veröffentlichungen entdeckt. Bei allen Terminen gilt: Keine Gewähr auf tatsächliche Durchführung des Termins – kurzfristige Absagen der Veranstalter sind immer möglich und erreichen uns manchmal auch nicht. \n\n\n\n2026_Sektbar_KuchenHerunterladen
URL:https://babyflohmaerkte.com/termin/de-63776-moembris-12/2026-03-14
END:VEVENT
BEGIN:VEVENT
DTSTART;TZID=Europe/Berlin:20260314T110000
DTEND;TZID=Europe/Berlin:20260314T130000
DTSTAMP:20260422T125540
CREATED:20260106T181255Z
LAST-MODIFIED:20260106T181557Z
UID:10006365-1773486000-1773493200@babyflohmaerkte.com
SUMMARY:DE 74177 Bad Friedrichshall
DESCRIPTION:👶 Basar – alles rund ums Kind in Bad Friedrichshall \n\n\n\n📍 Wo findet die Veranstaltung statt: kath. Gemeindehaus Sankt Barbara\, Tulpenweg\, DE 74177 Bad Friedrichshall \n\n\n\n📅 Wann: 14.03.2026⏰ Uhrzeit: 11:00 Uhr bis 13:00 Uhr \n\n\n\n🧸 Was wird verkauft: Die katholische Kirchengemeinde St. Barbara\, Bad Friedrichshall läd herzlich ein zum Basar im kath. Gemeindehaus in 74177 Bad Friedrichshall\, Tulpenweg. Bei einer Tasse Kaffee und leckerem Kuchen lässt es sich am Samstag den 14.03.2026\, von 11:00 Uhr bis 13:00 Uhr entspannt stöbern. 🍰 Leibliches Wohl: Kaffee\, Kuchen\, Wasser\, A-Schorle \n\n\n\n📢 Euren Kinderkleiderflohmarkt & eure Spielzeugbörse könnt ihr hier kostenlos bei uns anmelden: https://babyflohmaerkte.com/neuen-termin-anmelden \n\n\n\nAlle aufgeführten Kinderkleider-Flohmarkttermine sind bei uns angemeldet worden oder wir haben die Termine in verschiedenen Veröffentlichungen entdeckt. Bei allen Terminen gilt: Keine Gewähr auf tatsächliche Durchführung des Termins – kurzfristige Absagen der Veranstalter sind immer möglich und erreichen uns manchmal auch nicht.
URL:https://babyflohmaerkte.com/termin/de-74177-bad-friedrichshall-8
LOCATION:Katholisches Gemeindehaus Sankt Barbara\, Tulpenweg 13\, Bad Friedrichshall\, 74177\, Deutschland
END:VEVENT
BEGIN:VEVENT
DTSTART;TZID=Europe/Berlin:20260314T140000
DTEND;TZID=Europe/Berlin:20260314T160000
DTSTAMP:20260422T125540
CREATED:20260120T130928Z
LAST-MODIFIED:20260120T130931Z
UID:10006370-1773496800-1773504000@babyflohmaerkte.com
SUMMARY:DE 30657 Hannover
DESCRIPTION:👶 Kinder-Basar der SportKITA Bothfeld\n\n\n\n📍 Wo findet die Veranstaltung statt: SportKITA Bothfeld\, Prinz-Albrecht-Ring 2\, DE 30657 Hannover \n\n\n\n📅 Wann: 14.03.2026⏰ Uhrzeit: 14:00 Uhr bis 16:00 Uhr \n\n\n\n🧸 Was wird verkauft: Die SportKITA Bothfeld lädt zum grossen Kinderbasar am Samstag\, den 14.03.2026 von 14:00-16:00 Uhr ein. Verkauft wird alles rund ums Kind. Kleidung\, Spielzeug\, Babybedarf\, Bücher und mehr. Wo? Auf dem Außengelände der SportKITA Bothfeld (asphaltiert) im Prinz-Albrecht-Ring 2\, 30657 Hannover. Mit frischem Kaffee\, Kuchen und Waffelverkauf. Du möchtest verlaufen? Dann schnell anmelden unter basar@sportkita-bothfeld.de (Standgebühr 10€/ Stand).🍰 Leibliches Wohl: Mit frischem Kaffee\, Kuchen und Waffelverkauf. \n\n\n\n👉 Webseite mit weiteren Informationen: https://www.sportkita-bothfeld.de/👉 Instagram-Seite: https://www.instagram.com/sportkitabothfeld/ 👉 Facebook-Seite: https://www.facebook.com/p/Sportkita-Bothfeld-100057602462822/?locale=de_DE \n\n\n\n📢 Euren Kinderkleiderflohmarkt & eure Spielzeugbörse könnt ihr hier kostenlos bei uns anmelden: https://babyflohmaerkte.com/neuen-termin-anmelden \n\n\n\nAlle aufgeführten Kinderkleider-Flohmarkttermine sind bei uns angemeldet worden oder wir haben die Termine in verschiedenen Veröffentlichungen entdeckt. Bei allen Terminen gilt: Keine Gewähr auf tatsächliche Durchführung des Termins – kurzfristige Absagen der Veranstalter sind immer möglich und erreichen uns manchmal auch nicht. \n\n\n\n202603_Kita-Basar-FlyerHerunterladen
URL:https://babyflohmaerkte.com/termin/de-30657-hannover-7
LOCATION:Sportkindergarten Bothfeld\, Prinz-Albrecht-Ring 2\, Hannover\, 30657\, Deutschland
GEO:52.4129;9.79002
X-APPLE-STRUCTURED-LOCATION;VALUE=URI;X-ADDRESS=Sportkindergarten Bothfeld Prinz-Albrecht-Ring 2 Hannover 30657 Deutschland;X-APPLE-RADIUS=500;X-TITLE=Prinz-Albrecht-Ring 2:geo:9.79002,52.4129
END:VEVENT
END:VCALENDAR