BEGIN:VCALENDAR
VERSION:2.0
PRODID:-//Babyflohmaerkte - ECPv6.15.20//NONSGML v1.0//EN
CALSCALE:GREGORIAN
METHOD:PUBLISH
X-ORIGINAL-URL:https://babyflohmaerkte.com
X-WR-CALDESC:Veranstaltungen für Babyflohmaerkte
REFRESH-INTERVAL;VALUE=DURATION:PT1H
X-Robots-Tag:noindex
X-PUBLISHED-TTL:PT1H
BEGIN:VTIMEZONE
TZID:Europe/Berlin
BEGIN:DAYLIGHT
TZOFFSETFROM:+0100
TZOFFSETTO:+0200
TZNAME:CEST
DTSTART:20240331T010000
END:DAYLIGHT
BEGIN:STANDARD
TZOFFSETFROM:+0200
TZOFFSETTO:+0100
TZNAME:CET
DTSTART:20241027T010000
END:STANDARD
BEGIN:DAYLIGHT
TZOFFSETFROM:+0100
TZOFFSETTO:+0200
TZNAME:CEST
DTSTART:20250330T010000
END:DAYLIGHT
BEGIN:STANDARD
TZOFFSETFROM:+0200
TZOFFSETTO:+0100
TZNAME:CET
DTSTART:20251026T010000
END:STANDARD
BEGIN:DAYLIGHT
TZOFFSETFROM:+0100
TZOFFSETTO:+0200
TZNAME:CEST
DTSTART:20260329T010000
END:DAYLIGHT
BEGIN:STANDARD
TZOFFSETFROM:+0200
TZOFFSETTO:+0100
TZNAME:CET
DTSTART:20261025T010000
END:STANDARD
END:VTIMEZONE
BEGIN:VEVENT
DTSTART;TZID=Europe/Berlin:20251102T000000
DTEND;TZID=Europe/Berlin:20251102T235959
DTSTAMP:20260425T153935
CREATED:20241201T154537Z
LAST-MODIFIED:20241201T154539Z
UID:10005973-1762041600-1762127999@babyflohmaerkte.com
SUMMARY:DE 49767 Twist
DESCRIPTION:Save the Date – Spielzeugbörse in Twist Bült
URL:https://babyflohmaerkte.com/termin/de-49767-twist-5
LOCATION:Haus St. Georg\, Am Marktplatz 6a\, Twist\, 49767\, Deutschland
GEO:52.63602;7.05991
X-APPLE-STRUCTURED-LOCATION;VALUE=URI;X-ADDRESS=Haus St. Georg Am Marktplatz 6a Twist 49767 Deutschland;X-APPLE-RADIUS=500;X-TITLE=Am Marktplatz 6a:geo:7.05991,52.63602
END:VEVENT
BEGIN:VEVENT
DTSTART;TZID=Europe/Berlin:20251102T110000
DTEND;TZID=Europe/Berlin:20251102T140000
DTSTAMP:20260425T153935
CREATED:20250828T121113Z
LAST-MODIFIED:20250828T121204Z
UID:10006343-1762081200-1762092000@babyflohmaerkte.com
SUMMARY:DE 38330 Wolfenbüttel
DESCRIPTION:👶 Kiddy Markt – Second-Hand-Markt rund ums Kind in Wolfenbüttel\n\n\n\n📍 Wo findet die Veranstaltung statt: Lindenhalle Wolfenbüttel\, Halberstädter Str 1a\, DE 38330 Wolfenbüttel \n\n\n\n📅 Wann: Sonntag\, den 02.11.2025⏰ Uhrzeit: 11:00 Uhr bis 14:00 Uhr \n\n\n\n🧸 Was wird verkauft: Bei diesem großen Flohmarkt rund ums Kind und Baby werden Spielzeug\, Kleidung\, Kinderbücher\, Babyartikel und vieles mehr an über 115 Verkaufstischen angeboten! \n\n\n\nℹ️ Weitere Informationen zur Veranstaltung: Kiddy Markt – Second-Hand-Markt rund ums Kind! Bei diesem großen Flohmarkt rund ums Kind und Baby werden Spielzeug\, Kleidung\, Kinderbücher\, Babyartikel und vieles mehr an über 115 Verkaufstischen angeboten! Für Verkäufer ist eine Anmeldung erforderlich. Wenn Sie einen Verkaufstisch buchen möchten\, finden Sie weitere Informationen im Internet unter https://www.nhvs-events.de/💶 Eintritt: Eintritt: 3\,00 Euro pro Person (Kinder bis 17 Jahre frei) \n\n\n\n👉 Webseite mit weiteren Informationen: https://www.nhvs-events.de/👉 Instagram-Seite: https://www.instagram.com/nhvs.events/👉 Facebook-Seite: https://www.facebook.com/nhvsevents/ \n\n\n\n📢 Euren Kinderkleiderflohmarkt & eure Spielzeugbörse könnt ihr hier kostenlos bei uns anmelden: https://babyflohmaerkte.com/neuen-termin-anmelden \n\n\n\nAlle aufgeführten Kinderkleider-Flohmarkttermine sind bei uns angemeldet worden oder wir haben die Termine in verschiedenen Veröffentlichungen entdeckt. Bei allen Terminen gilt: Keine Gewähr auf tatsächliche Durchführung des Termins – kurzfristige Absagen der Veranstalter sind immer möglich und erreichen uns manchmal auch nicht.
URL:https://babyflohmaerkte.com/termin/de-38330-wolfenbuettel
LOCATION:Lindenhalle Wolfenbüttel\, Halberstädter Straße 1A\, Wolfenbüttel\, 38300\, Deutschland
END:VEVENT
BEGIN:VEVENT
DTSTART;TZID=Europe/Berlin:20251102T110000
DTEND;TZID=Europe/Berlin:20251102T150000
DTSTAMP:20260425T153935
CREATED:20241003T151824Z
LAST-MODIFIED:20241003T151913Z
UID:10005776-1762081200-1762095600@babyflohmaerkte.com
SUMMARY:DE 28307 Bremen
DESCRIPTION:Piratini-Markt Rund ums Kindim Weserpark Bremen
URL:https://babyflohmaerkte.com/termin/6880
LOCATION:Weserpark Bremen\, Hans-Bredow-Straße 19\, Bremen\, 28307\, Deutschland
GEO:53.0487283;8.9553549
X-APPLE-STRUCTURED-LOCATION;VALUE=URI;X-ADDRESS=Weserpark Bremen Hans-Bredow-Straße 19 Bremen 28307 Deutschland;X-APPLE-RADIUS=500;X-TITLE=Hans-Bredow-Straße 19:geo:8.9553549,53.0487283
END:VEVENT
BEGIN:VEVENT
DTSTART;TZID=Europe/Berlin:20251102T133000
DTEND;TZID=Europe/Berlin:20251102T153000
DTSTAMP:20260425T153935
CREATED:20251019T105339Z
LAST-MODIFIED:20251019T105341Z
UID:10006361-1762090200-1762097400@babyflohmaerkte.com
SUMMARY:DE 49685 Bühren
DESCRIPTION:👶 Kindersachenflohmarkt in der Sporthalle Bühren\n\n\n\n📍 Wo findet die Veranstaltung statt: Sporthalle Bühren\, Caspar-Schmitz-Str.\, DE 49685 Bühren \n\n\n\n📅 Wann: Sonntag\, den 02.11.2025⏰ Uhrzeit: 13:30 Uhr bis 15:30 Uhr \n\n\n\n📢 Euren Kinderkleiderflohmarkt & eure Spielzeugbörse könnt ihr hier kostenlos bei uns anmelden: https://babyflohmaerkte.com/neuen-termin-anmelden \n\n\n\nAlle aufgeführten Kinderkleider-Flohmarkttermine sind bei uns angemeldet worden oder wir haben die Termine in verschiedenen Veröffentlichungen entdeckt. Bei allen Terminen gilt: Keine Gewähr auf tatsächliche Durchführung des Termins – kurzfristige Absagen der Veranstalter sind immer möglich und erreichen uns manchmal auch nicht.
URL:https://babyflohmaerkte.com/termin/de-49685-buehren-3
LOCATION:Sporthalle Bühren\, Caspar-Schmitz-Straße 19\, Bühren\, 49685\, Germany
END:VEVENT
END:VCALENDAR