BEGIN:VCALENDAR
VERSION:2.0
PRODID:-//Babyflohmaerkte - ECPv6.15.20//NONSGML v1.0//EN
CALSCALE:GREGORIAN
METHOD:PUBLISH
X-ORIGINAL-URL:https://babyflohmaerkte.com
X-WR-CALDESC:Veranstaltungen für Babyflohmaerkte
REFRESH-INTERVAL;VALUE=DURATION:PT1H
X-Robots-Tag:noindex
X-PUBLISHED-TTL:PT1H
BEGIN:VTIMEZONE
TZID:Europe/Berlin
BEGIN:DAYLIGHT
TZOFFSETFROM:+0100
TZOFFSETTO:+0200
TZNAME:CEST
DTSTART:20230326T010000
END:DAYLIGHT
BEGIN:STANDARD
TZOFFSETFROM:+0200
TZOFFSETTO:+0100
TZNAME:CET
DTSTART:20231029T010000
END:STANDARD
BEGIN:DAYLIGHT
TZOFFSETFROM:+0100
TZOFFSETTO:+0200
TZNAME:CEST
DTSTART:20240331T010000
END:DAYLIGHT
BEGIN:STANDARD
TZOFFSETFROM:+0200
TZOFFSETTO:+0100
TZNAME:CET
DTSTART:20241027T010000
END:STANDARD
BEGIN:DAYLIGHT
TZOFFSETFROM:+0100
TZOFFSETTO:+0200
TZNAME:CEST
DTSTART:20250330T010000
END:DAYLIGHT
BEGIN:STANDARD
TZOFFSETFROM:+0200
TZOFFSETTO:+0100
TZNAME:CET
DTSTART:20251026T010000
END:STANDARD
END:VTIMEZONE
BEGIN:VEVENT
DTSTART;TZID=Europe/Berlin:20240301T170000
DTEND;TZID=Europe/Berlin:20240301T200000
DTSTAMP:20260422T185059
CREATED:20240120T125709Z
LAST-MODIFIED:20240121T125356Z
UID:10005668-1709312400-1709323200@babyflohmaerkte.com
SUMMARY:DE 71577 Großerlach
DESCRIPTION:EUF-Sortierter Kinderbasar Frühling/Sommer 2024Am 01.03.24 von 17-20.00Uhr und 02.03.24 von 9-13Uhr findet der sortierte Kindersachen Basar nach dem Motto ‚Einfach-unter-Freunden‘ ein weiteres Mal in der Schwalbenflughalle in der Wiesenstrasse 5 in 71577 Großerlach-Grab statt.Anmeldungen als Verkäufer und Ticketkauf für den exklusiven VIP-Zugang unter:www.einfach-unter-freunden.deEs werden Kinderkleidung für den Frühling/Sommer/Herbst in Gr. 56 – 176 angeboten\, alles rund um das Thema Schwangerschaft\, eine riesen Auswahl an Spielwaren\, Büchern und Ausstattung rund ums Kind angeboten. \n\n\n\nMit ein bisschen Glück können Sie jedoch auch Kinderwagen oder Tragen finden. Prinzipiell darf alles verkauft werden\, was zu einer normalen Kinderausstattung zählt. Daher ist ein Babybasar nicht nur für Eltern\, deren Kinder bereits auf der Welt sind\, einen Besuch wert\, sondern auch für werdende Eltern. Diese suchen oft nach einer preiswerten Erstausstattung. Sollten Sie gerade nach neuem Spielzeug für Ihre Kinder suchen oder benötigen Sie gerade ein größeres Laufrad oder Fahrrad? Auch dann kann der Kinderbasar ein guter Anlaufpunkt für Sie sein. \n\n\n\nSind Sie ein wenig skeptisch\, was den Zustand der angebotenen Kleidung betrifft\, so können Sie direkt wieder beruhigt aufatmen. Denn zu den Grundregeln eines Kinderflohmarkts zählt\, dass alle Kleidungsstücke gewaschen sein müssen\, sodass schon einmal hygienische Bedenken wegfallen. Ebenso darf die Kleidung nicht durch Löcher\, Flecken oder fehlendes Zubehör (z.bsp. Knöpfe) beschädigt sein. \n\n\n\nFür das leibliche Wohl ist gesorgt 🙂Ich hoffe auf 2 schöne Tage und freue mich über jeden Besucher\, Teilnehmer und Helfer 🌻😊 \n\n\n\nEC-Kartenzahlung ist möglich. \n\n\n\nBei Fragen kann man gerne jederzeit auf mich zukommen.Grüße 🌻Eure MichaelaAuf Facebook EinfachUnterFreundenOderAuf der Homepage www.einfach-unter-freunden.de
URL:https://babyflohmaerkte.com/termin/de-71577-grosserlach
LOCATION:Schwalbenflughalle Großerlach-Grab\, Wiesenstraße 5\, Großerlach-Grab\, 71577\, Deutschland
END:VEVENT
BEGIN:VEVENT
DTSTART;TZID=Europe/Berlin:20240301T183000
DTEND;TZID=Europe/Berlin:20240301T210000
DTSTAMP:20260422T185059
CREATED:20240131T112929Z
LAST-MODIFIED:20240131T112931Z
UID:10005679-1709317800-1709326800@babyflohmaerkte.com
SUMMARY:DE 63776 Mömbris
DESCRIPTION:Zum 15. Mal veranstaltet das Basarteam des Kindergartens „Sonnenschein“ aus Mömbris-Niedersteinbach einen sortierten Kinderkleiderbasar.Angeboten werden Frühjahrs- und Sommerkleidung in den Größen 50-182\, Badesachen\, Schuhe\, Spielwaren\, Bücher\, Fahrzeuge\, Möbel\, Babyausstattung u. v. m.Für werdende Mamas haben wir außerdem Umstandsmode im Programm.Die Bewerbung für Verkäufernummern läuft vom 17. Januar bis 3. Februar 2024 unter www.basarlino.de/5029. \n\n\n\nAm Freitagabend wir bis 20 Uhr eine Eintrittskarte (kostenlos) benötigt: https://ticket.basarlino.de/5029 \n\n\n\nAlle weiteren Infos für Käufer:innen und Verkäufer:innen sind auf der Internetseite des Kindergartens „Sonnenschein“ zu finden:http://www.kindergarten-niedersteinbach.de \n\n\n\nDas Basarteam freut sich schon jetzt auf das bunte Basartreiben und heißt alle Interessierten herzlich willkommen!
URL:https://babyflohmaerkte.com/termin/de-63776-moembris-7
LOCATION:Ivo-Zeiger-Haus\, Am Markt 6\, Mömbris\, 63776\, Deutschland
GEO:50.06862;9.16665
X-APPLE-STRUCTURED-LOCATION;VALUE=URI;X-ADDRESS=Ivo-Zeiger-Haus Am Markt 6 Mömbris 63776 Deutschland;X-APPLE-RADIUS=500;X-TITLE=Am Markt 6:geo:9.16665,50.06862
END:VEVENT
END:VCALENDAR